BEGIN:VCALENDAR
VERSION:2.0
PRODID:-//Valley Baptist Church - ECPv6.15.20//NONSGML v1.0//EN
CALSCALE:GREGORIAN
METHOD:PUBLISH
X-WR-CALNAME:Valley Baptist Church
X-ORIGINAL-URL:https://valleybaptistchurchnorthidaho.com
X-WR-CALDESC:Events for Valley Baptist Church
REFRESH-INTERVAL;VALUE=DURATION:PT1H
X-Robots-Tag:noindex
X-PUBLISHED-TTL:PT1H
BEGIN:VTIMEZONE
TZID:America/Los_Angeles
BEGIN:DAYLIGHT
TZOFFSETFROM:-0800
TZOFFSETTO:-0700
TZNAME:PDT
DTSTART:20240310T100000
END:DAYLIGHT
BEGIN:STANDARD
TZOFFSETFROM:-0700
TZOFFSETTO:-0800
TZNAME:PST
DTSTART:20241103T090000
END:STANDARD
BEGIN:DAYLIGHT
TZOFFSETFROM:-0800
TZOFFSETTO:-0700
TZNAME:PDT
DTSTART:20250309T100000
END:DAYLIGHT
BEGIN:STANDARD
TZOFFSETFROM:-0700
TZOFFSETTO:-0800
TZNAME:PST
DTSTART:20251102T090000
END:STANDARD
BEGIN:DAYLIGHT
TZOFFSETFROM:-0800
TZOFFSETTO:-0700
TZNAME:PDT
DTSTART:20260308T100000
END:DAYLIGHT
BEGIN:STANDARD
TZOFFSETFROM:-0700
TZOFFSETTO:-0800
TZNAME:PST
DTSTART:20261101T090000
END:STANDARD
END:VTIMEZONE
BEGIN:VTIMEZONE
TZID:UTC
BEGIN:STANDARD
TZOFFSETFROM:+0000
TZOFFSETTO:+0000
TZNAME:UTC
DTSTART:20240101T000000
END:STANDARD
END:VTIMEZONE
BEGIN:VEVENT
DTSTART;TZID=America/Los_Angeles:20250726T070000
DTEND;TZID=America/Los_Angeles:20250726T090000
DTSTAMP:20260424T094501
CREATED:20250209T201432Z
LAST-MODIFIED:20250209T201432Z
UID:1273-1753513200-1753520400@valleybaptistchurchnorthidaho.com
SUMMARY:The Forge
DESCRIPTION:Join us at the church for The Forge (formerly our Men’s Summit Breakfast). Discuss Challenges we face today as Christian fathers\, husbands and leaders. We will study Gods word as “iron sharpens iron”. See you there!
URL:https://valleybaptistchurchnorthidaho.com/event/the-forge-6/
LOCATION:Valley Baptist Church
ATTACH;FMTTYPE=image/png:https://valleybaptistchurchnorthidaho.com/wp-content/uploads/2025/02/The-Forge-No-Date.png
END:VEVENT
BEGIN:VEVENT
DTSTART;TZID=America/Los_Angeles:20250722T180000
DTEND;TZID=America/Los_Angeles:20250722T210000
DTSTAMP:20260424T094501
CREATED:20250605T140637Z
LAST-MODIFIED:20250605T140637Z
UID:1563-1753207200-1753218000@valleybaptistchurchnorthidaho.com
SUMMARY:Refine
DESCRIPTION:Refine is our weekly young adult Bible study for those ages 18 – 29.
URL:https://valleybaptistchurchnorthidaho.com/event/refine-62/
LOCATION:Valley Baptist Church
ATTACH;FMTTYPE=image/png:https://valleybaptistchurchnorthidaho.com/wp-content/uploads/2025/01/Refine-No-Book.png
END:VEVENT
BEGIN:VEVENT
DTSTART;TZID=America/Los_Angeles:20250719T140000
DTEND;TZID=America/Los_Angeles:20250719T160000
DTSTAMP:20260424T094501
CREATED:20250605T175401Z
LAST-MODIFIED:20250605T175401Z
UID:1727-1752933600-1752940800@valleybaptistchurchnorthidaho.com
SUMMARY:Ladies Tea
DESCRIPTION:Its tea time! We invite you to join us for our regular Ladies Tea. A wonderful time of fellowship for ladies young and old. We hope you will join us for what is sure to be a sweet\, sweet time.
URL:https://valleybaptistchurchnorthidaho.com/event/ladies-tea-3/
LOCATION:Valley Baptist Church
ATTACH;FMTTYPE=image/png:https://valleybaptistchurchnorthidaho.com/wp-content/uploads/2025/02/Ladies-Tea-No-Date.png
END:VEVENT
BEGIN:VEVENT
DTSTART;TZID=America/Los_Angeles:20250714T000000
DTEND;TZID=America/Los_Angeles:20250718T235959
DTSTAMP:20260424T094501
CREATED:20250209T200938Z
LAST-MODIFIED:20250209T200938Z
UID:1298-1752451200-1752883199@valleybaptistchurchnorthidaho.com
SUMMARY:VBS- Wonder Junction
DESCRIPTION:Junction where kids will marvel at Jesus and learn that we live for his glory. \n \nAs you may’ve guessed\, Wonder Junction is an Old West themed VBS adventure that will teach kids about who Jesus is as they marvel at his birth\, his childhood\, his ministry\, his death and resurrection\, and his coming return. It’s all about Jesus and the call for kids to live for his glory. \n \nKids will find answers to the questions: \n \n\n 	What amazing events surrounded the King’s birth?\n \n 	Was there ever a person born who was more important than Jesus?\n \n 	What was Jesus like as a child?\n \n 	Is Jesus God or man—or both?\n \n 	What astonishing things occurred during Jesus’ ministry and how much power does he have?\n \n 	How was Jesus’ death and resurrection like no other?\n \n 	Could Jesus experience pain and sadness?\n \n 	What should we be doing while we wait for the King to return?\n \n 	Is Jesus going to be a man forever?\n\n \nIt’s a wild ride designed to help kids better know Jesus\, what he did for them\, and how we should respond.
URL:https://valleybaptistchurchnorthidaho.com/event/vbs-wonder-junction/
LOCATION:Valley Baptist Church
ATTACH;FMTTYPE=image/png:https://valleybaptistchurchnorthidaho.com/wp-content/uploads/2024/04/VBS-2025.png
END:VEVENT
BEGIN:VEVENT
DTSTART;TZID=America/Los_Angeles:20250708T180000
DTEND;TZID=America/Los_Angeles:20250708T210000
DTSTAMP:20260424T094501
CREATED:20250605T140629Z
LAST-MODIFIED:20250605T140629Z
UID:1562-1751997600-1752008400@valleybaptistchurchnorthidaho.com
SUMMARY:Refine
DESCRIPTION:Refine is our weekly young adult Bible study for those ages 18 – 29.
URL:https://valleybaptistchurchnorthidaho.com/event/refine-61/
LOCATION:Valley Baptist Church
ATTACH;FMTTYPE=image/png:https://valleybaptistchurchnorthidaho.com/wp-content/uploads/2025/01/Refine-No-Book.png
END:VEVENT
BEGIN:VEVENT
DTSTART;TZID=America/Los_Angeles:20250706T110000
DTEND;TZID=America/Los_Angeles:20250706T143000
DTSTAMP:20260424T094501
CREATED:20250206T062832Z
LAST-MODIFIED:20250209T202201Z
UID:1268-1751799600-1751812200@valleybaptistchurchnorthidaho.com
SUMMARY:Sunday Morning Potluck
DESCRIPTION:Join us for our monthly after service potluck! Please bring a main dish\, side dish\, or dessert to share. We can’t wait to fellowship with you!
URL:https://valleybaptistchurchnorthidaho.com/event/sunday-morning-potluck-9/
LOCATION:Valley Baptist Church
ATTACH;FMTTYPE=image/png:https://valleybaptistchurchnorthidaho.com/wp-content/uploads/2024/07/Potluck-Today.png
END:VEVENT
BEGIN:VEVENT
DTSTART;TZID=America/Los_Angeles:20250706T101500
DTEND;TZID=America/Los_Angeles:20250706T104500
DTSTAMP:20260424T094501
CREATED:20250211T171229Z
LAST-MODIFIED:20250211T171229Z
UID:1359-1751796900-1751798700@valleybaptistchurchnorthidaho.com
SUMMARY:Sunday Morning Prayer
DESCRIPTION:We invite you to join us in a time of dedicated prayer each Sunday morning at 10:15 before the start of service. This is a wonderful time to come and both lay our worries at the foot of the throne and praise the Lord for the blessings we have been given. Hope to see you there!
URL:https://valleybaptistchurchnorthidaho.com/event/sunday-morning-prayer-12/
LOCATION:Valley Baptist Church
ATTACH;FMTTYPE=image/png:https://valleybaptistchurchnorthidaho.com/wp-content/uploads/2025/02/Sunday-Morning-Prayer.png
END:VEVENT
BEGIN:VEVENT
DTSTART;TZID=America/Los_Angeles:20250704T120000
DTEND;TZID=America/Los_Angeles:20250704T160000
DTSTAMP:20260424T094501
CREATED:20250612T213341Z
LAST-MODIFIED:20250612T213341Z
UID:1775-1751630400-1751644800@valleybaptistchurchnorthidaho.com
SUMMARY:Independence Day Celebration
DESCRIPTION:Come enjoy fun treats like snow cones and cotton candy! We’ve got a water slide and bounce house\, Please join us for our annual flag ceremony and a good ol’ fashioned independence day BBQ! The event kicks off at noon\, see you there!
URL:https://valleybaptistchurchnorthidaho.com/event/independence-day-celebration/
LOCATION:Valley Baptist Church
ATTACH;FMTTYPE=image/png:https://valleybaptistchurchnorthidaho.com/wp-content/uploads/2025/06/Independence-Day.png
END:VEVENT
BEGIN:VEVENT
DTSTART;TZID=America/Los_Angeles:20250701T180000
DTEND;TZID=America/Los_Angeles:20250701T210000
DTSTAMP:20260424T094501
CREATED:20250605T140620Z
LAST-MODIFIED:20250605T140620Z
UID:1561-1751392800-1751403600@valleybaptistchurchnorthidaho.com
SUMMARY:Refine
DESCRIPTION:Refine is our weekly young adult Bible study for those ages 18 – 29.
URL:https://valleybaptistchurchnorthidaho.com/event/refine-60/
LOCATION:Valley Baptist Church
ATTACH;FMTTYPE=image/png:https://valleybaptistchurchnorthidaho.com/wp-content/uploads/2025/01/Refine-No-Book.png
END:VEVENT
BEGIN:VEVENT
DTSTART;TZID=America/Los_Angeles:20250630T173000
DTEND;TZID=America/Los_Angeles:20250630T200000
DTSTAMP:20260424T094501
CREATED:20250123T054055Z
LAST-MODIFIED:20250211T162148Z
UID:1187-1751304600-1751313600@valleybaptistchurchnorthidaho.com
SUMMARY:Father and Son
DESCRIPTION:The purpose of Father Son Ministry is: \nTo glorify God by raising our sons to know Jesus and be obedient to him.  \nTo encourage fathers in their walk with the Lord. \nTo teach our boys to be men that can take care of their families and are well-rounded. \nTo train fathers to be examples for their sons. \nTo create a community of godly men to go through life together.
URL:https://valleybaptistchurchnorthidaho.com/event/father-and-son-31/
LOCATION:Valley Baptist Church
ATTACH;FMTTYPE=image/png:https://valleybaptistchurchnorthidaho.com/wp-content/uploads/2024/10/Father-and-Son-Photo.png
END:VEVENT
BEGIN:VEVENT
DTSTART;TZID=America/Los_Angeles:20250629T101500
DTEND;TZID=America/Los_Angeles:20250629T104500
DTSTAMP:20260424T094501
CREATED:20250211T171237Z
LAST-MODIFIED:20250211T171237Z
UID:1358-1751192100-1751193900@valleybaptistchurchnorthidaho.com
SUMMARY:Sunday Morning Prayer
DESCRIPTION:We invite you to join us in a time of dedicated prayer each Sunday morning at 10:15 before the start of service. This is a wonderful time to come and both lay our worries at the foot of the throne and praise the Lord for the blessings we have been given. Hope to see you there!
URL:https://valleybaptistchurchnorthidaho.com/event/sunday-morning-prayer-13/
LOCATION:Valley Baptist Church
ATTACH;FMTTYPE=image/png:https://valleybaptistchurchnorthidaho.com/wp-content/uploads/2025/02/Sunday-Morning-Prayer.png
END:VEVENT
BEGIN:VEVENT
DTSTART;TZID=America/Los_Angeles:20250628T070000
DTEND;TZID=America/Los_Angeles:20250628T090000
DTSTAMP:20260424T094501
CREATED:20250206T064030Z
LAST-MODIFIED:20250209T201255Z
UID:1281-1751094000-1751101200@valleybaptistchurchnorthidaho.com
SUMMARY:The Forge
DESCRIPTION:Join us at the church for The Forge (formerly our Men’s Summit Breakfast). Discuss Challenges we face today as Christian fathers\, husbands and leaders. We will study Gods word as “iron sharpens iron”. See you there!
URL:https://valleybaptistchurchnorthidaho.com/event/the-forge-4/
LOCATION:Valley Baptist Church
ATTACH;FMTTYPE=image/png:https://valleybaptistchurchnorthidaho.com/wp-content/uploads/2025/02/The-Forge-No-Date.png
END:VEVENT
BEGIN:VEVENT
DTSTART;TZID=America/Los_Angeles:20250624T180000
DTEND;TZID=America/Los_Angeles:20250624T200000
DTSTAMP:20260424T094501
CREATED:20250123T035558Z
LAST-MODIFIED:20250209T195614Z
UID:1145-1750788000-1750795200@valleybaptistchurchnorthidaho.com
SUMMARY:Refine
DESCRIPTION:Refine is our weekly young adult Bible study for those ages 18 – 29.
URL:https://valleybaptistchurchnorthidaho.com/event/refine-55/
LOCATION:Valley Baptist Church
ATTACH;FMTTYPE=image/png:https://valleybaptistchurchnorthidaho.com/wp-content/uploads/2025/01/Refine-No-Book.png
END:VEVENT
BEGIN:VEVENT
DTSTART;TZID=America/Los_Angeles:20250623T173000
DTEND;TZID=America/Los_Angeles:20250623T200000
DTSTAMP:20260424T094502
CREATED:20250123T054105Z
LAST-MODIFIED:20250211T162154Z
UID:1186-1750699800-1750708800@valleybaptistchurchnorthidaho.com
SUMMARY:Father and Son
DESCRIPTION:The purpose of Father Son Ministry is: \nTo glorify God by raising our sons to know Jesus and be obedient to him.  \nTo encourage fathers in their walk with the Lord. \nTo teach our boys to be men that can take care of their families and are well-rounded. \nTo train fathers to be examples for their sons. \nTo create a community of godly men to go through life together.
URL:https://valleybaptistchurchnorthidaho.com/event/father-and-son-32/
LOCATION:Valley Baptist Church
ATTACH;FMTTYPE=image/png:https://valleybaptistchurchnorthidaho.com/wp-content/uploads/2024/10/Father-and-Son-Photo.png
END:VEVENT
BEGIN:VEVENT
DTSTART;TZID=America/Los_Angeles:20250622T101500
DTEND;TZID=America/Los_Angeles:20250622T104500
DTSTAMP:20260424T094502
CREATED:20250211T171255Z
LAST-MODIFIED:20250211T171255Z
UID:1357-1750587300-1750589100@valleybaptistchurchnorthidaho.com
SUMMARY:Sunday Morning Prayer
DESCRIPTION:We invite you to join us in a time of dedicated prayer each Sunday morning at 10:15 before the start of service. This is a wonderful time to come and both lay our worries at the foot of the throne and praise the Lord for the blessings we have been given. Hope to see you there!
URL:https://valleybaptistchurchnorthidaho.com/event/sunday-morning-prayer-14/
ATTACH;FMTTYPE=image/png:https://valleybaptistchurchnorthidaho.com/wp-content/uploads/2025/02/Sunday-Morning-Prayer.png
END:VEVENT
BEGIN:VEVENT
DTSTART;TZID=America/Los_Angeles:20250619T173000
DTEND;TZID=America/Los_Angeles:20250619T200000
DTSTAMP:20260424T094502
CREATED:20250123T062021Z
LAST-MODIFIED:20250605T150025Z
UID:1232-1750354200-1750363200@valleybaptistchurchnorthidaho.com
SUMMARY:Thrive
DESCRIPTION:Thrive welcomes youth ages 10-18 who are in the pursuit of fun\, friendship\, and foremost\, a relationship with Christ.
URL:https://valleybaptistchurchnorthidaho.com/event/thrive-33/
LOCATION:Valley Baptist Church
ATTACH;FMTTYPE=image/png:https://valleybaptistchurchnorthidaho.com/wp-content/uploads/2023/12/Thrive-This-Week.png
END:VEVENT
BEGIN:VEVENT
DTSTART;TZID=America/Los_Angeles:20250618T000000
DTEND;TZID=America/Los_Angeles:20250620T235959
DTSTAMP:20260424T094502
CREATED:20250211T181532Z
LAST-MODIFIED:20250211T181532Z
UID:1392-1750204800-1750463999@valleybaptistchurchnorthidaho.com
SUMMARY:Annual Father and Son Hike
DESCRIPTION:This is your official invite to get in touch with Gods wonderful creation during our annual Father an Son Hike. Bring your gear and sense of adventure and prepare for a fantastic time of some forest and fellowship.
URL:https://valleybaptistchurchnorthidaho.com/event/annual-father-and-son-hike-2/
ATTACH;FMTTYPE=image/png:https://valleybaptistchurchnorthidaho.com/wp-content/uploads/2024/04/Father-and-Son-Camp.png
END:VEVENT
BEGIN:VEVENT
DTSTART;TZID=America/Los_Angeles:20250617T180000
DTEND;TZID=America/Los_Angeles:20250617T200000
DTSTAMP:20260424T094502
CREATED:20250123T035611Z
LAST-MODIFIED:20250209T195621Z
UID:1144-1750183200-1750190400@valleybaptistchurchnorthidaho.com
SUMMARY:Refine
DESCRIPTION:Refine is our weekly young adult Bible study for those ages 18 – 29.
URL:https://valleybaptistchurchnorthidaho.com/event/refine-56/
LOCATION:Valley Baptist Church
ATTACH;FMTTYPE=image/png:https://valleybaptistchurchnorthidaho.com/wp-content/uploads/2025/01/Refine-No-Book.png
END:VEVENT
BEGIN:VEVENT
DTSTART;TZID=America/Los_Angeles:20250616T173000
DTEND;TZID=America/Los_Angeles:20250616T200000
DTSTAMP:20260424T094502
CREATED:20250123T053808Z
LAST-MODIFIED:20250211T162138Z
UID:1179-1750095000-1750104000@valleybaptistchurchnorthidaho.com
SUMMARY:Father and Son
DESCRIPTION:The purpose of Father Son Ministry is: \nTo glorify God by raising our sons to know Jesus and be obedient to him.  \nTo encourage fathers in their walk with the Lord. \nTo teach our boys to be men that can take care of their families and are well-rounded. \nTo train fathers to be examples for their sons. \nTo create a community of godly men to go through life together.
URL:https://valleybaptistchurchnorthidaho.com/event/father-and-son-30/
LOCATION:Valley Baptist Church
ATTACH;FMTTYPE=image/png:https://valleybaptistchurchnorthidaho.com/wp-content/uploads/2024/10/Father-and-Son-Photo.png
END:VEVENT
BEGIN:VEVENT
DTSTART;TZID=America/Los_Angeles:20250615T101500
DTEND;TZID=America/Los_Angeles:20250615T104500
DTSTAMP:20260424T094502
CREATED:20250211T171316Z
LAST-MODIFIED:20250211T171316Z
UID:1356-1749982500-1749984300@valleybaptistchurchnorthidaho.com
SUMMARY:Sunday Morning Prayer
DESCRIPTION:We invite you to join us in a time of dedicated prayer each Sunday morning at 10:15 before the start of service. This is a wonderful time to come and both lay our worries at the foot of the throne and praise the Lord for the blessings we have been given. Hope to see you there!
URL:https://valleybaptistchurchnorthidaho.com/event/sunday-morning-prayer-15/
ATTACH;FMTTYPE=image/png:https://valleybaptistchurchnorthidaho.com/wp-content/uploads/2025/02/Sunday-Morning-Prayer.png
END:VEVENT
BEGIN:VEVENT
DTSTART;TZID=America/Los_Angeles:20250615T000000
DTEND;TZID=America/Los_Angeles:20250615T235959
DTSTAMP:20260424T094502
CREATED:20250211T181319Z
LAST-MODIFIED:20250211T181319Z
UID:1388-1749945600-1750031999@valleybaptistchurchnorthidaho.com
SUMMARY:Father's Day
DESCRIPTION:Celebrate Dad’s! It’s Father’s Day!
URL:https://valleybaptistchurchnorthidaho.com/event/fathers-day/
ATTACH;FMTTYPE=image/png:https://valleybaptistchurchnorthidaho.com/wp-content/uploads/2025/02/Moving-Fathers-Day-Still-Slide.png
END:VEVENT
BEGIN:VEVENT
DTSTART;TZID=America/Los_Angeles:20250610T180000
DTEND;TZID=America/Los_Angeles:20250610T200000
DTSTAMP:20260424T094502
CREATED:20250123T035622Z
LAST-MODIFIED:20250209T195635Z
UID:1141-1749578400-1749585600@valleybaptistchurchnorthidaho.com
SUMMARY:Refine
DESCRIPTION:Refine is our weekly young adult Bible study for those ages 18 – 29.
URL:https://valleybaptistchurchnorthidaho.com/event/refine-57/
LOCATION:Valley Baptist Church
ATTACH;FMTTYPE=image/png:https://valleybaptistchurchnorthidaho.com/wp-content/uploads/2025/01/Refine-No-Book.png
END:VEVENT
BEGIN:VEVENT
DTSTART;TZID=America/Los_Angeles:20250609T173000
DTEND;TZID=America/Los_Angeles:20250609T200000
DTSTAMP:20260424T094502
CREATED:20250123T053730Z
LAST-MODIFIED:20250211T162130Z
UID:1178-1749490200-1749499200@valleybaptistchurchnorthidaho.com
SUMMARY:Father and Son
DESCRIPTION:The purpose of Father Son Ministry is: \nTo glorify God by raising our sons to know Jesus and be obedient to him.  \nTo encourage fathers in their walk with the Lord. \nTo teach our boys to be men that can take care of their families and are well-rounded. \nTo train fathers to be examples for their sons. \nTo create a community of godly men to go through life together.
URL:https://valleybaptistchurchnorthidaho.com/event/father-and-son-29/
LOCATION:Valley Baptist Church
ATTACH;FMTTYPE=image/png:https://valleybaptistchurchnorthidaho.com/wp-content/uploads/2024/10/Father-and-Son-Photo.png
END:VEVENT
BEGIN:VEVENT
DTSTART;TZID=UTC:20250605T173000
DTEND;TZID=UTC:20250605T200000
DTSTAMP:20260424T094502
CREATED:20250123T062046Z
LAST-MODIFIED:20250123T062046Z
UID:1231-1749144600-1749153600@valleybaptistchurchnorthidaho.com
SUMMARY:Thrive
DESCRIPTION:Thrive welcomes youth ages 10-18 who are in the pursuit of fun\, friendship\, and foremost\, a relationship with Christ.
URL:https://valleybaptistchurchnorthidaho.com/event/thrive-34/
LOCATION:Valley Baptist Church
ATTACH;FMTTYPE=image/png:https://valleybaptistchurchnorthidaho.com/wp-content/uploads/2023/12/Thrive-This-Week.png
END:VEVENT
BEGIN:VEVENT
DTSTART;TZID=America/Los_Angeles:20250603T180000
DTEND;TZID=America/Los_Angeles:20250603T200000
DTSTAMP:20260424T094502
CREATED:20250123T035649Z
LAST-MODIFIED:20250209T195642Z
UID:1140-1748973600-1748980800@valleybaptistchurchnorthidaho.com
SUMMARY:Refine
DESCRIPTION:Refine is our weekly young adult Bible study for those ages 18 – 29.
URL:https://valleybaptistchurchnorthidaho.com/event/refine-58/
LOCATION:Valley Baptist Church
ATTACH;FMTTYPE=image/png:https://valleybaptistchurchnorthidaho.com/wp-content/uploads/2025/01/Refine-No-Book.png
END:VEVENT
BEGIN:VEVENT
DTSTART;TZID=America/Los_Angeles:20250602T173000
DTEND;TZID=America/Los_Angeles:20250602T200000
DTSTAMP:20260424T094502
CREATED:20250123T053715Z
LAST-MODIFIED:20250211T162123Z
UID:1177-1748885400-1748894400@valleybaptistchurchnorthidaho.com
SUMMARY:Father and Son
DESCRIPTION:The purpose of Father Son Ministry is: \nTo glorify God by raising our sons to know Jesus and be obedient to him.  \nTo encourage fathers in their walk with the Lord. \nTo teach our boys to be men that can take care of their families and are well-rounded. \nTo train fathers to be examples for their sons. \nTo create a community of godly men to go through life together.
URL:https://valleybaptistchurchnorthidaho.com/event/father-and-son-28/
LOCATION:Valley Baptist Church
ATTACH;FMTTYPE=image/png:https://valleybaptistchurchnorthidaho.com/wp-content/uploads/2024/10/Father-and-Son-Photo.png
END:VEVENT
BEGIN:VEVENT
DTSTART;TZID=America/Los_Angeles:20250601T110000
DTEND;TZID=America/Los_Angeles:20250601T143000
DTSTAMP:20260424T094502
CREATED:20250206T062757Z
LAST-MODIFIED:20250209T202153Z
UID:1267-1748775600-1748788200@valleybaptistchurchnorthidaho.com
SUMMARY:Sunday Morning Potluck
DESCRIPTION:Join us for our monthly after service potluck! Please bring a main dish\, side dish\, or dessert to share. We can’t wait to fellowship with you!
URL:https://valleybaptistchurchnorthidaho.com/event/sunday-morning-potluck-8/
LOCATION:Valley Baptist Church
ATTACH;FMTTYPE=image/png:https://valleybaptistchurchnorthidaho.com/wp-content/uploads/2024/07/Potluck-Today.png
END:VEVENT
BEGIN:VEVENT
DTSTART;TZID=America/Los_Angeles:20250601T101500
DTEND;TZID=America/Los_Angeles:20250601T104500
DTSTAMP:20260424T094502
CREATED:20250211T171326Z
LAST-MODIFIED:20250211T171326Z
UID:1355-1748772900-1748774700@valleybaptistchurchnorthidaho.com
SUMMARY:Sunday Morning Prayer
DESCRIPTION:We invite you to join us in a time of dedicated prayer each Sunday morning at 10:15 before the start of service. This is a wonderful time to come and both lay our worries at the foot of the throne and praise the Lord for the blessings we have been given. Hope to see you there!
URL:https://valleybaptistchurchnorthidaho.com/event/sunday-morning-prayer-16/
ATTACH;FMTTYPE=image/png:https://valleybaptistchurchnorthidaho.com/wp-content/uploads/2025/02/Sunday-Morning-Prayer.png
END:VEVENT
BEGIN:VEVENT
DTSTART;TZID=America/Los_Angeles:20250531T080000
DTEND;TZID=America/Los_Angeles:20250531T170000
DTSTAMP:20260424T094502
CREATED:20250206T063648Z
LAST-MODIFIED:20250209T201301Z
UID:1276-1748678400-1748710800@valleybaptistchurchnorthidaho.com
SUMMARY:The Forge
DESCRIPTION:Join us at the church for The Forge (formerly our Men’s Summit Breakfast). Discuss Challenges we face today as Christian fathers\, husbands and leaders. We will study Gods word as “iron sharpens iron”. See you there!
URL:https://valleybaptistchurchnorthidaho.com/event/the-forge-3/
LOCATION:Valley Baptist Church
ATTACH;FMTTYPE=image/png:https://valleybaptistchurchnorthidaho.com/wp-content/uploads/2025/02/The-Forge-No-Date.png
END:VEVENT
BEGIN:VEVENT
DTSTART;TZID=America/Los_Angeles:20250527T180000
DTEND;TZID=America/Los_Angeles:20250527T200000
DTSTAMP:20260424T094502
CREATED:20250123T035659Z
LAST-MODIFIED:20250209T195649Z
UID:1139-1748368800-1748376000@valleybaptistchurchnorthidaho.com
SUMMARY:Refine
DESCRIPTION:Refine is our weekly young adult Bible study for those ages 18 – 29.
URL:https://valleybaptistchurchnorthidaho.com/event/refine-59/
LOCATION:Valley Baptist Church
ATTACH;FMTTYPE=image/png:https://valleybaptistchurchnorthidaho.com/wp-content/uploads/2025/01/Refine-No-Book.png
END:VEVENT
END:VCALENDAR