BEGIN:VCALENDAR
VERSION:2.0
PRODID:-//Valley Baptist Church - ECPv6.15.20//NONSGML v1.0//EN
CALSCALE:GREGORIAN
METHOD:PUBLISH
X-WR-CALNAME:Valley Baptist Church
X-ORIGINAL-URL:https://valleybaptistchurchnorthidaho.com
X-WR-CALDESC:Events for Valley Baptist Church
REFRESH-INTERVAL;VALUE=DURATION:PT1H
X-Robots-Tag:noindex
X-PUBLISHED-TTL:PT1H
BEGIN:VTIMEZONE
TZID:America/Los_Angeles
BEGIN:DAYLIGHT
TZOFFSETFROM:-0800
TZOFFSETTO:-0700
TZNAME:PDT
DTSTART:20240310T100000
END:DAYLIGHT
BEGIN:STANDARD
TZOFFSETFROM:-0700
TZOFFSETTO:-0800
TZNAME:PST
DTSTART:20241103T090000
END:STANDARD
BEGIN:DAYLIGHT
TZOFFSETFROM:-0800
TZOFFSETTO:-0700
TZNAME:PDT
DTSTART:20250309T100000
END:DAYLIGHT
BEGIN:STANDARD
TZOFFSETFROM:-0700
TZOFFSETTO:-0800
TZNAME:PST
DTSTART:20251102T090000
END:STANDARD
BEGIN:DAYLIGHT
TZOFFSETFROM:-0800
TZOFFSETTO:-0700
TZNAME:PDT
DTSTART:20260308T100000
END:DAYLIGHT
BEGIN:STANDARD
TZOFFSETFROM:-0700
TZOFFSETTO:-0800
TZNAME:PST
DTSTART:20261101T090000
END:STANDARD
END:VTIMEZONE
BEGIN:VTIMEZONE
TZID:UTC
BEGIN:STANDARD
TZOFFSETFROM:+0000
TZOFFSETTO:+0000
TZNAME:UTC
DTSTART:20240101T000000
END:STANDARD
END:VTIMEZONE
BEGIN:VEVENT
DTSTART;TZID=America/Los_Angeles:20250505T173000
DTEND;TZID=America/Los_Angeles:20250505T200000
DTSTAMP:20260424T085500
CREATED:20250123T053610Z
LAST-MODIFIED:20250211T162037Z
UID:1173-1746466200-1746475200@valleybaptistchurchnorthidaho.com
SUMMARY:Father and Son
DESCRIPTION:The purpose of Father Son Ministry is: \nTo glorify God by raising our sons to know Jesus and be obedient to him.  \nTo encourage fathers in their walk with the Lord. \nTo teach our boys to be men that can take care of their families and are well-rounded. \nTo train fathers to be examples for their sons. \nTo create a community of godly men to go through life together.
URL:https://valleybaptistchurchnorthidaho.com/event/father-and-son-24/
LOCATION:Valley Baptist Church
ATTACH;FMTTYPE=image/png:https://valleybaptistchurchnorthidaho.com/wp-content/uploads/2024/10/Father-and-Son-Photo.png
END:VEVENT
BEGIN:VEVENT
DTSTART;TZID=America/Los_Angeles:20250504T110000
DTEND;TZID=America/Los_Angeles:20250504T143000
DTSTAMP:20260424T085500
CREATED:20250206T062717Z
LAST-MODIFIED:20250209T202144Z
UID:1266-1746356400-1746369000@valleybaptistchurchnorthidaho.com
SUMMARY:Sunday Morning Potluck
DESCRIPTION:Join us for our monthly after service potluck! Please bring a main dish\, side dish\, or dessert to share. We can’t wait to fellowship with you!
URL:https://valleybaptistchurchnorthidaho.com/event/sunday-morning-potluck-7/
LOCATION:Valley Baptist Church
ATTACH;FMTTYPE=image/png:https://valleybaptistchurchnorthidaho.com/wp-content/uploads/2024/07/Potluck-Today.png
END:VEVENT
BEGIN:VEVENT
DTSTART;TZID=America/Los_Angeles:20250504T101500
DTEND;TZID=America/Los_Angeles:20250504T104500
DTSTAMP:20260424T085500
CREATED:20250211T171411Z
LAST-MODIFIED:20250211T171411Z
UID:1351-1746353700-1746355500@valleybaptistchurchnorthidaho.com
SUMMARY:Sunday Morning Prayer
DESCRIPTION:We invite you to join us in a time of dedicated prayer each Sunday morning at 10:15 before the start of service. This is a wonderful time to come and both lay our worries at the foot of the throne and praise the Lord for the blessings we have been given. Hope to see you there!
URL:https://valleybaptistchurchnorthidaho.com/event/sunday-morning-prayer-20/
ATTACH;FMTTYPE=image/png:https://valleybaptistchurchnorthidaho.com/wp-content/uploads/2025/02/Sunday-Morning-Prayer.png
END:VEVENT
BEGIN:VEVENT
DTSTART;TZID=America/Los_Angeles:20250429T180000
DTEND;TZID=America/Los_Angeles:20250429T200000
DTSTAMP:20260424T085500
CREATED:20250123T035205Z
LAST-MODIFIED:20250209T195512Z
UID:1128-1745949600-1745956800@valleybaptistchurchnorthidaho.com
SUMMARY:Refine
DESCRIPTION:Refine is our weekly young adult Bible study for those ages 18 – 29.
URL:https://valleybaptistchurchnorthidaho.com/event/refine-51/
LOCATION:Valley Baptist Church
ATTACH;FMTTYPE=image/png:https://valleybaptistchurchnorthidaho.com/wp-content/uploads/2025/01/Refine-No-Book.png
END:VEVENT
BEGIN:VEVENT
DTSTART;TZID=America/Los_Angeles:20250428T173000
DTEND;TZID=America/Los_Angeles:20250428T200000
DTSTAMP:20260424T085500
CREATED:20250123T053224Z
LAST-MODIFIED:20250211T162026Z
UID:1166-1745861400-1745870400@valleybaptistchurchnorthidaho.com
SUMMARY:Father and Son
DESCRIPTION:The purpose of Father Son Ministry is: \nTo glorify God by raising our sons to know Jesus and be obedient to him.  \nTo encourage fathers in their walk with the Lord. \nTo teach our boys to be men that can take care of their families and are well-rounded. \nTo train fathers to be examples for their sons. \nTo create a community of godly men to go through life together.
URL:https://valleybaptistchurchnorthidaho.com/event/father-and-son-23/
LOCATION:Valley Baptist Church
ATTACH;FMTTYPE=image/png:https://valleybaptistchurchnorthidaho.com/wp-content/uploads/2024/10/Father-and-Son-Photo.png
END:VEVENT
BEGIN:VEVENT
DTSTART;TZID=America/Los_Angeles:20250427T101500
DTEND;TZID=America/Los_Angeles:20250427T104500
DTSTAMP:20260424T085500
CREATED:20250211T170254Z
LAST-MODIFIED:20250211T170254Z
UID:1340-1745748900-1745750700@valleybaptistchurchnorthidaho.com
SUMMARY:Sunday Morning Prayer
DESCRIPTION:We invite you to join us in a time of dedicated prayer each Sunday morning at 10:15 before the start of service. This is a wonderful time to come and both lay our worries at the foot of the throne and praise the Lord for the blessings we have been given. Hope to see you there!
URL:https://valleybaptistchurchnorthidaho.com/event/sunday-morning-prayer-4/
LOCATION:Valley Baptist Church
ATTACH;FMTTYPE=image/png:https://valleybaptistchurchnorthidaho.com/wp-content/uploads/2025/02/Sunday-Morning-Prayer.png
END:VEVENT
BEGIN:VEVENT
DTSTART;TZID=America/Los_Angeles:20250426T070000
DTEND;TZID=America/Los_Angeles:20250426T090000
DTSTAMP:20260424T085500
CREATED:20250206T063518Z
LAST-MODIFIED:20250209T201308Z
UID:1275-1745650800-1745658000@valleybaptistchurchnorthidaho.com
SUMMARY:The Forge
DESCRIPTION:Join us at the church for The Forge (formerly our Men’s Summit Breakfast). Discuss Challenges we face today as Christian fathers\, husbands and leaders. We will study Gods word as “iron sharpens iron”. See you there!
URL:https://valleybaptistchurchnorthidaho.com/event/the-forge-2/
LOCATION:Valley Baptist Church
ATTACH;FMTTYPE=image/png:https://valleybaptistchurchnorthidaho.com/wp-content/uploads/2025/02/The-Forge-No-Date.png
END:VEVENT
BEGIN:VEVENT
DTSTART;TZID=UTC:20250424T173000
DTEND;TZID=UTC:20250424T200000
DTSTAMP:20260424T085500
CREATED:20250123T061746Z
LAST-MODIFIED:20250123T061746Z
UID:1218-1745515800-1745524800@valleybaptistchurchnorthidaho.com
SUMMARY:Thrive
DESCRIPTION:Thrive welcomes youth ages 10-18 who are in the pursuit of fun\, friendship\, and foremost\, a relationship with Christ.
URL:https://valleybaptistchurchnorthidaho.com/event/thrive-30/
LOCATION:Valley Baptist Church
ATTACH;FMTTYPE=image/png:https://valleybaptistchurchnorthidaho.com/wp-content/uploads/2023/12/Thrive-This-Week.png
END:VEVENT
BEGIN:VEVENT
DTSTART;TZID=America/Los_Angeles:20250422T180000
DTEND;TZID=America/Los_Angeles:20250422T200000
DTSTAMP:20260424T085500
CREATED:20250123T035215Z
LAST-MODIFIED:20250209T195533Z
UID:1127-1745344800-1745352000@valleybaptistchurchnorthidaho.com
SUMMARY:Refine
DESCRIPTION:Refine is our weekly young adult Bible study for those ages 18 – 29.
URL:https://valleybaptistchurchnorthidaho.com/event/refine-52/
LOCATION:Valley Baptist Church
ATTACH;FMTTYPE=image/png:https://valleybaptistchurchnorthidaho.com/wp-content/uploads/2025/01/Refine-No-Book.png
END:VEVENT
BEGIN:VEVENT
DTSTART;TZID=America/Los_Angeles:20250421T173000
DTEND;TZID=America/Los_Angeles:20250421T200000
DTSTAMP:20260424T085500
CREATED:20250123T055751Z
LAST-MODIFIED:20250211T162348Z
UID:1188-1745256600-1745265600@valleybaptistchurchnorthidaho.com
SUMMARY:Daughters of the King
DESCRIPTION:Daughters of the King is a ministry group that desires to disciple and encourage teen girls. We meet once a week\, on Thursday evening\, for a Biblical lesson and an activity. The activities range from crafting\, hiking\, baking\, learning life skills\, serving the church or community\,… even playing airsoft. Moms are encouraged to come and participate. Have little ones? No problem\, you can bring them with you! \n 
URL:https://valleybaptistchurchnorthidaho.com/event/daughters-of-the-king-20/
LOCATION:Valley Baptist Church
ATTACH;FMTTYPE=image/png:https://valleybaptistchurchnorthidaho.com/wp-content/uploads/2024/09/Daughters-of-the-King.png
END:VEVENT
BEGIN:VEVENT
DTSTART;TZID=America/Los_Angeles:20250421T173000
DTEND;TZID=America/Los_Angeles:20250421T200000
DTSTAMP:20260424T085500
CREATED:20250123T053213Z
LAST-MODIFIED:20250211T162019Z
UID:1165-1745256600-1745265600@valleybaptistchurchnorthidaho.com
SUMMARY:Father and Son
DESCRIPTION:The purpose of Father Son Ministry is: \nTo glorify God by raising our sons to know Jesus and be obedient to him.  \nTo encourage fathers in their walk with the Lord. \nTo teach our boys to be men that can take care of their families and are well-rounded. \nTo train fathers to be examples for their sons. \nTo create a community of godly men to go through life together.
URL:https://valleybaptistchurchnorthidaho.com/event/father-and-son-22/
LOCATION:Valley Baptist Church
ATTACH;FMTTYPE=image/png:https://valleybaptistchurchnorthidaho.com/wp-content/uploads/2024/10/Father-and-Son-Photo.png
END:VEVENT
BEGIN:VEVENT
DTSTART;TZID=America/Los_Angeles:20250420T101500
DTEND;TZID=America/Los_Angeles:20250420T104500
DTSTAMP:20260424T085500
CREATED:20250211T170258Z
LAST-MODIFIED:20250211T170258Z
UID:1339-1745144100-1745145900@valleybaptistchurchnorthidaho.com
SUMMARY:Sunday Morning Prayer
DESCRIPTION:We invite you to join us in a time of dedicated prayer each Sunday morning at 10:15 before the start of service. This is a wonderful time to come and both lay our worries at the foot of the throne and praise the Lord for the blessings we have been given. Hope to see you there!
URL:https://valleybaptistchurchnorthidaho.com/event/sunday-morning-prayer-5/
LOCATION:Valley Baptist Church
ATTACH;FMTTYPE=image/png:https://valleybaptistchurchnorthidaho.com/wp-content/uploads/2025/02/Sunday-Morning-Prayer.png
END:VEVENT
BEGIN:VEVENT
DTSTART;TZID=America/Los_Angeles:20250420T063000
DTEND;TZID=America/Los_Angeles:20250420T070000
DTSTAMP:20260424T085500
CREATED:20250211T175830Z
LAST-MODIFIED:20250211T175830Z
UID:1383-1745130600-1745132400@valleybaptistchurchnorthidaho.com
SUMMARY:Resurrection Sunday - Sunrise Service
DESCRIPTION:Join us to watch the sun come up on Resurrection Sunday. We will join together around the fire with some delicious cider and cocoa to sing songs and remember the day Jesus died for our sins in order to redeem us for eternity. This is a wonderful\, special time each year and an awesome way to start the day!
URL:https://valleybaptistchurchnorthidaho.com/event/resurrection-sunday-sunrise-service-2/
LOCATION:Valley Baptist Church
ATTACH;FMTTYPE=image/png:https://valleybaptistchurchnorthidaho.com/wp-content/uploads/2024/03/Sunrise-Service-1.png
END:VEVENT
BEGIN:VEVENT
DTSTART;TZID=America/Los_Angeles:20250420T000000
DTEND;TZID=America/Los_Angeles:20250420T235959
DTSTAMP:20260424T085500
CREATED:20250211T175132Z
LAST-MODIFIED:20250211T175132Z
UID:1381-1745107200-1745193599@valleybaptistchurchnorthidaho.com
SUMMARY:Resurrection Sunday
DESCRIPTION:Celebrate for He is Risen! Let us remember the beautiful sacrifice Jesus made on the cross so that we could be raised from death to eternal life with him! How exciting that we have the ability to have a close and personal relationship with God the Father.
URL:https://valleybaptistchurchnorthidaho.com/event/resurrection-sunday/
ATTACH;FMTTYPE=image/png:https://valleybaptistchurchnorthidaho.com/wp-content/uploads/2024/03/He-is-Risen-1.png
END:VEVENT
BEGIN:VEVENT
DTSTART;TZID=America/Los_Angeles:20250415T180000
DTEND;TZID=America/Los_Angeles:20250415T200000
DTSTAMP:20260424T085500
CREATED:20250123T035225Z
LAST-MODIFIED:20250209T195545Z
UID:1126-1744740000-1744747200@valleybaptistchurchnorthidaho.com
SUMMARY:Refine
DESCRIPTION:Refine is our weekly young adult Bible study for those ages 18 – 29.
URL:https://valleybaptistchurchnorthidaho.com/event/refine-53/
LOCATION:Valley Baptist Church
ATTACH;FMTTYPE=image/png:https://valleybaptistchurchnorthidaho.com/wp-content/uploads/2025/01/Refine-No-Book.png
END:VEVENT
BEGIN:VEVENT
DTSTART;TZID=America/Los_Angeles:20250414T173000
DTEND;TZID=America/Los_Angeles:20250414T200000
DTSTAMP:20260424T085500
CREATED:20250123T053202Z
LAST-MODIFIED:20250211T161928Z
UID:1164-1744651800-1744660800@valleybaptistchurchnorthidaho.com
SUMMARY:Father and Son
DESCRIPTION:The purpose of Father Son Ministry is: \nTo glorify God by raising our sons to know Jesus and be obedient to him.  \nTo encourage fathers in their walk with the Lord. \nTo teach our boys to be men that can take care of their families and are well-rounded. \nTo train fathers to be examples for their sons. \nTo create a community of godly men to go through life together.
URL:https://valleybaptistchurchnorthidaho.com/event/father-and-son-21/
LOCATION:Valley Baptist Church
ATTACH;FMTTYPE=image/png:https://valleybaptistchurchnorthidaho.com/wp-content/uploads/2024/10/Father-and-Son-Photo.png
END:VEVENT
BEGIN:VEVENT
DTSTART;TZID=America/Los_Angeles:20250413T101500
DTEND;TZID=America/Los_Angeles:20250413T104500
DTSTAMP:20260424T085500
CREATED:20250211T170300Z
LAST-MODIFIED:20250211T170300Z
UID:1338-1744539300-1744541100@valleybaptistchurchnorthidaho.com
SUMMARY:Sunday Morning Prayer
DESCRIPTION:We invite you to join us in a time of dedicated prayer each Sunday morning at 10:15 before the start of service. This is a wonderful time to come and both lay our worries at the foot of the throne and praise the Lord for the blessings we have been given. Hope to see you there!
URL:https://valleybaptistchurchnorthidaho.com/event/sunday-morning-prayer-6/
LOCATION:Valley Baptist Church
ATTACH;FMTTYPE=image/png:https://valleybaptistchurchnorthidaho.com/wp-content/uploads/2025/02/Sunday-Morning-Prayer.png
END:VEVENT
BEGIN:VEVENT
DTSTART;TZID=America/Los_Angeles:20250413T000000
DTEND;TZID=America/Los_Angeles:20250413T235959
DTSTAMP:20260424T085500
CREATED:20250211T174203Z
LAST-MODIFIED:20250211T174203Z
UID:1375-1744502400-1744588799@valleybaptistchurchnorthidaho.com
SUMMARY:Palm Sunday
DESCRIPTION:Come and celebrate Palm Sunday with us at Valley Baptist. We remember the day Jesus was welcomed into Jerusalem and his triumphant entry just before Passover.
URL:https://valleybaptistchurchnorthidaho.com/event/palm-sunday/
LOCATION:Valley Baptist Church
ATTACH;FMTTYPE=image/png:https://valleybaptistchurchnorthidaho.com/wp-content/uploads/2025/02/Palm-Sunday-No-Date.png
END:VEVENT
BEGIN:VEVENT
DTSTART;TZID=UTC:20250410T173000
DTEND;TZID=UTC:20250410T200000
DTSTAMP:20260424T085500
CREATED:20250123T061735Z
LAST-MODIFIED:20250123T061735Z
UID:1217-1744306200-1744315200@valleybaptistchurchnorthidaho.com
SUMMARY:Thrive
DESCRIPTION:Thrive welcomes youth ages 10-18 who are in the pursuit of fun\, friendship\, and foremost\, a relationship with Christ.
URL:https://valleybaptistchurchnorthidaho.com/event/thrive-29/
LOCATION:Valley Baptist Church
ATTACH;FMTTYPE=image/png:https://valleybaptistchurchnorthidaho.com/wp-content/uploads/2023/12/Thrive-This-Week.png
END:VEVENT
BEGIN:VEVENT
DTSTART;TZID=America/Los_Angeles:20250408T180000
DTEND;TZID=America/Los_Angeles:20250408T200000
DTSTAMP:20260424T085500
CREATED:20250123T035234Z
LAST-MODIFIED:20250209T195558Z
UID:1125-1744135200-1744142400@valleybaptistchurchnorthidaho.com
SUMMARY:Refine
DESCRIPTION:Refine is our weekly young adult Bible study for those ages 18 – 29.
URL:https://valleybaptistchurchnorthidaho.com/event/refine-54/
LOCATION:Valley Baptist Church
ATTACH;FMTTYPE=image/png:https://valleybaptistchurchnorthidaho.com/wp-content/uploads/2025/01/Refine-No-Book.png
END:VEVENT
BEGIN:VEVENT
DTSTART;TZID=America/Los_Angeles:20250407T173000
DTEND;TZID=America/Los_Angeles:20250407T200000
DTSTAMP:20260424T085500
CREATED:20250123T055719Z
LAST-MODIFIED:20250211T162333Z
UID:1196-1744047000-1744056000@valleybaptistchurchnorthidaho.com
SUMMARY:Daughters of the King
DESCRIPTION:Daughters of the King is a ministry group that desires to disciple and encourage teen girls. We meet once a week\, on Thursday evening\, for a Biblical lesson and an activity. The activities range from crafting\, hiking\, baking\, learning life skills\, serving the church or community\,… even playing airsoft. Moms are encouraged to come and participate. Have little ones? No problem\, you can bring them with you! \n 
URL:https://valleybaptistchurchnorthidaho.com/event/daughters-of-the-king-19/
LOCATION:Valley Baptist Church
ATTACH;FMTTYPE=image/png:https://valleybaptistchurchnorthidaho.com/wp-content/uploads/2024/09/Daughters-of-the-King.png
END:VEVENT
BEGIN:VEVENT
DTSTART;TZID=America/Los_Angeles:20250407T173000
DTEND;TZID=America/Los_Angeles:20250407T200000
DTSTAMP:20260424T085500
CREATED:20250123T053148Z
LAST-MODIFIED:20250211T161920Z
UID:1163-1744047000-1744056000@valleybaptistchurchnorthidaho.com
SUMMARY:Father and Son
DESCRIPTION:The purpose of Father Son Ministry is: \nTo glorify God by raising our sons to know Jesus and be obedient to him.  \nTo encourage fathers in their walk with the Lord. \nTo teach our boys to be men that can take care of their families and are well-rounded. \nTo train fathers to be examples for their sons. \nTo create a community of godly men to go through life together.
URL:https://valleybaptistchurchnorthidaho.com/event/father-and-son-20/
LOCATION:Valley Baptist Church
ATTACH;FMTTYPE=image/png:https://valleybaptistchurchnorthidaho.com/wp-content/uploads/2024/10/Father-and-Son-Photo.png
END:VEVENT
BEGIN:VEVENT
DTSTART;TZID=America/Los_Angeles:20250406T110000
DTEND;TZID=America/Los_Angeles:20250406T143000
DTSTAMP:20260424T085500
CREATED:20250206T062543Z
LAST-MODIFIED:20250209T202126Z
UID:1261-1743937200-1743949800@valleybaptistchurchnorthidaho.com
SUMMARY:Sunday Morning Potluck
DESCRIPTION:Join us for our monthly after service potluck! Please bring a main dish\, side dish\, or dessert to share. We can’t wait to fellowship with you!
URL:https://valleybaptistchurchnorthidaho.com/event/sunday-morning-potluck-6/
LOCATION:Valley Baptist Church
ATTACH;FMTTYPE=image/png:https://valleybaptistchurchnorthidaho.com/wp-content/uploads/2024/07/Potluck-Today.png
END:VEVENT
BEGIN:VEVENT
DTSTART;TZID=America/Los_Angeles:20250406T101500
DTEND;TZID=America/Los_Angeles:20250406T104500
DTSTAMP:20260424T085500
CREATED:20250211T170303Z
LAST-MODIFIED:20250211T170303Z
UID:1337-1743934500-1743936300@valleybaptistchurchnorthidaho.com
SUMMARY:Sunday Morning Prayer
DESCRIPTION:We invite you to join us in a time of dedicated prayer each Sunday morning at 10:15 before the start of service. This is a wonderful time to come and both lay our worries at the foot of the throne and praise the Lord for the blessings we have been given. Hope to see you there!
URL:https://valleybaptistchurchnorthidaho.com/event/sunday-morning-prayer-7/
LOCATION:Valley Baptist Church
ATTACH;FMTTYPE=image/png:https://valleybaptistchurchnorthidaho.com/wp-content/uploads/2025/02/Sunday-Morning-Prayer.png
END:VEVENT
BEGIN:VEVENT
DTSTART;TZID=America/Los_Angeles:20250401T180000
DTEND;TZID=America/Los_Angeles:20250401T200000
DTSTAMP:20260424T085500
CREATED:20250123T034716Z
LAST-MODIFIED:20250209T195303Z
UID:1108-1743530400-1743537600@valleybaptistchurchnorthidaho.com
SUMMARY:Refine
DESCRIPTION:Refine is our weekly young adult Bible study for those ages 18 – 29.
URL:https://valleybaptistchurchnorthidaho.com/event/refine-47/
LOCATION:Valley Baptist Church
ATTACH;FMTTYPE=image/png:https://valleybaptistchurchnorthidaho.com/wp-content/uploads/2025/01/Refine-No-Book.png
END:VEVENT
BEGIN:VEVENT
DTSTART;TZID=America/Los_Angeles:20250331T173000
DTEND;TZID=America/Los_Angeles:20250331T200000
DTSTAMP:20260424T085500
CREATED:20250123T053136Z
LAST-MODIFIED:20250211T161911Z
UID:1162-1743442200-1743451200@valleybaptistchurchnorthidaho.com
SUMMARY:Father and Son
DESCRIPTION:The purpose of Father Son Ministry is: \nTo glorify God by raising our sons to know Jesus and be obedient to him.  \nTo encourage fathers in their walk with the Lord. \nTo teach our boys to be men that can take care of their families and are well-rounded. \nTo train fathers to be examples for their sons. \nTo create a community of godly men to go through life together.
URL:https://valleybaptistchurchnorthidaho.com/event/father-and-son-19/
LOCATION:Valley Baptist Church
ATTACH;FMTTYPE=image/png:https://valleybaptistchurchnorthidaho.com/wp-content/uploads/2024/10/Father-and-Son-Photo.png
END:VEVENT
BEGIN:VEVENT
DTSTART;TZID=UTC:20250330T180000
DTEND;TZID=UTC:20250330T200000
DTSTAMP:20260424T085500
CREATED:20250206T061852Z
LAST-MODIFIED:20250211T173350Z
UID:1257-1743357600-1743364800@valleybaptistchurchnorthidaho.com
SUMMARY:Valley Baptist Night of Prayer and Worship
DESCRIPTION:We invite you to an evening of dedicated prayer\, worship\, and fellowship here at Valley Baptist. This will be a time dedicated to brining our praises and prayers to the foot of the throne. This is guaranteed to be an amazing time of worship and all are invited to attend.
URL:https://valleybaptistchurchnorthidaho.com/event/valley-baptist-night-of-prayer-and-worship/
LOCATION:Valley Baptist Church
ATTACH;FMTTYPE=image/png:https://valleybaptistchurchnorthidaho.com/wp-content/uploads/2025/02/Night-of-Prayer.png
END:VEVENT
BEGIN:VEVENT
DTSTART;TZID=America/Los_Angeles:20250330T101500
DTEND;TZID=America/Los_Angeles:20250330T104500
DTSTAMP:20260424T085500
CREATED:20250211T170306Z
LAST-MODIFIED:20250211T170306Z
UID:1336-1743329700-1743331500@valleybaptistchurchnorthidaho.com
SUMMARY:Sunday Morning Prayer
DESCRIPTION:We invite you to join us in a time of dedicated prayer each Sunday morning at 10:15 before the start of service. This is a wonderful time to come and both lay our worries at the foot of the throne and praise the Lord for the blessings we have been given. Hope to see you there!
URL:https://valleybaptistchurchnorthidaho.com/event/sunday-morning-prayer-8/
LOCATION:Valley Baptist Church
ATTACH;FMTTYPE=image/png:https://valleybaptistchurchnorthidaho.com/wp-content/uploads/2025/02/Sunday-Morning-Prayer.png
END:VEVENT
BEGIN:VEVENT
DTSTART;TZID=America/Los_Angeles:20250329T070000
DTEND;TZID=America/Los_Angeles:20250329T090000
DTSTAMP:20260424T085500
CREATED:20250206T063438Z
LAST-MODIFIED:20250209T201316Z
UID:1274-1743231600-1743238800@valleybaptistchurchnorthidaho.com
SUMMARY:The Forge
DESCRIPTION:Join us at the church for The Forge (formerly our Men’s Summit Breakfast). Discuss Challenges we face today as Christian fathers\, husbands and leaders. We will study Gods word as “iron sharpens iron”. See you there!
URL:https://valleybaptistchurchnorthidaho.com/event/the-forge/
LOCATION:Valley Baptist Church
ATTACH;FMTTYPE=image/png:https://valleybaptistchurchnorthidaho.com/wp-content/uploads/2025/02/The-Forge-No-Date.png
END:VEVENT
BEGIN:VEVENT
DTSTART;TZID=UTC:20250327T173000
DTEND;TZID=UTC:20250327T200000
DTSTAMP:20260424T085500
CREATED:20250123T061616Z
LAST-MODIFIED:20250123T061616Z
UID:1216-1743096600-1743105600@valleybaptistchurchnorthidaho.com
SUMMARY:Thrive
DESCRIPTION:Thrive welcomes youth ages 10-18 who are in the pursuit of fun\, friendship\, and foremost\, a relationship with Christ.
URL:https://valleybaptistchurchnorthidaho.com/event/thrive-27/
ATTACH;FMTTYPE=image/png:https://valleybaptistchurchnorthidaho.com/wp-content/uploads/2023/12/Thrive-This-Week.png
END:VEVENT
END:VCALENDAR