BEGIN:VCALENDAR
VERSION:2.0
PRODID:-//Valley Baptist Church - ECPv6.15.20//NONSGML v1.0//EN
CALSCALE:GREGORIAN
METHOD:PUBLISH
X-WR-CALNAME:Valley Baptist Church
X-ORIGINAL-URL:https://valleybaptistchurchnorthidaho.com
X-WR-CALDESC:Events for Valley Baptist Church
REFRESH-INTERVAL;VALUE=DURATION:PT1H
X-Robots-Tag:noindex
X-PUBLISHED-TTL:PT1H
BEGIN:VTIMEZONE
TZID:America/Los_Angeles
BEGIN:DAYLIGHT
TZOFFSETFROM:-0800
TZOFFSETTO:-0700
TZNAME:PDT
DTSTART:20240310T100000
END:DAYLIGHT
BEGIN:STANDARD
TZOFFSETFROM:-0700
TZOFFSETTO:-0800
TZNAME:PST
DTSTART:20241103T090000
END:STANDARD
BEGIN:DAYLIGHT
TZOFFSETFROM:-0800
TZOFFSETTO:-0700
TZNAME:PDT
DTSTART:20250309T100000
END:DAYLIGHT
BEGIN:STANDARD
TZOFFSETFROM:-0700
TZOFFSETTO:-0800
TZNAME:PST
DTSTART:20251102T090000
END:STANDARD
BEGIN:DAYLIGHT
TZOFFSETFROM:-0800
TZOFFSETTO:-0700
TZNAME:PDT
DTSTART:20260308T100000
END:DAYLIGHT
BEGIN:STANDARD
TZOFFSETFROM:-0700
TZOFFSETTO:-0800
TZNAME:PST
DTSTART:20261101T090000
END:STANDARD
END:VTIMEZONE
BEGIN:VTIMEZONE
TZID:UTC
BEGIN:STANDARD
TZOFFSETFROM:+0000
TZOFFSETTO:+0000
TZNAME:UTC
DTSTART:20240101T000000
END:STANDARD
END:VTIMEZONE
BEGIN:VEVENT
DTSTART;TZID=America/Los_Angeles:20250224T173000
DTEND;TZID=America/Los_Angeles:20250224T200000
DTSTAMP:20260425T090356
CREATED:20250123T055620Z
LAST-MODIFIED:20250211T162308Z
UID:1193-1740418200-1740427200@valleybaptistchurchnorthidaho.com
SUMMARY:Daughters of the King - Bunco Night
DESCRIPTION:Daughters of the King is hosting another Bunco Night! All ladies\, young and old\, regardless off if you are a regular DoK attender are invited! We look forward to seeing you there for a fun night of fellowship and games!
URL:https://valleybaptistchurchnorthidaho.com/event/daughters-of-the-king-16/
LOCATION:Valley Baptist Church
ATTACH;FMTTYPE=image/png:https://valleybaptistchurchnorthidaho.com/wp-content/uploads/2025/01/Bunco-Night-February.png
END:VEVENT
BEGIN:VEVENT
DTSTART;TZID=America/Los_Angeles:20250224T173000
DTEND;TZID=America/Los_Angeles:20250224T200000
DTSTAMP:20260425T090356
CREATED:20250123T052507Z
LAST-MODIFIED:20250211T161815Z
UID:1093-1740418200-1740427200@valleybaptistchurchnorthidaho.com
SUMMARY:Father and Son
DESCRIPTION:The purpose of Father Son Ministry is: \nTo glorify God by raising our sons to know Jesus and be obedient to him.  \nTo encourage fathers in their walk with the Lord. \nTo teach our boys to be men that can take care of their families and are well-rounded. \nTo train fathers to be examples for their sons. \nTo create a community of godly men to go through life together.
URL:https://valleybaptistchurchnorthidaho.com/event/father-and-son-14/
LOCATION:Valley Baptist Church
ATTACH;FMTTYPE=image/png:https://valleybaptistchurchnorthidaho.com/wp-content/uploads/2024/10/Father-and-Son-Photo.png
END:VEVENT
BEGIN:VEVENT
DTSTART;TZID=America/Los_Angeles:20250223T180000
DTEND;TZID=America/Los_Angeles:20250223T200000
DTSTAMP:20260425T090356
CREATED:20250206T055959Z
LAST-MODIFIED:20250209T201129Z
UID:1243-1740333600-1740340800@valleybaptistchurchnorthidaho.com
SUMMARY:Love and Respect
DESCRIPTION:Love and respect are two fundamental aspects of relationships that contribute to their strength and quality. In the context of marriage\, the Love and Respect system emphasizes the importance of both love and respect in addressing and resolving conflicts.  \nOur current 6 week session is designed specifically for both newlyweds and singles.
URL:https://valleybaptistchurchnorthidaho.com/event/love-and-respect-5/
LOCATION:Valley Baptist Church
ATTACH;FMTTYPE=image/png:https://valleybaptistchurchnorthidaho.com/wp-content/uploads/2024/03/Love-and-Respect-2024-1.png
END:VEVENT
BEGIN:VEVENT
DTSTART;TZID=America/Los_Angeles:20250223T101500
DTEND;TZID=America/Los_Angeles:20250223T104500
DTSTAMP:20260425T090356
CREATED:20250211T170248Z
LAST-MODIFIED:20250211T170248Z
UID:1331-1740305700-1740307500@valleybaptistchurchnorthidaho.com
SUMMARY:Sunday Morning Prayer
DESCRIPTION:We invite you to join us in a time of dedicated prayer each Sunday morning at 10:15 before the start of service. This is a wonderful time to come and both lay our worries at the foot of the throne and praise the Lord for the blessings we have been given. Hope to see you there!
URL:https://valleybaptistchurchnorthidaho.com/event/sunday-morning-prayer-2/
LOCATION:Valley Baptist Church
ATTACH;FMTTYPE=image/png:https://valleybaptistchurchnorthidaho.com/wp-content/uploads/2025/02/Sunday-Morning-Prayer.png
END:VEVENT
BEGIN:VEVENT
DTSTART;TZID=America/Los_Angeles:20250222T070000
DTEND;TZID=America/Los_Angeles:20250222T090000
DTSTAMP:20260425T090356
CREATED:20250206T064905Z
LAST-MODIFIED:20250209T201244Z
UID:1283-1740207600-1740214800@valleybaptistchurchnorthidaho.com
SUMMARY:The Forge
DESCRIPTION:Join us at the church for The Forge (formerly our Men’s Summit Breakfast). Discuss Challenges we face today as Christian fathers\, husbands and leaders. We will study Gods word as “iron sharpens iron”. See you there!
URL:https://valleybaptistchurchnorthidaho.com/event/the-forge-5/
LOCATION:Valley Baptist Church
ATTACH;FMTTYPE=image/png:https://valleybaptistchurchnorthidaho.com/wp-content/uploads/2025/02/The-Forge-No-Date.png
END:VEVENT
BEGIN:VEVENT
DTSTART;TZID=America/Los_Angeles:20250218T180000
DTEND;TZID=America/Los_Angeles:20250218T200000
DTSTAMP:20260425T090356
CREATED:20250123T034322Z
LAST-MODIFIED:20250209T195143Z
UID:1102-1739901600-1739908800@valleybaptistchurchnorthidaho.com
SUMMARY:Refine
DESCRIPTION:Refine is our weekly young adult Bible study for those ages 18 – 29.
URL:https://valleybaptistchurchnorthidaho.com/event/refine-40/
LOCATION:Valley Baptist Church
ATTACH;FMTTYPE=image/png:https://valleybaptistchurchnorthidaho.com/wp-content/uploads/2025/01/Refine-No-Book.png
END:VEVENT
BEGIN:VEVENT
DTSTART;TZID=America/Los_Angeles:20250217T173000
DTEND;TZID=America/Los_Angeles:20250217T200000
DTSTAMP:20260425T090356
CREATED:20250123T052409Z
LAST-MODIFIED:20250211T161805Z
UID:1092-1739813400-1739822400@valleybaptistchurchnorthidaho.com
SUMMARY:Father and Son
DESCRIPTION:The purpose of Father Son Ministry is: \nTo glorify God by raising our sons to know Jesus and be obedient to him.  \nTo encourage fathers in their walk with the Lord. \nTo teach our boys to be men that can take care of their families and are well-rounded. \nTo train fathers to be examples for their sons. \nTo create a community of godly men to go through life together.
URL:https://valleybaptistchurchnorthidaho.com/event/father-and-son-13/
LOCATION:Valley Baptist Church
ATTACH;FMTTYPE=image/png:https://valleybaptistchurchnorthidaho.com/wp-content/uploads/2024/10/Father-and-Son-Photo.png
END:VEVENT
BEGIN:VEVENT
DTSTART;TZID=America/Los_Angeles:20250216T180000
DTEND;TZID=America/Los_Angeles:20250216T200000
DTSTAMP:20260425T090356
CREATED:20250206T055929Z
LAST-MODIFIED:20250209T201113Z
UID:1242-1739728800-1739736000@valleybaptistchurchnorthidaho.com
SUMMARY:Love and Respect
DESCRIPTION:Love and respect are two fundamental aspects of relationships that contribute to their strength and quality. In the context of marriage\, the Love and Respect system emphasizes the importance of both love and respect in addressing and resolving conflicts.  \nOur current 6 week session is designed specifically for both newlyweds and singles.
URL:https://valleybaptistchurchnorthidaho.com/event/love-and-respect-4/
LOCATION:Valley Baptist Church
ATTACH;FMTTYPE=image/png:https://valleybaptistchurchnorthidaho.com/wp-content/uploads/2024/03/Love-and-Respect-2024-1.png
END:VEVENT
BEGIN:VEVENT
DTSTART;TZID=America/Los_Angeles:20250216T101500
DTEND;TZID=America/Los_Angeles:20250216T104500
DTSTAMP:20260425T090356
CREATED:20250211T165609Z
LAST-MODIFIED:20250211T165609Z
UID:1328-1739700900-1739702700@valleybaptistchurchnorthidaho.com
SUMMARY:Sunday Morning Prayer
DESCRIPTION:We invite you to join us in a time of dedicated prayer each Sunday morning at 10:15 before the start of service. This is a wonderful time to come and both lay our worries at the foot of the throne and praise the Lord for the blessings we have been given. Hope to see you there!
URL:https://valleybaptistchurchnorthidaho.com/event/sunday-morning-prayer/
LOCATION:Valley Baptist Church
ATTACH;FMTTYPE=image/png:https://valleybaptistchurchnorthidaho.com/wp-content/uploads/2025/02/Sunday-Morning-Prayer.png
END:VEVENT
BEGIN:VEVENT
DTSTART;TZID=America/Los_Angeles:20250214T180000
DTEND;TZID=America/Los_Angeles:20250214T210000
DTSTAMP:20260425T090356
CREATED:20250206T060656Z
LAST-MODIFIED:20250209T201025Z
UID:1250-1739556000-1739566800@valleybaptistchurchnorthidaho.com
SUMMARY:Valentines Dinner
DESCRIPTION:Thrive is hosting our first annual Valentines Dinner at Valley Baptist. Reservation by ticket only. As of February 2nd\, ticket sales are closed. For those of you who signed up\, see you there!
URL:https://valleybaptistchurchnorthidaho.com/event/valentines-dinner/
LOCATION:Valley Baptist Church
ATTACH;FMTTYPE=image/png:https://valleybaptistchurchnorthidaho.com/wp-content/uploads/2025/02/Valentine-Dinner.png
END:VEVENT
BEGIN:VEVENT
DTSTART;TZID=America/Los_Angeles:20250211T180000
DTEND;TZID=America/Los_Angeles:20250211T200000
DTSTAMP:20260425T090356
CREATED:20250123T034407Z
LAST-MODIFIED:20250209T195129Z
UID:1101-1739296800-1739304000@valleybaptistchurchnorthidaho.com
SUMMARY:Refine
DESCRIPTION:Refine is our weekly young adult Bible study for those ages 18 – 29.
URL:https://valleybaptistchurchnorthidaho.com/event/refine-41/
LOCATION:Valley Baptist Church
ATTACH;FMTTYPE=image/png:https://valleybaptistchurchnorthidaho.com/wp-content/uploads/2025/01/Refine-No-Book.png
END:VEVENT
BEGIN:VEVENT
DTSTART;TZID=America/Los_Angeles:20250210T173000
DTEND;TZID=America/Los_Angeles:20250210T200000
DTSTAMP:20260425T090356
CREATED:20250123T055522Z
LAST-MODIFIED:20250211T162301Z
UID:1197-1739208600-1739217600@valleybaptistchurchnorthidaho.com
SUMMARY:Daughters of the King
DESCRIPTION:Daughters of the King is a ministry group that desires to disciple and encourage teen girls. We meet once a week\, on Thursday evening\, for a Biblical lesson and an activity. The activities range from crafting\, hiking\, baking\, learning life skills\, serving the church or community\,… even playing airsoft. Moms are encouraged to come and participate. Have little ones? No problem\, you can bring them with you! \n 
URL:https://valleybaptistchurchnorthidaho.com/event/daughters-of-the-king-15/
LOCATION:Valley Baptist Church
ATTACH;FMTTYPE=image/png:https://valleybaptistchurchnorthidaho.com/wp-content/uploads/2024/09/Daughters-of-the-King.png
END:VEVENT
BEGIN:VEVENT
DTSTART;TZID=UTC:20250210T173000
DTEND;TZID=UTC:20250210T200000
DTSTAMP:20260425T090356
CREATED:20250123T052349Z
LAST-MODIFIED:20250123T052415Z
UID:1091-1739208600-1739217600@valleybaptistchurchnorthidaho.com
SUMMARY:Father and Son
DESCRIPTION:The purpose of Father Son Ministry is: \nTo glorify God by raising our sons to know Jesus and be obedient to him.  \nTo encourage fathers in their walk with the Lord. \nTo teach our boys to be men that can take care of their families and are well-rounded. \nTo train fathers to be examples for their sons. \nTo create a community of godly men to go through life together.
URL:https://valleybaptistchurchnorthidaho.com/event/father-and-son-12/
LOCATION:Valley Baptist Church
ATTACH;FMTTYPE=image/png:https://valleybaptistchurchnorthidaho.com/wp-content/uploads/2024/10/Father-and-Son-Photo.png
END:VEVENT
BEGIN:VEVENT
DTSTART;TZID=America/Los_Angeles:20250209T180000
DTEND;TZID=America/Los_Angeles:20250209T200000
DTSTAMP:20260425T090356
CREATED:20250206T055823Z
LAST-MODIFIED:20250209T201103Z
UID:1240-1739124000-1739131200@valleybaptistchurchnorthidaho.com
SUMMARY:Love and Respect
DESCRIPTION:Love and respect are two fundamental aspects of relationships that contribute to their strength and quality. In the context of marriage\, the Love and Respect system emphasizes the importance of both love and respect in addressing and resolving conflicts.  \nOur current 6 week session is designed specifically for both newlyweds and singles.
URL:https://valleybaptistchurchnorthidaho.com/event/love-and-respect-3/
LOCATION:Valley Baptist Church
ATTACH;FMTTYPE=image/png:https://valleybaptistchurchnorthidaho.com/wp-content/uploads/2024/03/Love-and-Respect-2024-1.png
END:VEVENT
BEGIN:VEVENT
DTSTART;TZID=UTC:20250204T180000
DTEND;TZID=UTC:20250204T210000
DTSTAMP:20260425T090356
CREATED:20250123T033150Z
LAST-MODIFIED:20250123T034133Z
UID:1100-1738692000-1738702800@valleybaptistchurchnorthidaho.com
SUMMARY:Refine
DESCRIPTION:Refine is our weekly young adult Bible study for those ages 18 – 29.
URL:https://valleybaptistchurchnorthidaho.com/event/refine-39/
LOCATION:Valley Baptist Church
ATTACH;FMTTYPE=image/png:https://valleybaptistchurchnorthidaho.com/wp-content/uploads/2025/01/Refine-No-Book.png
END:VEVENT
BEGIN:VEVENT
DTSTART;TZID=UTC:20250203T173000
DTEND;TZID=UTC:20250203T200000
DTSTAMP:20260425T090356
CREATED:20250123T052346Z
LAST-MODIFIED:20250123T052426Z
UID:1090-1738603800-1738612800@valleybaptistchurchnorthidaho.com
SUMMARY:Father and Son
DESCRIPTION:The purpose of Father Son Ministry is: \nTo glorify God by raising our sons to know Jesus and be obedient to him.  \nTo encourage fathers in their walk with the Lord. \nTo teach our boys to be men that can take care of their families and are well-rounded. \nTo train fathers to be examples for their sons. \nTo create a community of godly men to go through life together.
URL:https://valleybaptistchurchnorthidaho.com/event/father-and-son-11/
LOCATION:Valley Baptist Church
ATTACH;FMTTYPE=image/png:https://valleybaptistchurchnorthidaho.com/wp-content/uploads/2024/10/Father-and-Son-Photo.png
END:VEVENT
BEGIN:VEVENT
DTSTART;TZID=UTC:20250202T110000
DTEND;TZID=UTC:20250202T143000
DTSTAMP:20260425T090356
CREATED:20250206T062352Z
LAST-MODIFIED:20250206T062352Z
UID:1259-1738494000-1738506600@valleybaptistchurchnorthidaho.com
SUMMARY:Sunday Morning Potluck
DESCRIPTION:Join us for our monthly after service potluck! Please bring a main dish\, side dish\, or dessert to share. We can’t wait to fellowship with you!
URL:https://valleybaptistchurchnorthidaho.com/event/sunday-morning-potluck-4/
LOCATION:Valley Baptist Church
ATTACH;FMTTYPE=image/png:https://valleybaptistchurchnorthidaho.com/wp-content/uploads/2024/07/Potluck-Today.png
END:VEVENT
BEGIN:VEVENT
DTSTART;TZID=UTC:20250130T173000
DTEND;TZID=UTC:20250130T200000
DTSTAMP:20260425T090356
CREATED:20250123T061723Z
LAST-MODIFIED:20250123T061723Z
UID:1225-1738258200-1738267200@valleybaptistchurchnorthidaho.com
SUMMARY:Thrive
DESCRIPTION:Thrive welcomes youth ages 10-18 who are in the pursuit of fun\, friendship\, and foremost\, a relationship with Christ.
URL:https://valleybaptistchurchnorthidaho.com/event/thrive-28/
LOCATION:Valley Baptist Church
ATTACH;FMTTYPE=image/png:https://valleybaptistchurchnorthidaho.com/wp-content/uploads/2023/12/Thrive-This-Week.png
END:VEVENT
BEGIN:VEVENT
DTSTART;TZID=UTC:20250128T180000
DTEND;TZID=UTC:20250128T210000
DTSTAMP:20260425T090356
CREATED:20241031T214432Z
LAST-MODIFIED:20250123T033744Z
UID:954-1738087200-1738098000@valleybaptistchurchnorthidaho.com
SUMMARY:Refine
DESCRIPTION:Refine is our weekly young adult Bible study for those ages 18 – 29. Currently working through 2 Peter.
URL:https://valleybaptistchurchnorthidaho.com/event/refine-19/
LOCATION:Valley Baptist Church
ATTACH;FMTTYPE=image/png:https://valleybaptistchurchnorthidaho.com/wp-content/uploads/2025/01/Refine-No-Book.png
END:VEVENT
BEGIN:VEVENT
DTSTART;TZID=UTC:20250127T173000
DTEND;TZID=UTC:20250127T200000
DTSTAMP:20260425T090356
CREATED:20241031T220249Z
LAST-MODIFIED:20241031T220249Z
UID:979-1737999000-1738008000@valleybaptistchurchnorthidaho.com
SUMMARY:Daughters of the King
DESCRIPTION:Daughters of the King is a ministry group that desires to disciple and encourage teen girls. We meet once a week\, on Thursday evening\, for a Biblical lesson and an activity. The activities range from crafting\, hiking\, baking\, learning life skills\, serving the church or community\,… even playing airsoft. Moms are encouraged to come and participate. Have little ones? No problem\, you can bring them with you!
URL:https://valleybaptistchurchnorthidaho.com/event/daughters-of-the-king-10/
LOCATION:Valley Baptist Church
ATTACH;FMTTYPE=image/png:https://valleybaptistchurchnorthidaho.com/wp-content/uploads/2024/09/Daughters-of-the-King.png
END:VEVENT
BEGIN:VEVENT
DTSTART;TZID=UTC:20250127T080000
DTEND;TZID=UTC:20250127T170000
DTSTAMP:20260425T090356
CREATED:20241031T221126Z
LAST-MODIFIED:20241031T221126Z
UID:1000-1737964800-1737997200@valleybaptistchurchnorthidaho.com
SUMMARY:Father and Son
DESCRIPTION:The purpose of Father Son Ministry is: \nTo glorify God by raising our sons to know Jesus and be obedient to him.  \nTo encourage fathers in their walk with the Lord. \nTo teach our boys to be men that can take care of their families and are well-rounded. \nTo train fathers to be examples for their sons. \nTo create a community of godly men to go through life together.
URL:https://valleybaptistchurchnorthidaho.com/event/father-and-son-10/
LOCATION:Valley Baptist Church
ATTACH;FMTTYPE=image/png:https://valleybaptistchurchnorthidaho.com/wp-content/uploads/2024/10/Father-and-Son-Photo.png
END:VEVENT
BEGIN:VEVENT
DTSTART;TZID=UTC:20250125T070000
DTEND;TZID=UTC:20250125T090000
DTSTAMP:20260425T090356
CREATED:20241031T214724Z
LAST-MODIFIED:20241031T214724Z
UID:960-1737788400-1737795600@valleybaptistchurchnorthidaho.com
SUMMARY:Men's Breakfast Summit
DESCRIPTION:Join us at the church for the Men’s Summit Breakfast. Discuss Challenges we face today as Christian fathers\, husbands and leaders. We will study Gods word as “iron sharpens iron”. See you there!
URL:https://valleybaptistchurchnorthidaho.com/event/mens-breakfast-summit-10/
LOCATION:Valley Baptist Church
ATTACH;FMTTYPE=image/png:https://valleybaptistchurchnorthidaho.com/wp-content/uploads/2024/03/Breakfast-Summit.png
END:VEVENT
BEGIN:VEVENT
DTSTART;TZID=UTC:20250123T173000
DTEND;TZID=UTC:20250123T200000
DTSTAMP:20260425T090356
CREATED:20240727T204913Z
LAST-MODIFIED:20241031T215306Z
UID:755-1737653400-1737662400@valleybaptistchurchnorthidaho.com
SUMMARY:Thrive
DESCRIPTION:Thrive welcomes youth ages 10-18 who are in the pursuit of fun\, friendship\, and foremost\, a relationship with Christ.
URL:https://valleybaptistchurchnorthidaho.com/event/thrive-20/
LOCATION:Valley Baptist Church
ATTACH;FMTTYPE=image/png:https://valleybaptistchurchnorthidaho.com/wp-content/uploads/2023/12/Thrive-This-Week.png
END:VEVENT
BEGIN:VEVENT
DTSTART;TZID=UTC:20250121T180000
DTEND;TZID=UTC:20250121T210000
DTSTAMP:20260425T090356
CREATED:20241031T214436Z
LAST-MODIFIED:20250109T035756Z
UID:953-1737482400-1737493200@valleybaptistchurchnorthidaho.com
SUMMARY:Refine
DESCRIPTION:Refine is our weekly young adult Bible study for those ages 18 – 29. Currently working through the Gospel of Daniel.
URL:https://valleybaptistchurchnorthidaho.com/event/refine-32/
LOCATION:Valley Baptist Church
END:VEVENT
BEGIN:VEVENT
DTSTART;TZID=UTC:20250120T080000
DTEND;TZID=UTC:20250120T170000
DTSTAMP:20260425T090356
CREATED:20241031T221123Z
LAST-MODIFIED:20241031T221123Z
UID:999-1737360000-1737392400@valleybaptistchurchnorthidaho.com
SUMMARY:Father and Son
DESCRIPTION:The purpose of Father Son Ministry is: \nTo glorify God by raising our sons to know Jesus and be obedient to him.  \nTo encourage fathers in their walk with the Lord. \nTo teach our boys to be men that can take care of their families and are well-rounded. \nTo train fathers to be examples for their sons. \nTo create a community of godly men to go through life together.
URL:https://valleybaptistchurchnorthidaho.com/event/father-and-son-9/
LOCATION:Valley Baptist Church
ATTACH;FMTTYPE=image/png:https://valleybaptistchurchnorthidaho.com/wp-content/uploads/2024/10/Father-and-Son-Photo.png
END:VEVENT
BEGIN:VEVENT
DTSTART;TZID=UTC:20250116T173000
DTEND;TZID=UTC:20250116T200000
DTSTAMP:20260425T090356
CREATED:20241031T215237Z
LAST-MODIFIED:20241231T233451Z
UID:758-1737048600-1737057600@valleybaptistchurchnorthidaho.com
SUMMARY:Thrive
DESCRIPTION:Thrive welcomes youth ages 10-18 who are in the pursuit of fun\, friendship\, and foremost\, a relationship with Christ.
URL:https://valleybaptistchurchnorthidaho.com/event/thrive-23/
LOCATION:Valley Baptist Church
ATTACH;FMTTYPE=image/png:https://valleybaptistchurchnorthidaho.com/wp-content/uploads/2023/12/Thrive-This-Week.png
END:VEVENT
BEGIN:VEVENT
DTSTART;TZID=UTC:20250114T180000
DTEND;TZID=UTC:20250114T210000
DTSTAMP:20260425T090356
CREATED:20241031T214438Z
LAST-MODIFIED:20250109T035759Z
UID:952-1736877600-1736888400@valleybaptistchurchnorthidaho.com
SUMMARY:Refine
DESCRIPTION:Refine is our weekly young adult Bible study for those ages 18 – 29. Currently working through the Gospel of Daniel.
URL:https://valleybaptistchurchnorthidaho.com/event/refine-37/
LOCATION:Valley Baptist Church
END:VEVENT
BEGIN:VEVENT
DTSTART;TZID=UTC:20250113T173000
DTEND;TZID=UTC:20250113T200000
DTSTAMP:20260425T090356
CREATED:20241031T220252Z
LAST-MODIFIED:20241031T220252Z
UID:978-1736789400-1736798400@valleybaptistchurchnorthidaho.com
SUMMARY:Daughters of the King
DESCRIPTION:Daughters of the King is a ministry group that desires to disciple and encourage teen girls. We meet once a week\, on Thursday evening\, for a Biblical lesson and an activity. The activities range from crafting\, hiking\, baking\, learning life skills\, serving the church or community\,… even playing airsoft. Moms are encouraged to come and participate. Have little ones? No problem\, you can bring them with you!
URL:https://valleybaptistchurchnorthidaho.com/event/daughters-of-the-king-11/
LOCATION:Valley Baptist Church
ATTACH;FMTTYPE=image/png:https://valleybaptistchurchnorthidaho.com/wp-content/uploads/2024/09/Daughters-of-the-King.png
END:VEVENT
BEGIN:VEVENT
DTSTART;TZID=UTC:20250113T080000
DTEND;TZID=UTC:20250113T170000
DTSTAMP:20260425T090356
CREATED:20241031T221120Z
LAST-MODIFIED:20241031T221120Z
UID:998-1736755200-1736787600@valleybaptistchurchnorthidaho.com
SUMMARY:Father and Son
DESCRIPTION:The purpose of Father Son Ministry is: \nTo glorify God by raising our sons to know Jesus and be obedient to him.  \nTo encourage fathers in their walk with the Lord. \nTo teach our boys to be men that can take care of their families and are well-rounded. \nTo train fathers to be examples for their sons. \nTo create a community of godly men to go through life together.
URL:https://valleybaptistchurchnorthidaho.com/event/father-and-son-8/
LOCATION:Valley Baptist Church
ATTACH;FMTTYPE=image/png:https://valleybaptistchurchnorthidaho.com/wp-content/uploads/2024/10/Father-and-Son-Photo.png
END:VEVENT
BEGIN:VEVENT
DTSTART;TZID=UTC:20250107T180000
DTEND;TZID=UTC:20250107T210000
DTSTAMP:20260425T090356
CREATED:20241031T214441Z
LAST-MODIFIED:20250109T035802Z
UID:951-1736272800-1736283600@valleybaptistchurchnorthidaho.com
SUMMARY:Refine
DESCRIPTION:Refine is our weekly young adult Bible study for those ages 18 – 29. Currently working through the Gospel of Daniel.
URL:https://valleybaptistchurchnorthidaho.com/event/refine-38/
LOCATION:Valley Baptist Church
END:VEVENT
END:VCALENDAR