BEGIN:VCALENDAR
VERSION:2.0
PRODID:-//Valley Baptist Church - ECPv6.15.20//NONSGML v1.0//EN
CALSCALE:GREGORIAN
METHOD:PUBLISH
X-WR-CALNAME:Valley Baptist Church
X-ORIGINAL-URL:https://valleybaptistchurchnorthidaho.com
X-WR-CALDESC:Events for Valley Baptist Church
REFRESH-INTERVAL;VALUE=DURATION:PT1H
X-Robots-Tag:noindex
X-PUBLISHED-TTL:PT1H
BEGIN:VTIMEZONE
TZID:America/Los_Angeles
BEGIN:DAYLIGHT
TZOFFSETFROM:-0800
TZOFFSETTO:-0700
TZNAME:PDT
DTSTART:20240310T100000
END:DAYLIGHT
BEGIN:STANDARD
TZOFFSETFROM:-0700
TZOFFSETTO:-0800
TZNAME:PST
DTSTART:20241103T090000
END:STANDARD
BEGIN:DAYLIGHT
TZOFFSETFROM:-0800
TZOFFSETTO:-0700
TZNAME:PDT
DTSTART:20250309T100000
END:DAYLIGHT
BEGIN:STANDARD
TZOFFSETFROM:-0700
TZOFFSETTO:-0800
TZNAME:PST
DTSTART:20251102T090000
END:STANDARD
BEGIN:DAYLIGHT
TZOFFSETFROM:-0800
TZOFFSETTO:-0700
TZNAME:PDT
DTSTART:20260308T100000
END:DAYLIGHT
BEGIN:STANDARD
TZOFFSETFROM:-0700
TZOFFSETTO:-0800
TZNAME:PST
DTSTART:20261101T090000
END:STANDARD
END:VTIMEZONE
BEGIN:VTIMEZONE
TZID:UTC
BEGIN:STANDARD
TZOFFSETFROM:+0000
TZOFFSETTO:+0000
TZNAME:UTC
DTSTART:20240101T000000
END:STANDARD
END:VTIMEZONE
BEGIN:VEVENT
DTSTART;TZID=America/Los_Angeles:20250325T180000
DTEND;TZID=America/Los_Angeles:20250325T200000
DTSTAMP:20260425T074608
CREATED:20250123T034605Z
LAST-MODIFIED:20250209T195251Z
UID:1107-1742925600-1742932800@valleybaptistchurchnorthidaho.com
SUMMARY:Refine
DESCRIPTION:Refine is our weekly young adult Bible study for those ages 18 – 29.
URL:https://valleybaptistchurchnorthidaho.com/event/refine-46/
LOCATION:Valley Baptist Church
ATTACH;FMTTYPE=image/png:https://valleybaptistchurchnorthidaho.com/wp-content/uploads/2025/01/Refine-No-Book.png
END:VEVENT
BEGIN:VEVENT
DTSTART;TZID=America/Los_Angeles:20250324T173000
DTEND;TZID=America/Los_Angeles:20250324T200000
DTSTAMP:20260425T074608
CREATED:20250123T055644Z
LAST-MODIFIED:20250211T162325Z
UID:1195-1742837400-1742846400@valleybaptistchurchnorthidaho.com
SUMMARY:Daughters of the King
DESCRIPTION:Daughters of the King is a ministry group that desires to disciple and encourage teen girls. We meet once a week\, on Thursday evening\, for a Biblical lesson and an activity. The activities range from crafting\, hiking\, baking\, learning life skills\, serving the church or community\,… even playing airsoft. Moms are encouraged to come and participate. Have little ones? No problem\, you can bring them with you! \n 
URL:https://valleybaptistchurchnorthidaho.com/event/daughters-of-the-king-18/
LOCATION:Valley Baptist Church
ATTACH;FMTTYPE=image/png:https://valleybaptistchurchnorthidaho.com/wp-content/uploads/2024/09/Daughters-of-the-King.png
END:VEVENT
BEGIN:VEVENT
DTSTART;TZID=America/Los_Angeles:20250324T173000
DTEND;TZID=America/Los_Angeles:20250324T200000
DTSTAMP:20260425T074608
CREATED:20250123T053126Z
LAST-MODIFIED:20250211T161904Z
UID:1161-1742837400-1742846400@valleybaptistchurchnorthidaho.com
SUMMARY:Father and Son
DESCRIPTION:The purpose of Father Son Ministry is: \nTo glorify God by raising our sons to know Jesus and be obedient to him.  \nTo encourage fathers in their walk with the Lord. \nTo teach our boys to be men that can take care of their families and are well-rounded. \nTo train fathers to be examples for their sons. \nTo create a community of godly men to go through life together.
URL:https://valleybaptistchurchnorthidaho.com/event/father-and-son-18/
LOCATION:Valley Baptist Church
ATTACH;FMTTYPE=image/png:https://valleybaptistchurchnorthidaho.com/wp-content/uploads/2024/10/Father-and-Son-Photo.png
END:VEVENT
BEGIN:VEVENT
DTSTART;TZID=America/Los_Angeles:20250323T101500
DTEND;TZID=America/Los_Angeles:20250323T104500
DTSTAMP:20260425T074608
CREATED:20250211T170309Z
LAST-MODIFIED:20250211T170309Z
UID:1335-1742724900-1742726700@valleybaptistchurchnorthidaho.com
SUMMARY:Sunday Morning Prayer
DESCRIPTION:We invite you to join us in a time of dedicated prayer each Sunday morning at 10:15 before the start of service. This is a wonderful time to come and both lay our worries at the foot of the throne and praise the Lord for the blessings we have been given. Hope to see you there!
URL:https://valleybaptistchurchnorthidaho.com/event/sunday-morning-prayer-9/
LOCATION:Valley Baptist Church
ATTACH;FMTTYPE=image/png:https://valleybaptistchurchnorthidaho.com/wp-content/uploads/2025/02/Sunday-Morning-Prayer.png
END:VEVENT
BEGIN:VEVENT
DTSTART;TZID=America/Los_Angeles:20250322T140000
DTEND;TZID=America/Los_Angeles:20250322T160000
DTSTAMP:20260425T074608
CREATED:20250211T173140Z
LAST-MODIFIED:20250211T173140Z
UID:1372-1742652000-1742659200@valleybaptistchurchnorthidaho.com
SUMMARY:Ladies Tea
DESCRIPTION:Its tea time! We invite you to join us for our regular Ladies Tea. A wonderful time of fellowship for ladies young and old. We hope you will join us for what is sure to be a sweet\, sweet time.
URL:https://valleybaptistchurchnorthidaho.com/event/ladies-tea/
LOCATION:Valley Baptist Church
ATTACH;FMTTYPE=image/png:https://valleybaptistchurchnorthidaho.com/wp-content/uploads/2025/02/Ladies-Tea-No-Date.png
END:VEVENT
BEGIN:VEVENT
DTSTART;TZID=America/Los_Angeles:20250318T180000
DTEND;TZID=America/Los_Angeles:20250318T200000
DTSTAMP:20260425T074608
CREATED:20250123T034549Z
LAST-MODIFIED:20250209T195237Z
UID:1106-1742320800-1742328000@valleybaptistchurchnorthidaho.com
SUMMARY:Refine
DESCRIPTION:Refine is our weekly young adult Bible study for those ages 18 – 29.
URL:https://valleybaptistchurchnorthidaho.com/event/refine-45/
LOCATION:Valley Baptist Church
ATTACH;FMTTYPE=image/png:https://valleybaptistchurchnorthidaho.com/wp-content/uploads/2025/01/Refine-No-Book.png
END:VEVENT
BEGIN:VEVENT
DTSTART;TZID=America/Los_Angeles:20250317T173000
DTEND;TZID=America/Los_Angeles:20250317T200000
DTSTAMP:20260425T074608
CREATED:20250123T052606Z
LAST-MODIFIED:20250211T161854Z
UID:1096-1742232600-1742241600@valleybaptistchurchnorthidaho.com
SUMMARY:Father and Son
DESCRIPTION:The purpose of Father Son Ministry is: \nTo glorify God by raising our sons to know Jesus and be obedient to him.  \nTo encourage fathers in their walk with the Lord. \nTo teach our boys to be men that can take care of their families and are well-rounded. \nTo train fathers to be examples for their sons. \nTo create a community of godly men to go through life together.
URL:https://valleybaptistchurchnorthidaho.com/event/father-and-son-17/
LOCATION:Valley Baptist Church
ATTACH;FMTTYPE=image/png:https://valleybaptistchurchnorthidaho.com/wp-content/uploads/2024/10/Father-and-Son-Photo.png
END:VEVENT
BEGIN:VEVENT
DTSTART;TZID=America/Los_Angeles:20250316T101500
DTEND;TZID=America/Los_Angeles:20250316T104500
DTSTAMP:20260425T074608
CREATED:20250211T170318Z
LAST-MODIFIED:20250211T170318Z
UID:1334-1742120100-1742121900@valleybaptistchurchnorthidaho.com
SUMMARY:Sunday Morning Prayer
DESCRIPTION:We invite you to join us in a time of dedicated prayer each Sunday morning at 10:15 before the start of service. This is a wonderful time to come and both lay our worries at the foot of the throne and praise the Lord for the blessings we have been given. Hope to see you there!
URL:https://valleybaptistchurchnorthidaho.com/event/sunday-morning-prayer-10/
LOCATION:Valley Baptist Church
ATTACH;FMTTYPE=image/png:https://valleybaptistchurchnorthidaho.com/wp-content/uploads/2025/02/Sunday-Morning-Prayer.png
END:VEVENT
BEGIN:VEVENT
DTSTART;TZID=UTC:20250313T173000
DTEND;TZID=UTC:20250313T200000
DTSTAMP:20260425T074608
CREATED:20250123T061608Z
LAST-MODIFIED:20250123T061608Z
UID:1215-1741887000-1741896000@valleybaptistchurchnorthidaho.com
SUMMARY:Thrive
DESCRIPTION:Thrive welcomes youth ages 10-18 who are in the pursuit of fun\, friendship\, and foremost\, a relationship with Christ.
URL:https://valleybaptistchurchnorthidaho.com/event/thrive-26/
ATTACH;FMTTYPE=image/png:https://valleybaptistchurchnorthidaho.com/wp-content/uploads/2023/12/Thrive-This-Week.png
END:VEVENT
BEGIN:VEVENT
DTSTART;TZID=America/Los_Angeles:20250311T180000
DTEND;TZID=America/Los_Angeles:20250311T200000
DTSTAMP:20260425T074608
CREATED:20250123T034530Z
LAST-MODIFIED:20250209T195219Z
UID:1105-1741716000-1741723200@valleybaptistchurchnorthidaho.com
SUMMARY:Refine
DESCRIPTION:Refine is our weekly young adult Bible study for those ages 18 – 29.
URL:https://valleybaptistchurchnorthidaho.com/event/refine-44/
LOCATION:Valley Baptist Church
ATTACH;FMTTYPE=image/png:https://valleybaptistchurchnorthidaho.com/wp-content/uploads/2025/01/Refine-No-Book.png
END:VEVENT
BEGIN:VEVENT
DTSTART;TZID=America/Los_Angeles:20250310T173000
DTEND;TZID=America/Los_Angeles:20250310T200000
DTSTAMP:20260425T074608
CREATED:20250123T055632Z
LAST-MODIFIED:20250211T162318Z
UID:1194-1741627800-1741636800@valleybaptistchurchnorthidaho.com
SUMMARY:Daughters of the King
DESCRIPTION:Daughters of the King is a ministry group that desires to disciple and encourage teen girls. We meet once a week\, on Thursday evening\, for a Biblical lesson and an activity. The activities range from crafting\, hiking\, baking\, learning life skills\, serving the church or community\,… even playing airsoft. Moms are encouraged to come and participate. Have little ones? No problem\, you can bring them with you! \n 
URL:https://valleybaptistchurchnorthidaho.com/event/daughters-of-the-king-17/
LOCATION:Valley Baptist Church
ATTACH;FMTTYPE=image/png:https://valleybaptistchurchnorthidaho.com/wp-content/uploads/2024/09/Daughters-of-the-King.png
END:VEVENT
BEGIN:VEVENT
DTSTART;TZID=America/Los_Angeles:20250310T173000
DTEND;TZID=America/Los_Angeles:20250310T200000
DTSTAMP:20260425T074608
CREATED:20250123T052545Z
LAST-MODIFIED:20250211T161832Z
UID:1095-1741627800-1741636800@valleybaptistchurchnorthidaho.com
SUMMARY:Father and Son
DESCRIPTION:The purpose of Father Son Ministry is: \nTo glorify God by raising our sons to know Jesus and be obedient to him.  \nTo encourage fathers in their walk with the Lord. \nTo teach our boys to be men that can take care of their families and are well-rounded. \nTo train fathers to be examples for their sons. \nTo create a community of godly men to go through life together.
URL:https://valleybaptistchurchnorthidaho.com/event/father-and-son-16/
LOCATION:Valley Baptist Church
ATTACH;FMTTYPE=image/png:https://valleybaptistchurchnorthidaho.com/wp-content/uploads/2024/10/Father-and-Son-Photo.png
END:VEVENT
BEGIN:VEVENT
DTSTART;TZID=America/Los_Angeles:20250309T180000
DTEND;TZID=America/Los_Angeles:20250309T200000
DTSTAMP:20260425T074608
CREATED:20250206T060207Z
LAST-MODIFIED:20250209T201142Z
UID:1247-1741543200-1741550400@valleybaptistchurchnorthidaho.com
SUMMARY:Love and Respect
DESCRIPTION:Love and respect are two fundamental aspects of relationships that contribute to their strength and quality. In the context of marriage\, the Love and Respect system emphasizes the importance of both love and respect in addressing and resolving conflicts.  \nOur current 6 week session is designed specifically for both newlyweds and singles.
URL:https://valleybaptistchurchnorthidaho.com/event/love-and-respect-7/
LOCATION:Valley Baptist Church
ATTACH;FMTTYPE=image/png:https://valleybaptistchurchnorthidaho.com/wp-content/uploads/2024/03/Love-and-Respect-2024-1.png
END:VEVENT
BEGIN:VEVENT
DTSTART;TZID=America/Los_Angeles:20250309T101500
DTEND;TZID=America/Los_Angeles:20250309T104500
DTSTAMP:20260425T074608
CREATED:20250211T170321Z
LAST-MODIFIED:20250211T170321Z
UID:1333-1741515300-1741517100@valleybaptistchurchnorthidaho.com
SUMMARY:Sunday Morning Prayer
DESCRIPTION:We invite you to join us in a time of dedicated prayer each Sunday morning at 10:15 before the start of service. This is a wonderful time to come and both lay our worries at the foot of the throne and praise the Lord for the blessings we have been given. Hope to see you there!
URL:https://valleybaptistchurchnorthidaho.com/event/sunday-morning-prayer-11/
LOCATION:Valley Baptist Church
ATTACH;FMTTYPE=image/png:https://valleybaptistchurchnorthidaho.com/wp-content/uploads/2025/02/Sunday-Morning-Prayer.png
END:VEVENT
BEGIN:VEVENT
DTSTART;TZID=America/Los_Angeles:20250309T000000
DTEND;TZID=America/Los_Angeles:20250309T235959
DTSTAMP:20260425T074608
CREATED:20250211T172542Z
LAST-MODIFIED:20250211T172542Z
UID:1369-1741478400-1741564799@valleybaptistchurchnorthidaho.com
SUMMARY:Daylight Savings -  Spring Ahead
DESCRIPTION:Don’t forget to change those clocks! Spring is here!
URL:https://valleybaptistchurchnorthidaho.com/event/daylight-savings-spring-ahead/
ATTACH;FMTTYPE=image/png:https://valleybaptistchurchnorthidaho.com/wp-content/uploads/2025/02/Spring-Ahead.png
END:VEVENT
BEGIN:VEVENT
DTSTART;TZID=America/Los_Angeles:20250304T180000
DTEND;TZID=America/Los_Angeles:20250304T200000
DTSTAMP:20260425T074608
CREATED:20250123T034509Z
LAST-MODIFIED:20250209T195206Z
UID:1104-1741111200-1741118400@valleybaptistchurchnorthidaho.com
SUMMARY:Refine
DESCRIPTION:Refine is our weekly young adult Bible study for those ages 18 – 29.
URL:https://valleybaptistchurchnorthidaho.com/event/refine-43/
LOCATION:Valley Baptist Church
ATTACH;FMTTYPE=image/png:https://valleybaptistchurchnorthidaho.com/wp-content/uploads/2025/01/Refine-No-Book.png
END:VEVENT
BEGIN:VEVENT
DTSTART;TZID=America/Los_Angeles:20250303T173000
DTEND;TZID=America/Los_Angeles:20250303T200000
DTSTAMP:20260425T074608
CREATED:20250123T052526Z
LAST-MODIFIED:20250211T161823Z
UID:1094-1741023000-1741032000@valleybaptistchurchnorthidaho.com
SUMMARY:Father and Son
DESCRIPTION:The purpose of Father Son Ministry is: \nTo glorify God by raising our sons to know Jesus and be obedient to him.  \nTo encourage fathers in their walk with the Lord. \nTo teach our boys to be men that can take care of their families and are well-rounded. \nTo train fathers to be examples for their sons. \nTo create a community of godly men to go through life together.
URL:https://valleybaptistchurchnorthidaho.com/event/father-and-son-15/
LOCATION:Valley Baptist Church
ATTACH;FMTTYPE=image/png:https://valleybaptistchurchnorthidaho.com/wp-content/uploads/2024/10/Father-and-Son-Photo.png
END:VEVENT
BEGIN:VEVENT
DTSTART;TZID=America/Los_Angeles:20250302T180000
DTEND;TZID=America/Los_Angeles:20250302T200000
DTSTAMP:20260425T074608
CREATED:20250206T060135Z
LAST-MODIFIED:20250209T201133Z
UID:1244-1740938400-1740945600@valleybaptistchurchnorthidaho.com
SUMMARY:Love and Respect
DESCRIPTION:Love and respect are two fundamental aspects of relationships that contribute to their strength and quality. In the context of marriage\, the Love and Respect system emphasizes the importance of both love and respect in addressing and resolving conflicts.  \nOur current 6 week session is designed specifically for both newlyweds and singles.
URL:https://valleybaptistchurchnorthidaho.com/event/love-and-respect-6/
LOCATION:Valley Baptist Church
ATTACH;FMTTYPE=image/png:https://valleybaptistchurchnorthidaho.com/wp-content/uploads/2024/03/Love-and-Respect-2024-1.png
END:VEVENT
BEGIN:VEVENT
DTSTART;TZID=America/Los_Angeles:20250302T110000
DTEND;TZID=America/Los_Angeles:20250302T143000
DTSTAMP:20260425T074608
CREATED:20250206T062435Z
LAST-MODIFIED:20250209T202135Z
UID:1260-1740913200-1740925800@valleybaptistchurchnorthidaho.com
SUMMARY:Sunday Morning Potluck
DESCRIPTION:Join us for our monthly after service potluck! Please bring a main dish\, side dish\, or dessert to share. We can’t wait to fellowship with you!
URL:https://valleybaptistchurchnorthidaho.com/event/sunday-morning-potluck-5/
LOCATION:Valley Baptist Church
ATTACH;FMTTYPE=image/png:https://valleybaptistchurchnorthidaho.com/wp-content/uploads/2024/07/Potluck-Today.png
END:VEVENT
BEGIN:VEVENT
DTSTART;TZID=America/Los_Angeles:20250302T101500
DTEND;TZID=America/Los_Angeles:20250302T104500
DTSTAMP:20260425T074608
CREATED:20250211T170250Z
LAST-MODIFIED:20250211T170250Z
UID:1332-1740910500-1740912300@valleybaptistchurchnorthidaho.com
SUMMARY:Sunday Morning Prayer
DESCRIPTION:We invite you to join us in a time of dedicated prayer each Sunday morning at 10:15 before the start of service. This is a wonderful time to come and both lay our worries at the foot of the throne and praise the Lord for the blessings we have been given. Hope to see you there!
URL:https://valleybaptistchurchnorthidaho.com/event/sunday-morning-prayer-3/
LOCATION:Valley Baptist Church
ATTACH;FMTTYPE=image/png:https://valleybaptistchurchnorthidaho.com/wp-content/uploads/2025/02/Sunday-Morning-Prayer.png
END:VEVENT
BEGIN:VEVENT
DTSTART;TZID=UTC:20250227T173000
DTEND;TZID=UTC:20250227T200000
DTSTAMP:20260425T074608
CREATED:20250123T061600Z
LAST-MODIFIED:20250123T061600Z
UID:1214-1740677400-1740686400@valleybaptistchurchnorthidaho.com
SUMMARY:Thrive
DESCRIPTION:Thrive welcomes youth ages 10-18 who are in the pursuit of fun\, friendship\, and foremost\, a relationship with Christ.
URL:https://valleybaptistchurchnorthidaho.com/event/thrive-25/
LOCATION:Valley Baptist Church
ATTACH;FMTTYPE=image/png:https://valleybaptistchurchnorthidaho.com/wp-content/uploads/2023/12/Thrive-This-Week.png
END:VEVENT
BEGIN:VEVENT
DTSTART;TZID=America/Los_Angeles:20250225T180000
DTEND;TZID=America/Los_Angeles:20250225T200000
DTSTAMP:20260425T074608
CREATED:20250123T034448Z
LAST-MODIFIED:20250209T195155Z
UID:1103-1740506400-1740513600@valleybaptistchurchnorthidaho.com
SUMMARY:Refine
DESCRIPTION:Refine is our weekly young adult Bible study for those ages 18 – 29.
URL:https://valleybaptistchurchnorthidaho.com/event/refine-42/
LOCATION:Valley Baptist Church
ATTACH;FMTTYPE=image/png:https://valleybaptistchurchnorthidaho.com/wp-content/uploads/2025/01/Refine-No-Book.png
END:VEVENT
BEGIN:VEVENT
DTSTART;TZID=America/Los_Angeles:20250224T173000
DTEND;TZID=America/Los_Angeles:20250224T200000
DTSTAMP:20260425T074608
CREATED:20250123T055620Z
LAST-MODIFIED:20250211T162308Z
UID:1193-1740418200-1740427200@valleybaptistchurchnorthidaho.com
SUMMARY:Daughters of the King - Bunco Night
DESCRIPTION:Daughters of the King is hosting another Bunco Night! All ladies\, young and old\, regardless off if you are a regular DoK attender are invited! We look forward to seeing you there for a fun night of fellowship and games!
URL:https://valleybaptistchurchnorthidaho.com/event/daughters-of-the-king-16/
LOCATION:Valley Baptist Church
ATTACH;FMTTYPE=image/png:https://valleybaptistchurchnorthidaho.com/wp-content/uploads/2025/01/Bunco-Night-February.png
END:VEVENT
BEGIN:VEVENT
DTSTART;TZID=America/Los_Angeles:20250224T173000
DTEND;TZID=America/Los_Angeles:20250224T200000
DTSTAMP:20260425T074608
CREATED:20250123T052507Z
LAST-MODIFIED:20250211T161815Z
UID:1093-1740418200-1740427200@valleybaptistchurchnorthidaho.com
SUMMARY:Father and Son
DESCRIPTION:The purpose of Father Son Ministry is: \nTo glorify God by raising our sons to know Jesus and be obedient to him.  \nTo encourage fathers in their walk with the Lord. \nTo teach our boys to be men that can take care of their families and are well-rounded. \nTo train fathers to be examples for their sons. \nTo create a community of godly men to go through life together.
URL:https://valleybaptistchurchnorthidaho.com/event/father-and-son-14/
LOCATION:Valley Baptist Church
ATTACH;FMTTYPE=image/png:https://valleybaptistchurchnorthidaho.com/wp-content/uploads/2024/10/Father-and-Son-Photo.png
END:VEVENT
BEGIN:VEVENT
DTSTART;TZID=America/Los_Angeles:20250223T180000
DTEND;TZID=America/Los_Angeles:20250223T200000
DTSTAMP:20260425T074608
CREATED:20250206T055959Z
LAST-MODIFIED:20250209T201129Z
UID:1243-1740333600-1740340800@valleybaptistchurchnorthidaho.com
SUMMARY:Love and Respect
DESCRIPTION:Love and respect are two fundamental aspects of relationships that contribute to their strength and quality. In the context of marriage\, the Love and Respect system emphasizes the importance of both love and respect in addressing and resolving conflicts.  \nOur current 6 week session is designed specifically for both newlyweds and singles.
URL:https://valleybaptistchurchnorthidaho.com/event/love-and-respect-5/
LOCATION:Valley Baptist Church
ATTACH;FMTTYPE=image/png:https://valleybaptistchurchnorthidaho.com/wp-content/uploads/2024/03/Love-and-Respect-2024-1.png
END:VEVENT
BEGIN:VEVENT
DTSTART;TZID=America/Los_Angeles:20250223T101500
DTEND;TZID=America/Los_Angeles:20250223T104500
DTSTAMP:20260425T074608
CREATED:20250211T170248Z
LAST-MODIFIED:20250211T170248Z
UID:1331-1740305700-1740307500@valleybaptistchurchnorthidaho.com
SUMMARY:Sunday Morning Prayer
DESCRIPTION:We invite you to join us in a time of dedicated prayer each Sunday morning at 10:15 before the start of service. This is a wonderful time to come and both lay our worries at the foot of the throne and praise the Lord for the blessings we have been given. Hope to see you there!
URL:https://valleybaptistchurchnorthidaho.com/event/sunday-morning-prayer-2/
LOCATION:Valley Baptist Church
ATTACH;FMTTYPE=image/png:https://valleybaptistchurchnorthidaho.com/wp-content/uploads/2025/02/Sunday-Morning-Prayer.png
END:VEVENT
BEGIN:VEVENT
DTSTART;TZID=America/Los_Angeles:20250222T070000
DTEND;TZID=America/Los_Angeles:20250222T090000
DTSTAMP:20260425T074608
CREATED:20250206T064905Z
LAST-MODIFIED:20250209T201244Z
UID:1283-1740207600-1740214800@valleybaptistchurchnorthidaho.com
SUMMARY:The Forge
DESCRIPTION:Join us at the church for The Forge (formerly our Men’s Summit Breakfast). Discuss Challenges we face today as Christian fathers\, husbands and leaders. We will study Gods word as “iron sharpens iron”. See you there!
URL:https://valleybaptistchurchnorthidaho.com/event/the-forge-5/
LOCATION:Valley Baptist Church
ATTACH;FMTTYPE=image/png:https://valleybaptistchurchnorthidaho.com/wp-content/uploads/2025/02/The-Forge-No-Date.png
END:VEVENT
BEGIN:VEVENT
DTSTART;TZID=America/Los_Angeles:20250218T180000
DTEND;TZID=America/Los_Angeles:20250218T200000
DTSTAMP:20260425T074608
CREATED:20250123T034322Z
LAST-MODIFIED:20250209T195143Z
UID:1102-1739901600-1739908800@valleybaptistchurchnorthidaho.com
SUMMARY:Refine
DESCRIPTION:Refine is our weekly young adult Bible study for those ages 18 – 29.
URL:https://valleybaptistchurchnorthidaho.com/event/refine-40/
LOCATION:Valley Baptist Church
ATTACH;FMTTYPE=image/png:https://valleybaptistchurchnorthidaho.com/wp-content/uploads/2025/01/Refine-No-Book.png
END:VEVENT
BEGIN:VEVENT
DTSTART;TZID=America/Los_Angeles:20250217T173000
DTEND;TZID=America/Los_Angeles:20250217T200000
DTSTAMP:20260425T074608
CREATED:20250123T052409Z
LAST-MODIFIED:20250211T161805Z
UID:1092-1739813400-1739822400@valleybaptistchurchnorthidaho.com
SUMMARY:Father and Son
DESCRIPTION:The purpose of Father Son Ministry is: \nTo glorify God by raising our sons to know Jesus and be obedient to him.  \nTo encourage fathers in their walk with the Lord. \nTo teach our boys to be men that can take care of their families and are well-rounded. \nTo train fathers to be examples for their sons. \nTo create a community of godly men to go through life together.
URL:https://valleybaptistchurchnorthidaho.com/event/father-and-son-13/
LOCATION:Valley Baptist Church
ATTACH;FMTTYPE=image/png:https://valleybaptistchurchnorthidaho.com/wp-content/uploads/2024/10/Father-and-Son-Photo.png
END:VEVENT
BEGIN:VEVENT
DTSTART;TZID=America/Los_Angeles:20250216T180000
DTEND;TZID=America/Los_Angeles:20250216T200000
DTSTAMP:20260425T074608
CREATED:20250206T055929Z
LAST-MODIFIED:20250209T201113Z
UID:1242-1739728800-1739736000@valleybaptistchurchnorthidaho.com
SUMMARY:Love and Respect
DESCRIPTION:Love and respect are two fundamental aspects of relationships that contribute to their strength and quality. In the context of marriage\, the Love and Respect system emphasizes the importance of both love and respect in addressing and resolving conflicts.  \nOur current 6 week session is designed specifically for both newlyweds and singles.
URL:https://valleybaptistchurchnorthidaho.com/event/love-and-respect-4/
LOCATION:Valley Baptist Church
ATTACH;FMTTYPE=image/png:https://valleybaptistchurchnorthidaho.com/wp-content/uploads/2024/03/Love-and-Respect-2024-1.png
END:VEVENT
END:VCALENDAR