BEGIN:VCALENDAR
VERSION:2.0
PRODID:-//Valley Baptist Church - ECPv6.15.20//NONSGML v1.0//EN
CALSCALE:GREGORIAN
METHOD:PUBLISH
X-WR-CALNAME:Valley Baptist Church
X-ORIGINAL-URL:https://valleybaptistchurchnorthidaho.com
X-WR-CALDESC:Events for Valley Baptist Church
REFRESH-INTERVAL;VALUE=DURATION:PT1H
X-Robots-Tag:noindex
X-PUBLISHED-TTL:PT1H
BEGIN:VTIMEZONE
TZID:UTC
BEGIN:STANDARD
TZOFFSETFROM:+0000
TZOFFSETTO:+0000
TZNAME:UTC
DTSTART:20230101T000000
END:STANDARD
END:VTIMEZONE
BEGIN:VEVENT
DTSTART;TZID=UTC:20240620T173000
DTEND;TZID=UTC:20240620T200000
DTSTAMP:20260425T062312
CREATED:20240405T100730Z
LAST-MODIFIED:20240405T100730Z
UID:645-1718904600-1718913600@valleybaptistchurchnorthidaho.com
SUMMARY:Daughters of the King & Father Son
DESCRIPTION:Father & Son and Daughters of the King encourage men and women\, and their children respectively to come and participate as we seek to train them up in the way they should go through teaching and activities.
URL:https://valleybaptistchurchnorthidaho.com/event/daughters-of-the-king-father-son-6/
LOCATION:Valley Baptist Church
ATTACH;FMTTYPE=image/png:https://valleybaptistchurchnorthidaho.com/wp-content/uploads/2024/03/FSDOK.png
END:VEVENT
BEGIN:VEVENT
DTSTART;TZID=UTC:20240618T180000
DTEND;TZID=UTC:20240618T210000
DTSTAMP:20260425T062312
CREATED:20240425T103344Z
LAST-MODIFIED:20240425T103344Z
UID:719-1718733600-1718744400@valleybaptistchurchnorthidaho.com
SUMMARY:Refine
DESCRIPTION:Refine is our weekly young adult Bible study for those ages 18 – 29. Currently working through the Gospel of John.
URL:https://valleybaptistchurchnorthidaho.com/event/refine-13/
LOCATION:Valley Baptist Church
ATTACH;FMTTYPE=image/png:https://valleybaptistchurchnorthidaho.com/wp-content/uploads/2024/03/Refine.png
END:VEVENT
BEGIN:VEVENT
DTSTART;TZID=UTC:20240613T173000
DTEND;TZID=UTC:20240613T200000
DTSTAMP:20260425T062312
CREATED:20240425T103620Z
LAST-MODIFIED:20240425T103620Z
UID:723-1718299800-1718308800@valleybaptistchurchnorthidaho.com
SUMMARY:Thrive
DESCRIPTION:Thrive welcomes youth ages 10-18 who are in the pursuit of fun\, friendship\, and foremost\, a relationship with Christ.
URL:https://valleybaptistchurchnorthidaho.com/event/thrive-12/
LOCATION:Valley Baptist Church
ATTACH;FMTTYPE=image/png:https://valleybaptistchurchnorthidaho.com/wp-content/uploads/2023/12/Thrive-This-Week.png
END:VEVENT
BEGIN:VEVENT
DTSTART;TZID=UTC:20240612T000000
DTEND;TZID=UTC:20240614T235959
DTSTAMP:20260425T062312
CREATED:20240320T225747Z
LAST-MODIFIED:20240321T225619Z
UID:475-1718150400-1718409599@valleybaptistchurchnorthidaho.com
SUMMARY:Annual Father and Son Hike
DESCRIPTION:This is your official invite to get in touch with Gods wonderful creation during our annual Father an Son Hike. Bring your gear and sense of adventure and prepare for a fantastic time of some forest and fellowship.
URL:https://valleybaptistchurchnorthidaho.com/event/annual-father-and-son-hike/
CATEGORIES:Events
ATTACH;FMTTYPE=image/png:https://valleybaptistchurchnorthidaho.com/wp-content/uploads/2024/03/Father-and-Son-Camp.png
END:VEVENT
BEGIN:VEVENT
DTSTART;TZID=UTC:20240611T180000
DTEND;TZID=UTC:20240611T210000
DTSTAMP:20260425T062312
CREATED:20240425T103248Z
LAST-MODIFIED:20240425T103248Z
UID:717-1718128800-1718139600@valleybaptistchurchnorthidaho.com
SUMMARY:Refine
DESCRIPTION:Refine is our weekly young adult Bible study for those ages 18 – 29. Currently working through the Gospel of John.
URL:https://valleybaptistchurchnorthidaho.com/event/refine-12/
LOCATION:Valley Baptist Church
ATTACH;FMTTYPE=image/png:https://valleybaptistchurchnorthidaho.com/wp-content/uploads/2024/03/Refine.png
END:VEVENT
BEGIN:VEVENT
DTSTART;TZID=UTC:20240606T173000
DTEND;TZID=UTC:20240606T200000
DTSTAMP:20260425T062313
CREATED:20240405T100652Z
LAST-MODIFIED:20240405T100652Z
UID:644-1717695000-1717704000@valleybaptistchurchnorthidaho.com
SUMMARY:Daughters of the King & Father Son
DESCRIPTION:Father & Son and Daughters of the King encourage men and women\, and their children respectively to come and participate as we seek to train them up in the way they should go through teaching and activities.
URL:https://valleybaptistchurchnorthidaho.com/event/daughters-of-the-king-father-son-5/
LOCATION:Valley Baptist Church
ATTACH;FMTTYPE=image/png:https://valleybaptistchurchnorthidaho.com/wp-content/uploads/2024/03/FSDOK.png
END:VEVENT
BEGIN:VEVENT
DTSTART;TZID=UTC:20240604T180000
DTEND;TZID=UTC:20240604T210000
DTSTAMP:20260425T062313
CREATED:20240425T103138Z
LAST-MODIFIED:20240425T103138Z
UID:715-1717524000-1717534800@valleybaptistchurchnorthidaho.com
SUMMARY:Refine
DESCRIPTION:Refine is our weekly young adult Bible study for those ages 18 – 29. Currently working through the Gospel of John.
URL:https://valleybaptistchurchnorthidaho.com/event/refine-11/
LOCATION:Valley Baptist Church
ATTACH;FMTTYPE=image/png:https://valleybaptistchurchnorthidaho.com/wp-content/uploads/2024/03/Refine.png
END:VEVENT
BEGIN:VEVENT
DTSTART;TZID=UTC:20240530T173000
DTEND;TZID=UTC:20240530T200000
DTSTAMP:20260425T062313
CREATED:20240425T103018Z
LAST-MODIFIED:20240425T103018Z
UID:713-1717090200-1717099200@valleybaptistchurchnorthidaho.com
SUMMARY:Thrive
DESCRIPTION:Thrive welcomes youth ages 10-18 who are in the pursuit of fun\, friendship\, and foremost\, a relationship with Christ.
URL:https://valleybaptistchurchnorthidaho.com/event/thrive-11/
LOCATION:Valley Baptist Church
ATTACH;FMTTYPE=image/png:https://valleybaptistchurchnorthidaho.com/wp-content/uploads/2023/12/Thrive-This-Week.png
END:VEVENT
BEGIN:VEVENT
DTSTART;TZID=UTC:20240528T180000
DTEND;TZID=UTC:20240528T210000
DTSTAMP:20260425T062313
CREATED:20240425T102924Z
LAST-MODIFIED:20240425T102924Z
UID:711-1716919200-1716930000@valleybaptistchurchnorthidaho.com
SUMMARY:Refine
DESCRIPTION:Refine is our weekly young adult Bible study for those ages 18 – 29. Currently working through the Gospel of John.
URL:https://valleybaptistchurchnorthidaho.com/event/refine-10/
LOCATION:Valley Baptist Church
ATTACH;FMTTYPE=image/png:https://valleybaptistchurchnorthidaho.com/wp-content/uploads/2024/03/Refine.png
END:VEVENT
BEGIN:VEVENT
DTSTART;TZID=UTC:20240525T070000
DTEND;TZID=UTC:20240525T090000
DTSTAMP:20260425T062313
CREATED:20240425T102823Z
LAST-MODIFIED:20240425T102823Z
UID:709-1716620400-1716627600@valleybaptistchurchnorthidaho.com
SUMMARY:Men's Breakfast Summit
DESCRIPTION:Join us at the church for the Men’s Summit Breakfast. Discuss Challenges we face today as Christian fathers\, husbands and leaders. We will study Gods word as “iron sharpens iron”. See you there!
URL:https://valleybaptistchurchnorthidaho.com/event/mens-breakfast-summit-3/
LOCATION:Valley Baptist Church
ATTACH;FMTTYPE=image/png:https://valleybaptistchurchnorthidaho.com/wp-content/uploads/2024/03/Breakfast-Summit.png
END:VEVENT
BEGIN:VEVENT
DTSTART;TZID=UTC:20240523T173000
DTEND;TZID=UTC:20240523T200000
DTSTAMP:20260425T062313
CREATED:20240405T100616Z
LAST-MODIFIED:20240405T100616Z
UID:643-1716485400-1716494400@valleybaptistchurchnorthidaho.com
SUMMARY:Daughters of the King & Father Son
DESCRIPTION:Father & Son and Daughters of the King encourage men and women\, and their children respectively to come and participate as we seek to train them up in the way they should go through teaching and activities.
URL:https://valleybaptistchurchnorthidaho.com/event/daughters-of-the-king-father-son-4/
LOCATION:Valley Baptist Church
ATTACH;FMTTYPE=image/png:https://valleybaptistchurchnorthidaho.com/wp-content/uploads/2024/03/FSDOK.png
END:VEVENT
BEGIN:VEVENT
DTSTART;TZID=UTC:20240521T180000
DTEND;TZID=UTC:20240521T210000
DTSTAMP:20260425T062313
CREATED:20240425T093141Z
LAST-MODIFIED:20240425T093141Z
UID:702-1716314400-1716325200@valleybaptistchurchnorthidaho.com
SUMMARY:Refine
DESCRIPTION:Refine is our weekly young adult Bible study for those ages 18 – 29. Currently working through the Gospel of John.
URL:https://valleybaptistchurchnorthidaho.com/event/refine-8/
LOCATION:Valley Baptist Church
ATTACH;FMTTYPE=image/png:https://valleybaptistchurchnorthidaho.com/wp-content/uploads/2024/03/Refine.png
END:VEVENT
BEGIN:VEVENT
DTSTART;TZID=UTC:20240516T173000
DTEND;TZID=UTC:20240516T200000
DTSTAMP:20260425T062313
CREATED:20240425T095128Z
LAST-MODIFIED:20240425T095128Z
UID:707-1715880600-1715889600@valleybaptistchurchnorthidaho.com
SUMMARY:Thrive
DESCRIPTION:Thrive welcomes youth ages 10-18 who are in the pursuit of fun\, friendship\, and foremost\, a relationship with Christ.
URL:https://valleybaptistchurchnorthidaho.com/event/thrive-10/
LOCATION:Valley Baptist Church
ATTACH;FMTTYPE=image/png:https://valleybaptistchurchnorthidaho.com/wp-content/uploads/2023/12/Thrive-This-Week.png
END:VEVENT
BEGIN:VEVENT
DTSTART;TZID=UTC:20240514T180000
DTEND;TZID=UTC:20240514T210000
DTSTAMP:20260425T062313
CREATED:20240425T093026Z
LAST-MODIFIED:20240425T093026Z
UID:700-1715709600-1715720400@valleybaptistchurchnorthidaho.com
SUMMARY:Refine
DESCRIPTION:Refine is our weekly young adult Bible study for those ages 18 – 29. Currently working through the Gospel of John.
URL:https://valleybaptistchurchnorthidaho.com/event/refine-7/
LOCATION:Valley Baptist Church
ATTACH;FMTTYPE=image/png:https://valleybaptistchurchnorthidaho.com/wp-content/uploads/2024/03/Refine.png
END:VEVENT
BEGIN:VEVENT
DTSTART;TZID=UTC:20240511T140000
DTEND;TZID=UTC:20240511T150000
DTSTAMP:20260425T062313
CREATED:20240322T014210Z
LAST-MODIFIED:20240322T014210Z
UID:570-1715436000-1715439600@valleybaptistchurchnorthidaho.com
SUMMARY:Homeschool Co-Op Graduation
DESCRIPTION:
URL:https://valleybaptistchurchnorthidaho.com/event/homeschool-co-op-graduation/
LOCATION:Valley Baptist Church
CATEGORIES:Events
ATTACH;FMTTYPE=image/png:https://valleybaptistchurchnorthidaho.com/wp-content/uploads/2024/03/Graduation.png
END:VEVENT
BEGIN:VEVENT
DTSTART;TZID=UTC:20240509T173000
DTEND;TZID=UTC:20240509T200000
DTSTAMP:20260425T062313
CREATED:20240405T100537Z
LAST-MODIFIED:20240405T100537Z
UID:642-1715275800-1715284800@valleybaptistchurchnorthidaho.com
SUMMARY:Daughters of the King & Father Son
DESCRIPTION:Father & Son and Daughters of the King encourage men and women\, and their children respectively to come and participate as we seek to train them up in the way they should go through teaching and activities.
URL:https://valleybaptistchurchnorthidaho.com/event/daughters-of-the-king-father-son-3/
LOCATION:Valley Baptist Church
ATTACH;FMTTYPE=image/png:https://valleybaptistchurchnorthidaho.com/wp-content/uploads/2024/03/FSDOK.png
END:VEVENT
BEGIN:VEVENT
DTSTART;TZID=UTC:20240507T180000
DTEND;TZID=UTC:20240507T210000
DTSTAMP:20260425T062313
CREATED:20240425T093249Z
LAST-MODIFIED:20240425T093249Z
UID:704-1715104800-1715115600@valleybaptistchurchnorthidaho.com
SUMMARY:Refine
DESCRIPTION:Refine is our weekly young adult Bible study for those ages 18 – 29. Currently working through the Gospel of John.
URL:https://valleybaptistchurchnorthidaho.com/event/refine-9/
LOCATION:Valley Baptist Church
ATTACH;FMTTYPE=image/png:https://valleybaptistchurchnorthidaho.com/wp-content/uploads/2024/03/Refine.png
END:VEVENT
BEGIN:VEVENT
DTSTART;TZID=UTC:20240502T173000
DTEND;TZID=UTC:20240502T200000
DTSTAMP:20260425T062313
CREATED:20240425T092845Z
LAST-MODIFIED:20240425T092855Z
UID:698-1714671000-1714680000@valleybaptistchurchnorthidaho.com
SUMMARY:Thrive
DESCRIPTION:Thrive welcomes youth ages 10-18 who are in the pursuit of fun\, friendship\, and foremost\, a relationship with Christ.
URL:https://valleybaptistchurchnorthidaho.com/event/thrive-9-2/
LOCATION:Valley Baptist Church
ATTACH;FMTTYPE=image/png:https://valleybaptistchurchnorthidaho.com/wp-content/uploads/2023/12/Thrive-This-Week.png
END:VEVENT
BEGIN:VEVENT
DTSTART;TZID=UTC:20240430T180000
DTEND;TZID=UTC:20240430T200000
DTSTAMP:20260425T062313
CREATED:20240321T223949Z
LAST-MODIFIED:20240321T230056Z
UID:506-1714500000-1714507200@valleybaptistchurchnorthidaho.com
SUMMARY:Refine
DESCRIPTION:Refine is our weekly young adult Bible study for those ages 18 – 29. Currently working through the Gospel of John.
URL:https://valleybaptistchurchnorthidaho.com/event/refine-6/
LOCATION:Valley Baptist Church
CATEGORIES:Groups
ATTACH;FMTTYPE=image/png:https://valleybaptistchurchnorthidaho.com/wp-content/uploads/2024/03/Refine.png
END:VEVENT
BEGIN:VEVENT
DTSTART;TZID=UTC:20240427T070000
DTEND;TZID=UTC:20240427T090000
DTSTAMP:20260425T062313
CREATED:20240321T232010Z
LAST-MODIFIED:20240321T232010Z
UID:552-1714201200-1714208400@valleybaptistchurchnorthidaho.com
SUMMARY:Men's Breakfast Summit
DESCRIPTION:Join us at the church for the Men’s Summit Breakfast. Discuss Challenges we face today as Christian fathers\, husbands and leaders. We will study Gods word as “iron sharpens iron”. See you there!
URL:https://valleybaptistchurchnorthidaho.com/event/mens-breakfast-summit-2/
LOCATION:Valley Baptist Church
CATEGORIES:Groups
END:VEVENT
BEGIN:VEVENT
DTSTART;TZID=UTC:20240425T173000
DTEND;TZID=UTC:20240425T200000
DTSTAMP:20260425T062313
CREATED:20240321T233208Z
LAST-MODIFIED:20240405T100317Z
UID:560-1714066200-1714075200@valleybaptistchurchnorthidaho.com
SUMMARY:Daughters of the King & Father Son
DESCRIPTION:Father & Son and Daughters of the King encourage men and women\, and their children respectively to come and participate as we seek to train them up in the way they should go through teaching and activities.
URL:https://valleybaptistchurchnorthidaho.com/event/daughters-of-the-king-father-soin/
LOCATION:Valley Baptist Church
CATEGORIES:Groups
ATTACH;FMTTYPE=image/png:https://valleybaptistchurchnorthidaho.com/wp-content/uploads/2024/03/FSDOK.png
END:VEVENT
BEGIN:VEVENT
DTSTART;TZID=UTC:20240423T180000
DTEND;TZID=UTC:20240423T200000
DTSTAMP:20260425T062313
CREATED:20240321T223752Z
LAST-MODIFIED:20240321T230103Z
UID:504-1713895200-1713902400@valleybaptistchurchnorthidaho.com
SUMMARY:Refine
DESCRIPTION:Refine is our weekly young adult Bible study for those ages 18 – 29. Currently working through the Gospel of John.
URL:https://valleybaptistchurchnorthidaho.com/event/refine-5/
LOCATION:Valley Baptist Church
CATEGORIES:Groups
ATTACH;FMTTYPE=image/png:https://valleybaptistchurchnorthidaho.com/wp-content/uploads/2024/03/Refine.png
END:VEVENT
BEGIN:VEVENT
DTSTART;TZID=UTC:20240418T173000
DTEND;TZID=UTC:20240418T200000
DTSTAMP:20260425T062313
CREATED:20240321T222453Z
LAST-MODIFIED:20240321T230109Z
UID:492-1713461400-1713470400@valleybaptistchurchnorthidaho.com
SUMMARY:Thrive
DESCRIPTION:Thrive welcomes youth ages 10-18 who are in the pursuit of fun\, friendship\, and foremost\, a relationship with Christ.
URL:https://valleybaptistchurchnorthidaho.com/event/thrive-9/
LOCATION:Valley Baptist Church
CATEGORIES:Groups
ATTACH;FMTTYPE=image/png:https://valleybaptistchurchnorthidaho.com/wp-content/uploads/2023/12/Thrive-This-Week.png
END:VEVENT
BEGIN:VEVENT
DTSTART;TZID=UTC:20240416T180000
DTEND;TZID=UTC:20240416T200000
DTSTAMP:20260425T062313
CREATED:20240321T223655Z
LAST-MODIFIED:20240321T230118Z
UID:502-1713290400-1713297600@valleybaptistchurchnorthidaho.com
SUMMARY:Refine
DESCRIPTION:Refine is our weekly young adult Bible study for those ages 18 – 29. Currently working through the Gospel of John.
URL:https://valleybaptistchurchnorthidaho.com/event/refine-4/
LOCATION:Valley Baptist Church
CATEGORIES:Groups
ATTACH;FMTTYPE=image/png:https://valleybaptistchurchnorthidaho.com/wp-content/uploads/2024/03/Refine.png
END:VEVENT
BEGIN:VEVENT
DTSTART;TZID=UTC:20240414T180000
DTEND;TZID=UTC:20240414T200000
DTSTAMP:20260425T062313
CREATED:20240321T230455Z
LAST-MODIFIED:20240321T230511Z
UID:543-1713117600-1713124800@valleybaptistchurchnorthidaho.com
SUMMARY:Love and Respect
DESCRIPTION:Part 6 of our 6 part series on Love and Respect. This is an excellent class helping husbands and wives understand the love she most desires and the respect he desperately needs.
URL:https://valleybaptistchurchnorthidaho.com/event/543/
LOCATION:Valley Baptist Church
CATEGORIES:Groups
ATTACH;FMTTYPE=image/png:https://valleybaptistchurchnorthidaho.com/wp-content/uploads/2024/03/Love-and-Respect-2024.png
END:VEVENT
BEGIN:VEVENT
DTSTART;TZID=UTC:20240411T173000
DTEND;TZID=UTC:20240411T200000
DTSTAMP:20260425T062313
CREATED:20240321T233000Z
LAST-MODIFIED:20240321T233000Z
UID:558-1712856600-1712865600@valleybaptistchurchnorthidaho.com
SUMMARY:Daughters of the King & Father Son
DESCRIPTION:Father & Son and Daughters of the King encourage men and women\, and their children respectively to come and participate as we seek to train them up in the way they should go through teaching and activities.
URL:https://valleybaptistchurchnorthidaho.com/event/daughters-of-the-king-father-son-2/
LOCATION:Valley Baptist Church
CATEGORIES:Groups
ATTACH;FMTTYPE=image/png:https://valleybaptistchurchnorthidaho.com/wp-content/uploads/2024/03/FSDOK.png
END:VEVENT
BEGIN:VEVENT
DTSTART;TZID=UTC:20240409T180000
DTEND;TZID=UTC:20240409T200000
DTSTAMP:20260425T062313
CREATED:20240321T223551Z
LAST-MODIFIED:20240321T230125Z
UID:500-1712685600-1712692800@valleybaptistchurchnorthidaho.com
SUMMARY:Refine
DESCRIPTION:Refine is our weekly young adult Bible study for those ages 18 – 29. Currently working through the Gospel of John.
URL:https://valleybaptistchurchnorthidaho.com/event/refine-3/
LOCATION:Valley Baptist Church
CATEGORIES:Groups
ATTACH;FMTTYPE=image/png:https://valleybaptistchurchnorthidaho.com/wp-content/uploads/2024/03/Refine.png
END:VEVENT
BEGIN:VEVENT
DTSTART;TZID=UTC:20240407T180000
DTEND;TZID=UTC:20240407T200000
DTSTAMP:20260425T062313
CREATED:20240321T230405Z
LAST-MODIFIED:20240321T230405Z
UID:541-1712512800-1712520000@valleybaptistchurchnorthidaho.com
SUMMARY:Love and Respect
DESCRIPTION:Part 5 of our 6 part series on Love and Respect. This is an excellent class helping husbands and wives understand the love she most desires and the respect he desperately needs.
URL:https://valleybaptistchurchnorthidaho.com/event/love-and-respect-2/
LOCATION:Valley Baptist Church
CATEGORIES:Groups
ATTACH;FMTTYPE=image/png:https://valleybaptistchurchnorthidaho.com/wp-content/uploads/2024/03/Love-and-Respect-2024.png
END:VEVENT
BEGIN:VEVENT
DTSTART;TZID=UTC:20240404T173000
DTEND;TZID=UTC:20240404T200000
DTSTAMP:20260425T062313
CREATED:20240321T222332Z
LAST-MODIFIED:20240321T230138Z
UID:490-1712251800-1712260800@valleybaptistchurchnorthidaho.com
SUMMARY:Thrive
DESCRIPTION:Thrive welcomes youth ages 10-18 who are in the pursuit of fun\, friendship\, and foremost\, a relationship with Christ.
URL:https://valleybaptistchurchnorthidaho.com/event/thrive-8/
LOCATION:Valley Baptist Church
CATEGORIES:Groups
ATTACH;FMTTYPE=image/png:https://valleybaptistchurchnorthidaho.com/wp-content/uploads/2023/12/Thrive-This-Week.png
END:VEVENT
BEGIN:VEVENT
DTSTART;TZID=UTC:20240402T180000
DTEND;TZID=UTC:20240402T200000
DTSTAMP:20260425T062313
CREATED:20240321T223133Z
LAST-MODIFIED:20240321T230143Z
UID:497-1712080800-1712088000@valleybaptistchurchnorthidaho.com
SUMMARY:Refine
DESCRIPTION:Refine is our weekly young adult Bible study for those ages 18 – 29. Currently working through the Gospel of John.
URL:https://valleybaptistchurchnorthidaho.com/event/refine-2/
LOCATION:Valley Baptist Church
CATEGORIES:Groups
ATTACH;FMTTYPE=image/png:https://valleybaptistchurchnorthidaho.com/wp-content/uploads/2024/03/Refine.png
END:VEVENT
END:VCALENDAR