BEGIN:VCALENDAR
VERSION:2.0
PRODID:-//Valley Baptist Church - ECPv6.15.20//NONSGML v1.0//EN
CALSCALE:GREGORIAN
METHOD:PUBLISH
X-WR-CALNAME:Valley Baptist Church
X-ORIGINAL-URL:https://valleybaptistchurchnorthidaho.com
X-WR-CALDESC:Events for Valley Baptist Church
REFRESH-INTERVAL;VALUE=DURATION:PT1H
X-Robots-Tag:noindex
X-PUBLISHED-TTL:PT1H
BEGIN:VTIMEZONE
TZID:UTC
BEGIN:STANDARD
TZOFFSETFROM:+0000
TZOFFSETTO:+0000
TZNAME:UTC
DTSTART:20230101T000000
END:STANDARD
END:VTIMEZONE
BEGIN:VEVENT
DTSTART;TZID=UTC:20241105T180000
DTEND;TZID=UTC:20241105T210000
DTSTAMP:20260425T032302
CREATED:20240727T210928Z
LAST-MODIFIED:20240727T210928Z
UID:788-1730829600-1730840400@valleybaptistchurchnorthidaho.com
SUMMARY:Refine
DESCRIPTION:Refine is our weekly young adult Bible study for those ages 18 – 29. Currently working through the book of Daniel.
URL:https://valleybaptistchurchnorthidaho.com/event/refine-30/
LOCATION:Valley Baptist Church
END:VEVENT
BEGIN:VEVENT
DTSTART;TZID=UTC:20241104T173000
DTEND;TZID=UTC:20241104T200000
DTSTAMP:20260425T032302
CREATED:20240728T223004Z
LAST-MODIFIED:20241031T215644Z
UID:823-1730741400-1730750400@valleybaptistchurchnorthidaho.com
SUMMARY:Daughters of the King
DESCRIPTION:Daughters of the King is a ministry group that desires to disciple and encourage teen girls. We meet once a week\, on Thursday evening\, for a Biblical lesson and an activity. The activities range from crafting\, hiking\, baking\, learning life skills\, serving the church or community\,… even playing airsoft. Moms are encouraged to come and participate. Have little ones? No problem\, you can bring them with you!
URL:https://valleybaptistchurchnorthidaho.com/event/daughters-of-the-king-9/
LOCATION:Valley Baptist Church
ATTACH;FMTTYPE=image/png:https://valleybaptistchurchnorthidaho.com/wp-content/uploads/2024/09/Daughters-of-the-King.png
END:VEVENT
BEGIN:VEVENT
DTSTART;TZID=UTC:20241104T173000
DTEND;TZID=UTC:20241104T200000
DTSTAMP:20260425T032302
CREATED:20240728T222955Z
LAST-MODIFIED:20241031T220535Z
UID:820-1730741400-1730750400@valleybaptistchurchnorthidaho.com
SUMMARY:Father and Son
DESCRIPTION:The purpose of Father Son Ministry is: \nTo glorify God by raising our sons to know Jesus and be obedient to him.  \nTo encourage fathers in their walk with the Lord. \nTo teach our boys to be men that can take care of their families and are well-rounded. \nTo train fathers to be examples for their sons. \nTo create a community of godly men to go through life together.
URL:https://valleybaptistchurchnorthidaho.com/event/daughters-of-the-king-father-son-11/
LOCATION:Valley Baptist Church
ATTACH;FMTTYPE=image/png:https://valleybaptistchurchnorthidaho.com/wp-content/uploads/2024/10/Father-and-Son-Photo.png
END:VEVENT
BEGIN:VEVENT
DTSTART;TZID=UTC:20241103T110000
DTEND;TZID=UTC:20241103T143000
DTSTAMP:20260425T032302
CREATED:20241031T222535Z
LAST-MODIFIED:20241031T222535Z
UID:843-1730631600-1730644200@valleybaptistchurchnorthidaho.com
SUMMARY:Sunday Morning Potluck
DESCRIPTION:Join us for our monthly after service potluck! We can’t wait to fellowship with you!
URL:https://valleybaptistchurchnorthidaho.com/event/sunday-morning-potluck-3/
LOCATION:Valley Baptist Church
ATTACH;FMTTYPE=image/png:https://valleybaptistchurchnorthidaho.com/wp-content/uploads/2024/07/Potluck-Today.png
END:VEVENT
BEGIN:VEVENT
DTSTART;TZID=UTC:20241031T173000
DTEND;TZID=UTC:20241031T200000
DTSTAMP:20260425T032302
CREATED:20241031T215133Z
LAST-MODIFIED:20241031T215133Z
UID:757-1730395800-1730404800@valleybaptistchurchnorthidaho.com
SUMMARY:Thrive
DESCRIPTION:Thrive welcomes youth ages 10-18 who are in the pursuit of fun\, friendship\, and foremost\, a relationship with Christ.
URL:https://valleybaptistchurchnorthidaho.com/event/thrive-22/
LOCATION:Valley Baptist Church
ATTACH;FMTTYPE=image/png:https://valleybaptistchurchnorthidaho.com/wp-content/uploads/2023/12/Thrive-This-Week.png
END:VEVENT
BEGIN:VEVENT
DTSTART;TZID=UTC:20241029T180000
DTEND;TZID=UTC:20241029T210000
DTSTAMP:20260425T032302
CREATED:20240727T210921Z
LAST-MODIFIED:20240727T210921Z
UID:787-1730224800-1730235600@valleybaptistchurchnorthidaho.com
SUMMARY:Refine
DESCRIPTION:Refine is our weekly young adult Bible study for those ages 18 – 29. Currently working through the book of Daniel.
URL:https://valleybaptistchurchnorthidaho.com/event/refine-29/
LOCATION:Valley Baptist Church
END:VEVENT
BEGIN:VEVENT
DTSTART;TZID=UTC:20241026T070000
DTEND;TZID=UTC:20241026T090000
DTSTAMP:20260425T032302
CREATED:20240728T223341Z
LAST-MODIFIED:20240728T223341Z
UID:834-1729926000-1729933200@valleybaptistchurchnorthidaho.com
SUMMARY:Men's Breakfast Summit
DESCRIPTION:Join us at the church for the Men’s Summit Breakfast. Discuss Challenges we face today as Christian fathers\, husbands and leaders. We will study Gods word as “iron sharpens iron”. See you there!
URL:https://valleybaptistchurchnorthidaho.com/event/mens-breakfast-summit-7/
LOCATION:Valley Baptist Church
ATTACH;FMTTYPE=image/png:https://valleybaptistchurchnorthidaho.com/wp-content/uploads/2024/03/Breakfast-Summit.png
END:VEVENT
BEGIN:VEVENT
DTSTART;TZID=UTC:20241022T180000
DTEND;TZID=UTC:20241022T210000
DTSTAMP:20260425T032302
CREATED:20240727T210917Z
LAST-MODIFIED:20240727T210917Z
UID:786-1729620000-1729630800@valleybaptistchurchnorthidaho.com
SUMMARY:Refine
DESCRIPTION:Refine is our weekly young adult Bible study for those ages 18 – 29. Currently working through the book of Daniel.
URL:https://valleybaptistchurchnorthidaho.com/event/refine-28/
LOCATION:Valley Baptist Church
END:VEVENT
BEGIN:VEVENT
DTSTART;TZID=UTC:20241017T173000
DTEND;TZID=UTC:20241017T200000
DTSTAMP:20260425T032302
CREATED:20240727T204202Z
LAST-MODIFIED:20240727T204202Z
UID:747-1729186200-1729195200@valleybaptistchurchnorthidaho.com
SUMMARY:Thrive
DESCRIPTION:Thrive welcomes youth ages 10-18 who are in the pursuit of fun\, friendship\, and foremost\, a relationship with Christ.
URL:https://valleybaptistchurchnorthidaho.com/event/thrive-18/
LOCATION:Valley Baptist Church
ATTACH;FMTTYPE=image/png:https://valleybaptistchurchnorthidaho.com/wp-content/uploads/2023/12/Thrive-This-Week.png
END:VEVENT
BEGIN:VEVENT
DTSTART;TZID=UTC:20241015T180000
DTEND;TZID=UTC:20241015T210000
DTSTAMP:20260425T032302
CREATED:20240727T210917Z
LAST-MODIFIED:20240727T210917Z
UID:785-1729015200-1729026000@valleybaptistchurchnorthidaho.com
SUMMARY:Refine
DESCRIPTION:Refine is our weekly young adult Bible study for those ages 18 – 29. Currently working through the book of Daniel.
URL:https://valleybaptistchurchnorthidaho.com/event/refine-27/
LOCATION:Valley Baptist Church
END:VEVENT
BEGIN:VEVENT
DTSTART;TZID=UTC:20241008T180000
DTEND;TZID=UTC:20241008T210000
DTSTAMP:20260425T032302
CREATED:20240727T210911Z
LAST-MODIFIED:20240727T210911Z
UID:784-1728410400-1728421200@valleybaptistchurchnorthidaho.com
SUMMARY:Refine
DESCRIPTION:Refine is our weekly young adult Bible study for those ages 18 – 29. Currently working through the book of Daniel.
URL:https://valleybaptistchurchnorthidaho.com/event/refine-26/
LOCATION:Valley Baptist Church
END:VEVENT
BEGIN:VEVENT
DTSTART;TZID=UTC:20241001T180000
DTEND;TZID=UTC:20241001T210000
DTSTAMP:20260425T032302
CREATED:20240727T210911Z
LAST-MODIFIED:20240727T210911Z
UID:783-1727805600-1727816400@valleybaptistchurchnorthidaho.com
SUMMARY:Refine
DESCRIPTION:Refine is our weekly young adult Bible study for those ages 18 – 29. Currently working through the book of Daniel.
URL:https://valleybaptistchurchnorthidaho.com/event/refine-25/
LOCATION:Valley Baptist Church
END:VEVENT
BEGIN:VEVENT
DTSTART;TZID=UTC:20241001T180000
DTEND;TZID=UTC:20241001T210000
DTSTAMP:20260425T032302
CREATED:20240727T210301Z
LAST-MODIFIED:20240727T210301Z
UID:770-1727805600-1727816400@valleybaptistchurchnorthidaho.com
SUMMARY:Refine
DESCRIPTION:Refine is our weekly young adult Bible study for those ages 18 – 29. Currently working through the book of Daniel.
URL:https://valleybaptistchurchnorthidaho.com/event/refine-24/
LOCATION:Valley Baptist Church
END:VEVENT
BEGIN:VEVENT
DTSTART;TZID=UTC:20240928T070000
DTEND;TZID=UTC:20240928T090000
DTSTAMP:20260425T032302
CREATED:20240728T223338Z
LAST-MODIFIED:20240728T223338Z
UID:833-1727506800-1727514000@valleybaptistchurchnorthidaho.com
SUMMARY:Men's Breakfast Summit
DESCRIPTION:Join us at the church for the Men’s Summit Breakfast. Discuss Challenges we face today as Christian fathers\, husbands and leaders. We will study Gods word as “iron sharpens iron”. See you there!
URL:https://valleybaptistchurchnorthidaho.com/event/mens-breakfast-summit-6/
LOCATION:Valley Baptist Church
ATTACH;FMTTYPE=image/png:https://valleybaptistchurchnorthidaho.com/wp-content/uploads/2024/03/Breakfast-Summit.png
END:VEVENT
BEGIN:VEVENT
DTSTART;TZID=UTC:20240924T180000
DTEND;TZID=UTC:20240924T210000
DTSTAMP:20260425T032302
CREATED:20240727T210256Z
LAST-MODIFIED:20240727T210256Z
UID:769-1727200800-1727211600@valleybaptistchurchnorthidaho.com
SUMMARY:Refine
DESCRIPTION:Refine is our weekly young adult Bible study for those ages 18 – 29. Currently working through the book of Daniel.
URL:https://valleybaptistchurchnorthidaho.com/event/refine-22/
LOCATION:Valley Baptist Church
END:VEVENT
BEGIN:VEVENT
DTSTART;TZID=UTC:20240919T173000
DTEND;TZID=UTC:20240919T200000
DTSTAMP:20260425T032302
CREATED:20240727T204159Z
LAST-MODIFIED:20240727T204159Z
UID:746-1726767000-1726776000@valleybaptistchurchnorthidaho.com
SUMMARY:Thrive
DESCRIPTION:Thrive welcomes youth ages 10-18 who are in the pursuit of fun\, friendship\, and foremost\, a relationship with Christ.
URL:https://valleybaptistchurchnorthidaho.com/event/thrive-17/
LOCATION:Valley Baptist Church
ATTACH;FMTTYPE=image/png:https://valleybaptistchurchnorthidaho.com/wp-content/uploads/2023/12/Thrive-This-Week.png
END:VEVENT
BEGIN:VEVENT
DTSTART;TZID=UTC:20240917T180000
DTEND;TZID=UTC:20240917T210000
DTSTAMP:20260425T032302
CREATED:20240727T210258Z
LAST-MODIFIED:20240727T210258Z
UID:768-1726596000-1726606800@valleybaptistchurchnorthidaho.com
SUMMARY:Refine
DESCRIPTION:Refine is our weekly young adult Bible study for those ages 18 – 29. Currently working through the book of Daniel.
URL:https://valleybaptistchurchnorthidaho.com/event/refine-23/
LOCATION:Valley Baptist Church
END:VEVENT
BEGIN:VEVENT
DTSTART;TZID=UTC:20240910T180000
DTEND;TZID=UTC:20240910T210000
DTSTAMP:20260425T032302
CREATED:20240727T210250Z
LAST-MODIFIED:20240727T210250Z
UID:767-1725991200-1726002000@valleybaptistchurchnorthidaho.com
SUMMARY:Refine
DESCRIPTION:Refine is our weekly young adult Bible study for those ages 18 – 29. Currently working through the book of Daniel.
URL:https://valleybaptistchurchnorthidaho.com/event/refine-21/
LOCATION:Valley Baptist Church
END:VEVENT
BEGIN:VEVENT
DTSTART;TZID=UTC:20240905T173000
DTEND;TZID=UTC:20240905T200000
DTSTAMP:20260425T032302
CREATED:20240727T204154Z
LAST-MODIFIED:20240727T204154Z
UID:745-1725557400-1725566400@valleybaptistchurchnorthidaho.com
SUMMARY:Thrive
DESCRIPTION:Thrive welcomes youth ages 10-18 who are in the pursuit of fun\, friendship\, and foremost\, a relationship with Christ.
URL:https://valleybaptistchurchnorthidaho.com/event/thrive-16/
LOCATION:Valley Baptist Church
ATTACH;FMTTYPE=image/png:https://valleybaptistchurchnorthidaho.com/wp-content/uploads/2023/12/Thrive-This-Week.png
END:VEVENT
BEGIN:VEVENT
DTSTART;TZID=UTC:20240903T180000
DTEND;TZID=UTC:20240903T210000
DTSTAMP:20260425T032302
CREATED:20240727T210248Z
LAST-MODIFIED:20240727T210248Z
UID:766-1725386400-1725397200@valleybaptistchurchnorthidaho.com
SUMMARY:Refine
DESCRIPTION:Refine is our weekly young adult Bible study for those ages 18 – 29. Currently working through the book of Daniel.
URL:https://valleybaptistchurchnorthidaho.com/event/refine-20/
LOCATION:Valley Baptist Church
END:VEVENT
BEGIN:VEVENT
DTSTART;TZID=UTC:20240831T070000
DTEND;TZID=UTC:20240831T090000
DTSTAMP:20260425T032302
CREATED:20240728T223335Z
LAST-MODIFIED:20240826T101549Z
UID:832-1725087600-1725094800@valleybaptistchurchnorthidaho.com
SUMMARY:Men's Breakfast Summit
DESCRIPTION:Join us at Camp Stidwell for the Men’s Summit Breakfast. Discuss Challenges we face today as Christian fathers\, husbands and leaders. We will study Gods word as “iron sharpens iron”. See you there! This month\, bring your own breakfast\, bring your own Coffee. Please feel free to join us even if you haven’t camped out this week! We will still love to have you for some fellowship and prayer.
URL:https://valleybaptistchurchnorthidaho.com/event/mens-breakfast-summit-5/
LOCATION:Valley Baptist Church
ATTACH;FMTTYPE=image/png:https://valleybaptistchurchnorthidaho.com/wp-content/uploads/2024/03/Breakfast-Summit.png
END:VEVENT
BEGIN:VEVENT
DTSTART;TZID=UTC:20240826T000000
DTEND;TZID=UTC:20240831T235959
DTSTAMP:20260425T032302
CREATED:20240320T230950Z
LAST-MODIFIED:20240826T100337Z
UID:478-1724630400-1725148799@valleybaptistchurchnorthidaho.com
SUMMARY:Annual Family Camp
DESCRIPTION:Its our annual family camp! Whether your roughing it\, or glamping it we’d love to have your family join us! Feel free to come for day visits\, just a night or two\, or ALL week! Its a fantastic time of family fellowship in the fresh air. There are trails to walk\, and a great big beautiful lake perfect for relaxing by\, swimming\, or kayaking. In the evenings we all gather for a time worship and teaching. Later many people can be found around the campfire singing old hymns or roasting marshmallows. A central field is also the perfect place for kids to play games both day\, and night so there is no shortage of things to do. Hope to see you there! \nIf you’re curious about what is happening at family camp and when…here is our itinerary! \nMonday – Check in 3pm \nTuesday – Parenting Q&A Panel 7pm \nWednesday – Godly Relationships Q&A Panel 7pm \nThursday – Baptisms at the Lake 7pm \nFriday – Corporate Worship 7pm \nSaturday – Men’s Prayer 7am \nSaturday – Check Out by Noon
URL:https://valleybaptistchurchnorthidaho.com/event/annual-family-camp/
LOCATION:Camp Stidwell\, 4259 Talache Rd\, Sagle\, Idaho
CATEGORIES:Events
END:VEVENT
BEGIN:VEVENT
DTSTART;TZID=UTC:20240822T173000
DTEND;TZID=UTC:20240822T200000
DTSTAMP:20260425T032302
CREATED:20240727T204151Z
LAST-MODIFIED:20240727T204151Z
UID:744-1724347800-1724356800@valleybaptistchurchnorthidaho.com
SUMMARY:Thrive
DESCRIPTION:Thrive welcomes youth ages 10-18 who are in the pursuit of fun\, friendship\, and foremost\, a relationship with Christ.
URL:https://valleybaptistchurchnorthidaho.com/event/thrive-15/
LOCATION:Valley Baptist Church
ATTACH;FMTTYPE=image/png:https://valleybaptistchurchnorthidaho.com/wp-content/uploads/2023/12/Thrive-This-Week.png
END:VEVENT
BEGIN:VEVENT
DTSTART;TZID=UTC:20240820T180000
DTEND;TZID=UTC:20240820T210000
DTSTAMP:20260425T032302
CREATED:20240727T205914Z
LAST-MODIFIED:20240727T205914Z
UID:764-1724176800-1724187600@valleybaptistchurchnorthidaho.com
SUMMARY:Refine
DESCRIPTION:Refine is our weekly young adult Bible study for those ages 18 – 29. Currently working through the book of Daniel.
URL:https://valleybaptistchurchnorthidaho.com/event/refine-18/
LOCATION:Valley Baptist Church
END:VEVENT
BEGIN:VEVENT
DTSTART;TZID=UTC:20240813T180000
DTEND;TZID=UTC:20240813T210000
DTSTAMP:20260425T032302
CREATED:20240727T205852Z
LAST-MODIFIED:20240727T205852Z
UID:763-1723572000-1723582800@valleybaptistchurchnorthidaho.com
SUMMARY:Refine
DESCRIPTION:Refine is our weekly young adult Bible study for those ages 18 – 29. Currently working through the book of Daniel.
URL:https://valleybaptistchurchnorthidaho.com/event/refine-17/
LOCATION:Valley Baptist Church
END:VEVENT
BEGIN:VEVENT
DTSTART;TZID=UTC:20240808T173000
DTEND;TZID=UTC:20240808T200000
DTSTAMP:20260425T032302
CREATED:20240727T204147Z
LAST-MODIFIED:20240727T204147Z
UID:743-1723138200-1723147200@valleybaptistchurchnorthidaho.com
SUMMARY:Thrive
DESCRIPTION:Thrive welcomes youth ages 10-18 who are in the pursuit of fun\, friendship\, and foremost\, a relationship with Christ.
URL:https://valleybaptistchurchnorthidaho.com/event/thrive-14/
LOCATION:Valley Baptist Church
ATTACH;FMTTYPE=image/png:https://valleybaptistchurchnorthidaho.com/wp-content/uploads/2023/12/Thrive-This-Week.png
END:VEVENT
BEGIN:VEVENT
DTSTART;TZID=UTC:20240806T180000
DTEND;TZID=UTC:20240806T210000
DTSTAMP:20260425T032302
CREATED:20240727T205843Z
LAST-MODIFIED:20240727T205843Z
UID:762-1722967200-1722978000@valleybaptistchurchnorthidaho.com
SUMMARY:Refine
DESCRIPTION:Refine is our weekly young adult Bible study for those ages 18 – 29. Currently working through the book of Daniel.
URL:https://valleybaptistchurchnorthidaho.com/event/refine-16/
LOCATION:Valley Baptist Church
END:VEVENT
BEGIN:VEVENT
DTSTART;TZID=UTC:20240730T180000
DTEND;TZID=UTC:20240730T210000
DTSTAMP:20260425T032302
CREATED:20240727T205840Z
LAST-MODIFIED:20240727T205840Z
UID:761-1722362400-1722373200@valleybaptistchurchnorthidaho.com
SUMMARY:Refine
DESCRIPTION:Refine is our weekly young adult Bible study for those ages 18 – 29. Currently working through the book of Daniel.
URL:https://valleybaptistchurchnorthidaho.com/event/refine-15/
LOCATION:Valley Baptist Church
END:VEVENT
BEGIN:VEVENT
DTSTART;TZID=UTC:20240629T070000
DTEND;TZID=UTC:20240629T090000
DTSTAMP:20260425T032302
CREATED:20240425T104027Z
LAST-MODIFIED:20240425T104027Z
UID:727-1719644400-1719651600@valleybaptistchurchnorthidaho.com
SUMMARY:Men's Breakfast Summit
DESCRIPTION:Join us at the church for the Men’s Summit Breakfast. Discuss Challenges we face today as Christian fathers\, husbands and leaders. We will study Gods word as “iron sharpens iron”. See you there!
URL:https://valleybaptistchurchnorthidaho.com/event/mens-breakfast-summit-4/
LOCATION:Valley Baptist Church
ATTACH;FMTTYPE=image/png:https://valleybaptistchurchnorthidaho.com/wp-content/uploads/2024/03/Breakfast-Summit.png
END:VEVENT
BEGIN:VEVENT
DTSTART;TZID=UTC:20240627T173000
DTEND;TZID=UTC:20240627T200000
DTSTAMP:20260425T032302
CREATED:20240425T103732Z
LAST-MODIFIED:20240425T103732Z
UID:725-1719509400-1719518400@valleybaptistchurchnorthidaho.com
SUMMARY:Thrive
DESCRIPTION:Thrive welcomes youth ages 10-18 who are in the pursuit of fun\, friendship\, and foremost\, a relationship with Christ.
URL:https://valleybaptistchurchnorthidaho.com/event/thrive-13/
LOCATION:Valley Baptist Church
ATTACH;FMTTYPE=image/png:https://valleybaptistchurchnorthidaho.com/wp-content/uploads/2023/12/Thrive-This-Week.png
END:VEVENT
END:VCALENDAR