BEGIN:VCALENDAR
VERSION:2.0
PRODID:-//Valley Baptist Church - ECPv6.15.20//NONSGML v1.0//EN
CALSCALE:GREGORIAN
METHOD:PUBLISH
X-WR-CALNAME:Valley Baptist Church
X-ORIGINAL-URL:https://valleybaptistchurchnorthidaho.com
X-WR-CALDESC:Events for Valley Baptist Church
REFRESH-INTERVAL;VALUE=DURATION:PT1H
X-Robots-Tag:noindex
X-PUBLISHED-TTL:PT1H
BEGIN:VTIMEZONE
TZID:UTC
BEGIN:STANDARD
TZOFFSETFROM:+0000
TZOFFSETTO:+0000
TZNAME:UTC
DTSTART:20220101T000000
END:STANDARD
END:VTIMEZONE
BEGIN:VEVENT
DTSTART;TZID=UTC:20240121T123000
DTEND;TZID=UTC:20240121T133000
DTSTAMP:20260425T083058
CREATED:20231228T042118Z
LAST-MODIFIED:20231228T042118Z
UID:452-1705840200-1705843800@valleybaptistchurchnorthidaho.com
SUMMARY:Ministry/Budget Meeting
DESCRIPTION:Join us after service for our annual ministry update and budget meeting.
URL:https://valleybaptistchurchnorthidaho.com/event/ministry-budget-meeting/
LOCATION:Valley Baptist Church
END:VEVENT
BEGIN:VEVENT
DTSTART;TZID=UTC:20240121T110000
DTEND;TZID=UTC:20240121T123000
DTSTAMP:20260425T083058
CREATED:20231228T041733Z
LAST-MODIFIED:20231228T041733Z
UID:446-1705834800-1705840200@valleybaptistchurchnorthidaho.com
SUMMARY:Worship Service
DESCRIPTION:Come worship the Lord with us and enjoy teaching from His Word
URL:https://valleybaptistchurchnorthidaho.com/event/worship-service-15/
LOCATION:Valley Baptist Church
END:VEVENT
BEGIN:VEVENT
DTSTART;TZID=UTC:20240121T101500
DTEND;TZID=UTC:20240121T110000
DTSTAMP:20260425T083058
CREATED:20231228T041331Z
LAST-MODIFIED:20231228T041331Z
UID:440-1705832100-1705834800@valleybaptistchurchnorthidaho.com
SUMMARY:Fellowship & Prayer
DESCRIPTION:Join us before worship service for your choice of either fellowship or group prayer.
URL:https://valleybaptistchurchnorthidaho.com/event/fellowship-prayer-12/
LOCATION:Valley Baptist Church
END:VEVENT
BEGIN:VEVENT
DTSTART;TZID=UTC:20240118T173000
DTEND;TZID=UTC:20240118T200000
DTSTAMP:20260425T083058
CREATED:20231225T124903Z
LAST-MODIFIED:20231225T124903Z
UID:434-1705599000-1705608000@valleybaptistchurchnorthidaho.com
SUMMARY:Father/Son Ministry
DESCRIPTION:Ministry for guys ages 4-20 as well as their fathers
URL:https://valleybaptistchurchnorthidaho.com/event/father-son-ministry-7/
LOCATION:Valley Baptist Church
END:VEVENT
BEGIN:VEVENT
DTSTART;TZID=UTC:20240118T173000
DTEND;TZID=UTC:20240118T200000
DTSTAMP:20260425T083058
CREATED:20231225T124701Z
LAST-MODIFIED:20231225T124701Z
UID:430-1705599000-1705608000@valleybaptistchurchnorthidaho.com
SUMMARY:Daughters of the King
DESCRIPTION:Ministry for mothers and daughters of all ages.
URL:https://valleybaptistchurchnorthidaho.com/event/daughters-of-the-king-8/
LOCATION:Valley Baptist Church
END:VEVENT
BEGIN:VEVENT
DTSTART;TZID=UTC:20240116T180000
DTEND;TZID=UTC:20240116T200000
DTSTAMP:20260425T083058
CREATED:20231225T123958Z
LAST-MODIFIED:20231225T123958Z
UID:418-1705428000-1705435200@valleybaptistchurchnorthidaho.com
SUMMARY:Refine Bible Study
DESCRIPTION:Bible study for young adults ages 18-29
URL:https://valleybaptistchurchnorthidaho.com/event/refine-bible-study-16/
END:VEVENT
BEGIN:VEVENT
DTSTART;TZID=UTC:20240114T183000
DTEND;TZID=UTC:20240114T203000
DTSTAMP:20260425T083058
CREATED:20231228T042615Z
LAST-MODIFIED:20231228T042615Z
UID:456-1705257000-1705264200@valleybaptistchurchnorthidaho.com
SUMMARY:Men's Bible Study
DESCRIPTION:Men\, join us to study God’s Word together and learn how it applies to our lives. This class will be held each Sunday evening in January.
URL:https://valleybaptistchurchnorthidaho.com/event/mens-bible-study-2/
LOCATION:Valley Baptist Church
END:VEVENT
BEGIN:VEVENT
DTSTART;TZID=UTC:20240114T110000
DTEND;TZID=UTC:20240114T123000
DTSTAMP:20260425T083058
CREATED:20231228T041626Z
LAST-MODIFIED:20231228T041626Z
UID:444-1705230000-1705235400@valleybaptistchurchnorthidaho.com
SUMMARY:Worship Service
DESCRIPTION:Come worship the Lord with us and enjoy teaching from His Word
URL:https://valleybaptistchurchnorthidaho.com/event/worship-service-14/
LOCATION:Valley Baptist Church
END:VEVENT
BEGIN:VEVENT
DTSTART;TZID=UTC:20240114T101500
DTEND;TZID=UTC:20240114T110000
DTSTAMP:20260425T083058
CREATED:20231228T041247Z
LAST-MODIFIED:20231228T041247Z
UID:438-1705227300-1705230000@valleybaptistchurchnorthidaho.com
SUMMARY:Fellowship & Prayer
DESCRIPTION:Join us before worship service for your choice of either fellowship or group prayer.
URL:https://valleybaptistchurchnorthidaho.com/event/fellowship-prayer-11/
LOCATION:Valley Baptist Church
END:VEVENT
BEGIN:VEVENT
DTSTART;TZID=UTC:20240111T173000
DTEND;TZID=UTC:20240111T200000
DTSTAMP:20260425T083058
CREATED:20231225T124408Z
LAST-MODIFIED:20231225T124408Z
UID:424-1704994200-1705003200@valleybaptistchurchnorthidaho.com
SUMMARY:Thrive Youth Group
DESCRIPTION:Thrive youth group is for ages 10-18. Dinner is provided\, along with games\, worship\, and biblical teaching.
URL:https://valleybaptistchurchnorthidaho.com/event/thrive-youth-group/
LOCATION:Valley Baptist Church
END:VEVENT
BEGIN:VEVENT
DTSTART;TZID=UTC:20240109T180000
DTEND;TZID=UTC:20240109T200000
DTSTAMP:20260425T083058
CREATED:20231225T123905Z
LAST-MODIFIED:20231225T123905Z
UID:416-1704823200-1704830400@valleybaptistchurchnorthidaho.com
SUMMARY:Refine Bible Study
DESCRIPTION:Bible study for young adults ages 18-29
URL:https://valleybaptistchurchnorthidaho.com/event/refine-bible-study-15/
END:VEVENT
BEGIN:VEVENT
DTSTART;TZID=UTC:20240107T183000
DTEND;TZID=UTC:20240107T203000
DTSTAMP:20260425T083058
CREATED:20231228T042351Z
LAST-MODIFIED:20231228T042351Z
UID:454-1704652200-1704659400@valleybaptistchurchnorthidaho.com
SUMMARY:Men's Bible Study
DESCRIPTION:Men\, join us to study God’s Word together and learn how it applies to our lives. This class will be held each Sunday evening in January.
URL:https://valleybaptistchurchnorthidaho.com/event/mens-bible-study/
LOCATION:Valley Baptist Church
END:VEVENT
BEGIN:VEVENT
DTSTART;TZID=UTC:20240107T110000
DTEND;TZID=UTC:20240107T123000
DTSTAMP:20260425T083058
CREATED:20231228T041940Z
LAST-MODIFIED:20231228T041940Z
UID:450-1704625200-1704630600@valleybaptistchurchnorthidaho.com
SUMMARY:Worship Service
DESCRIPTION:Come worship the Lord with us and enjoy Communion and teaching from His Word
URL:https://valleybaptistchurchnorthidaho.com/event/worship-service-17/
LOCATION:Valley Baptist Church
END:VEVENT
BEGIN:VEVENT
DTSTART;TZID=UTC:20240107T101500
DTEND;TZID=UTC:20240107T110000
DTSTAMP:20260425T083058
CREATED:20231228T041156Z
LAST-MODIFIED:20231228T041156Z
UID:436-1704622500-1704625200@valleybaptistchurchnorthidaho.com
SUMMARY:Fellowship & Prayer
DESCRIPTION:Join us before worship service for your choice of either fellowship or group prayer.
URL:https://valleybaptistchurchnorthidaho.com/event/fellowship-prayer-10/
LOCATION:Valley Baptist Church
END:VEVENT
BEGIN:VEVENT
DTSTART;TZID=UTC:20240104T173000
DTEND;TZID=UTC:20240104T200000
DTSTAMP:20260425T083058
CREATED:20231225T124815Z
LAST-MODIFIED:20231225T124815Z
UID:432-1704389400-1704398400@valleybaptistchurchnorthidaho.com
SUMMARY:Father/Son Ministry
DESCRIPTION:Ministry for guys ages 4-20 as well as their fathers. This day\, come prepared to practice winter survival skills.
URL:https://valleybaptistchurchnorthidaho.com/event/father-son-ministry-6/
LOCATION:Valley Baptist Church
END:VEVENT
BEGIN:VEVENT
DTSTART;TZID=UTC:20240104T173000
DTEND;TZID=UTC:20240104T200000
DTSTAMP:20260425T083058
CREATED:20231225T124618Z
LAST-MODIFIED:20231225T124618Z
UID:428-1704389400-1704398400@valleybaptistchurchnorthidaho.com
SUMMARY:Daughters of the King
DESCRIPTION:Ministry for mothers and daughters of all ages.
URL:https://valleybaptistchurchnorthidaho.com/event/daughters-of-the-king-7/
LOCATION:Valley Baptist Church
END:VEVENT
BEGIN:VEVENT
DTSTART;TZID=UTC:20240102T180000
DTEND;TZID=UTC:20240102T200000
DTSTAMP:20260425T083058
CREATED:20231225T123808Z
LAST-MODIFIED:20231225T123808Z
UID:414-1704218400-1704225600@valleybaptistchurchnorthidaho.com
SUMMARY:Refine Bible Study
DESCRIPTION:Bible study for young adults ages 18-29
URL:https://valleybaptistchurchnorthidaho.com/event/refine-bible-study-14/
END:VEVENT
BEGIN:VEVENT
DTSTART;TZID=UTC:20231231T110000
DTEND;TZID=UTC:20231231T123000
DTSTAMP:20260425T083058
CREATED:20231113T100301Z
LAST-MODIFIED:20231113T100301Z
UID:380-1704020400-1704025800@valleybaptistchurchnorthidaho.com
SUMMARY:Worship Service
DESCRIPTION:Come worship the Lord with us and enjoy teaching from His Word
URL:https://valleybaptistchurchnorthidaho.com/event/worship-service-13/
LOCATION:Valley Baptist Church
END:VEVENT
BEGIN:VEVENT
DTSTART;TZID=UTC:20231231T101500
DTEND;TZID=UTC:20231231T110000
DTSTAMP:20260425T083058
CREATED:20231113T095255Z
LAST-MODIFIED:20231113T095255Z
UID:370-1704017700-1704020400@valleybaptistchurchnorthidaho.com
SUMMARY:Fellowship & Prayer
DESCRIPTION:Join us before worship service for your choice of either fellowship or group prayer.
URL:https://valleybaptistchurchnorthidaho.com/event/fellowship-prayer-9/
LOCATION:Valley Baptist Church
END:VEVENT
BEGIN:VEVENT
DTSTART;TZID=UTC:20231224T170000
DTEND;TZID=UTC:20231224T180000
DTSTAMP:20260425T083058
CREATED:20231220T012039Z
LAST-MODIFIED:20231220T012039Z
UID:411-1703437200-1703440800@valleybaptistchurchnorthidaho.com
SUMMARY:Candlelight Service
DESCRIPTION:Join us for our candlelight Christmas Eve service
URL:https://valleybaptistchurchnorthidaho.com/event/candlelight-service/
LOCATION:Valley Baptist Church
END:VEVENT
BEGIN:VEVENT
DTSTART;TZID=UTC:20231224T110000
DTEND;TZID=UTC:20231224T123000
DTSTAMP:20260425T083058
CREATED:20231113T100209Z
LAST-MODIFIED:20231225T123637Z
UID:378-1703415600-1703421000@valleybaptistchurchnorthidaho.com
SUMMARY:Christmas Worship Service
DESCRIPTION:Come worship the Lord with us and enjoy a special Christmas program as we celebrate Jesus’s birth. The childrens’ program will perform a pageant of the Christmas story.
URL:https://valleybaptistchurchnorthidaho.com/event/christmas-worship-service/
LOCATION:Valley Baptist Church
END:VEVENT
BEGIN:VEVENT
DTSTART;TZID=UTC:20231224T101500
DTEND;TZID=UTC:20231224T110000
DTSTAMP:20260425T083058
CREATED:20231113T095013Z
LAST-MODIFIED:20231113T095013Z
UID:368-1703412900-1703415600@valleybaptistchurchnorthidaho.com
SUMMARY:Fellowship & Prayer
DESCRIPTION:Join us before worship service for your choice of either fellowship or group prayer.
URL:https://valleybaptistchurchnorthidaho.com/event/fellowship-prayer-8/
LOCATION:Valley Baptist Church
END:VEVENT
BEGIN:VEVENT
DTSTART;TZID=UTC:20231219T180000
DTEND;TZID=UTC:20231219T200000
DTSTAMP:20260425T083058
CREATED:20231113T094407Z
LAST-MODIFIED:20231113T094407Z
UID:358-1703008800-1703016000@valleybaptistchurchnorthidaho.com
SUMMARY:Refine Bible Study
DESCRIPTION:Bible study for young adults ages 18-29
URL:https://valleybaptistchurchnorthidaho.com/event/refine-bible-study-13/
END:VEVENT
BEGIN:VEVENT
DTSTART;TZID=UTC:20231217T110000
DTEND;TZID=UTC:20231217T123000
DTSTAMP:20260425T083058
CREATED:20231113T100022Z
LAST-MODIFIED:20231113T100022Z
UID:376-1702810800-1702816200@valleybaptistchurchnorthidaho.com
SUMMARY:Worship Service
DESCRIPTION:Come worship the Lord with us and enjoy teaching from His Word
URL:https://valleybaptistchurchnorthidaho.com/event/worship-service-12/
LOCATION:Valley Baptist Church
END:VEVENT
BEGIN:VEVENT
DTSTART;TZID=UTC:20231217T101500
DTEND;TZID=UTC:20231217T110000
DTSTAMP:20260425T083058
CREATED:20231113T094906Z
LAST-MODIFIED:20231113T094906Z
UID:366-1702808100-1702810800@valleybaptistchurchnorthidaho.com
SUMMARY:Fellowship & Prayer
DESCRIPTION:Join us before worship service for your choice of either fellowship or group prayer.
URL:https://valleybaptistchurchnorthidaho.com/event/fellowship-prayer-7/
LOCATION:Valley Baptist Church
END:VEVENT
BEGIN:VEVENT
DTSTART;TZID=UTC:20231213T173000
DTEND;TZID=UTC:20231213T200000
DTSTAMP:20260425T083058
CREATED:20231204T011536Z
LAST-MODIFIED:20231204T011536Z
UID:401-1702488600-1702497600@valleybaptistchurchnorthidaho.com
SUMMARY:Thrive Christmas Party
DESCRIPTION:Come celebrate Christmas with Thrive youth group! Dinner is provided\, along with games\, worship\, and biblical teaching.
URL:https://valleybaptistchurchnorthidaho.com/event/thrive-christmas-party/
LOCATION:Valley Baptist Church
END:VEVENT
BEGIN:VEVENT
DTSTART;TZID=UTC:20231212T180000
DTEND;TZID=UTC:20231212T200000
DTSTAMP:20260425T083058
CREATED:20231113T094307Z
LAST-MODIFIED:20231113T094307Z
UID:356-1702404000-1702411200@valleybaptistchurchnorthidaho.com
SUMMARY:Refine Bible Study
DESCRIPTION:Bible study for young adults ages 18-29
URL:https://valleybaptistchurchnorthidaho.com/event/refine-bible-study-12/
END:VEVENT
BEGIN:VEVENT
DTSTART;TZID=UTC:20231210T110000
DTEND;TZID=UTC:20231210T123000
DTSTAMP:20260425T083058
CREATED:20231113T095659Z
LAST-MODIFIED:20231113T095659Z
UID:374-1702206000-1702211400@valleybaptistchurchnorthidaho.com
SUMMARY:Worship Service
DESCRIPTION:Come worship the Lord with us and enjoy teaching from His Word
URL:https://valleybaptistchurchnorthidaho.com/event/worship-service-11/
LOCATION:Valley Baptist Church
END:VEVENT
BEGIN:VEVENT
DTSTART;TZID=UTC:20231210T101500
DTEND;TZID=UTC:20231210T110000
DTSTAMP:20260425T083058
CREATED:20231113T094806Z
LAST-MODIFIED:20231113T094806Z
UID:364-1702203300-1702206000@valleybaptistchurchnorthidaho.com
SUMMARY:Fellowship & Prayer
DESCRIPTION:Join us before worship service for your choice of either fellowship or group prayer.
URL:https://valleybaptistchurchnorthidaho.com/event/fellowship-prayer-6/
LOCATION:Valley Baptist Church
END:VEVENT
BEGIN:VEVENT
DTSTART;TZID=UTC:20231205T180000
DTEND;TZID=UTC:20231205T200000
DTSTAMP:20260425T083058
CREATED:20231113T094155Z
LAST-MODIFIED:20231113T094155Z
UID:354-1701799200-1701806400@valleybaptistchurchnorthidaho.com
SUMMARY:Refine Bible Study
DESCRIPTION:Bible study for young adults ages 18-29
URL:https://valleybaptistchurchnorthidaho.com/event/refine-bible-study-11/
END:VEVENT
END:VCALENDAR