BEGIN:VCALENDAR
VERSION:2.0
PRODID:-//Valley Baptist Church - ECPv6.15.20//NONSGML v1.0//EN
CALSCALE:GREGORIAN
METHOD:PUBLISH
X-WR-CALNAME:Valley Baptist Church
X-ORIGINAL-URL:https://valleybaptistchurchnorthidaho.com
X-WR-CALDESC:Events for Valley Baptist Church
REFRESH-INTERVAL;VALUE=DURATION:PT1H
X-Robots-Tag:noindex
X-PUBLISHED-TTL:PT1H
BEGIN:VTIMEZONE
TZID:America/Los_Angeles
BEGIN:DAYLIGHT
TZOFFSETFROM:-0800
TZOFFSETTO:-0700
TZNAME:PDT
DTSTART:20250309T100000
END:DAYLIGHT
BEGIN:STANDARD
TZOFFSETFROM:-0700
TZOFFSETTO:-0800
TZNAME:PST
DTSTART:20251102T090000
END:STANDARD
BEGIN:DAYLIGHT
TZOFFSETFROM:-0800
TZOFFSETTO:-0700
TZNAME:PDT
DTSTART:20260308T100000
END:DAYLIGHT
BEGIN:STANDARD
TZOFFSETFROM:-0700
TZOFFSETTO:-0800
TZNAME:PST
DTSTART:20261101T090000
END:STANDARD
BEGIN:DAYLIGHT
TZOFFSETFROM:-0800
TZOFFSETTO:-0700
TZNAME:PDT
DTSTART:20270314T100000
END:DAYLIGHT
BEGIN:STANDARD
TZOFFSETFROM:-0700
TZOFFSETTO:-0800
TZNAME:PST
DTSTART:20271107T090000
END:STANDARD
END:VTIMEZONE
BEGIN:VEVENT
DTSTART;TZID=America/Los_Angeles:20260213T100000
DTEND;TZID=America/Los_Angeles:20260213T120000
DTSTAMP:20260423T153837
CREATED:20260118T162135Z
LAST-MODIFIED:20260118T162135Z
UID:2072-1770976800-1770984000@valleybaptistchurchnorthidaho.com
SUMMARY:Seasoned Women
DESCRIPTION:Open to all grandmothers\, or women of grandmotherly age. Come join with us as we study God’s word\, pray\, and encourage each other in serving our families\, our church body\, and others.
URL:https://valleybaptistchurchnorthidaho.com/event/seasoned-women/
ATTACH;FMTTYPE=image/png:https://valleybaptistchurchnorthidaho.com/wp-content/uploads/2025/03/Seasoned-Women.png
END:VEVENT
BEGIN:VEVENT
DTSTART;TZID=America/Los_Angeles:20260213T180000
DTEND;TZID=America/Los_Angeles:20260213T210000
DTSTAMP:20260423T153837
CREATED:20260114T005455Z
LAST-MODIFIED:20260114T005455Z
UID:1953-1771005600-1771016400@valleybaptistchurchnorthidaho.com
SUMMARY:Valentines Dinner
DESCRIPTION:Thrive is hosting a wonderful valentines dinner for you and your sweetie again this year. Sure to be a delight\, there will be food and fun available for couples of VBC and their friends. The cost of dinner is $40 and tickets are limited so be sure to sign up soon.
URL:https://valleybaptistchurchnorthidaho.com/event/valentines-dinner-2/
LOCATION:Valley Baptist Church
ATTACH;FMTTYPE=image/png:https://valleybaptistchurchnorthidaho.com/wp-content/uploads/2026/01/Valentines-Dinner.png
END:VEVENT
BEGIN:VEVENT
DTSTART;TZID=America/Los_Angeles:20260216T173000
DTEND;TZID=America/Los_Angeles:20260216T200000
DTSTAMP:20260423T153837
CREATED:20260113T234401Z
LAST-MODIFIED:20260113T234401Z
UID:1883-1771263000-1771272000@valleybaptistchurchnorthidaho.com
SUMMARY:Daughters of the King
DESCRIPTION:Daughters of the King is a ministry group that desires to disciple and encourage teen girls. We meet bi-weekly\, on Monday evenings\, for a Biblical lesson and an activity. The activities range from crafting\, hiking\, baking\, learning life skills\, serving the church or community\,… even playing airsoft. Moms are encouraged to come and participate. Have little ones? No problem\, you can bring them with you! \n 
URL:https://valleybaptistchurchnorthidaho.com/event/daughters-of-the-king-24/
LOCATION:Valley Baptist Church
ATTACH;FMTTYPE=image/png:https://valleybaptistchurchnorthidaho.com/wp-content/uploads/2024/09/Daughters-of-the-King.png
END:VEVENT
BEGIN:VEVENT
DTSTART;TZID=America/Los_Angeles:20260216T173000
DTEND;TZID=America/Los_Angeles:20260216T200000
DTSTAMP:20260423T153837
CREATED:20260129T170503Z
LAST-MODIFIED:20260129T170503Z
UID:2094-1771263000-1771272000@valleybaptistchurchnorthidaho.com
SUMMARY:Father and Son
DESCRIPTION:The purpose of Father Son Ministry is: \nTo glorify God by raising our sons to know Jesus and be obedient to him.  \nTo encourage fathers in their walk with the Lord. \nTo teach our boys to be men that can take care of their families and are well-rounded. \nTo train fathers to be examples for their sons. \nTo create a community of godly men to go through life together.
URL:https://valleybaptistchurchnorthidaho.com/event/father-and-son-35/
LOCATION:Valley Baptist Church
ATTACH;FMTTYPE=image/png:https://valleybaptistchurchnorthidaho.com/wp-content/uploads/2024/10/Father-and-Son-Photo.png
END:VEVENT
BEGIN:VEVENT
DTSTART;TZID=America/Los_Angeles:20260217T180000
DTEND;TZID=America/Los_Angeles:20260217T210000
DTSTAMP:20260423T153837
CREATED:20260115T005241Z
LAST-MODIFIED:20260115T005241Z
UID:1978-1771351200-1771362000@valleybaptistchurchnorthidaho.com
SUMMARY:Refine
DESCRIPTION:Refine is our weekly young adult Bible study for those ages 18 – 29.
URL:https://valleybaptistchurchnorthidaho.com/event/refine-88/
LOCATION:Valley Baptist Church
ATTACH;FMTTYPE=image/png:https://valleybaptistchurchnorthidaho.com/wp-content/uploads/2025/01/Refine-No-Book.png
END:VEVENT
BEGIN:VEVENT
DTSTART;TZID=America/Los_Angeles:20260222T180000
DTEND;TZID=America/Los_Angeles:20260222T200000
DTSTAMP:20260423T153837
CREATED:20260129T165436Z
LAST-MODIFIED:20260129T165436Z
UID:2079-1771783200-1771790400@valleybaptistchurchnorthidaho.com
SUMMARY:Love and Respect
DESCRIPTION:Love and respect are two fundamental aspects of relationships that contribute to their strength and quality. In the context of marriage\, the Love and Respect system emphasizes the importance of both love and respect in addressing and resolving conflicts. 
URL:https://valleybaptistchurchnorthidaho.com/event/love-and-respect-8/
LOCATION:Valley Baptist Church
ATTACH;FMTTYPE=image/png:https://valleybaptistchurchnorthidaho.com/wp-content/uploads/2024/03/Love-and-Respect-2024-1.png
END:VEVENT
BEGIN:VEVENT
DTSTART;TZID=America/Los_Angeles:20260223T173000
DTEND;TZID=America/Los_Angeles:20260223T200000
DTSTAMP:20260423T153837
CREATED:20260129T170553Z
LAST-MODIFIED:20260129T170553Z
UID:2095-1771867800-1771876800@valleybaptistchurchnorthidaho.com
SUMMARY:Father and Son
DESCRIPTION:The purpose of Father Son Ministry is: \nTo glorify God by raising our sons to know Jesus and be obedient to him.  \nTo encourage fathers in their walk with the Lord. \nTo teach our boys to be men that can take care of their families and are well-rounded. \nTo train fathers to be examples for their sons. \nTo create a community of godly men to go through life together.
URL:https://valleybaptistchurchnorthidaho.com/event/father-and-son-36/
LOCATION:Valley Baptist Church
ATTACH;FMTTYPE=image/png:https://valleybaptistchurchnorthidaho.com/wp-content/uploads/2024/10/Father-and-Son-Photo.png
END:VEVENT
BEGIN:VEVENT
DTSTART;TZID=America/Los_Angeles:20260224T180000
DTEND;TZID=America/Los_Angeles:20260224T210000
DTSTAMP:20260423T153837
CREATED:20260115T005248Z
LAST-MODIFIED:20260115T005248Z
UID:1979-1771956000-1771966800@valleybaptistchurchnorthidaho.com
SUMMARY:Refine
DESCRIPTION:Refine is our weekly young adult Bible study for those ages 18 – 29.
URL:https://valleybaptistchurchnorthidaho.com/event/refine-89/
LOCATION:Valley Baptist Church
ATTACH;FMTTYPE=image/png:https://valleybaptistchurchnorthidaho.com/wp-content/uploads/2025/01/Refine-No-Book.png
END:VEVENT
BEGIN:VEVENT
DTSTART;TZID=America/Los_Angeles:20260226T173000
DTEND;TZID=America/Los_Angeles:20260226T200000
DTSTAMP:20260423T153837
CREATED:20260114T235845Z
LAST-MODIFIED:20260114T235845Z
UID:1958-1772127000-1772136000@valleybaptistchurchnorthidaho.com
SUMMARY:Thrive
DESCRIPTION:Thrive welcomes youth ages 10-18 who are in the pursuit of fun\, friendship\, and foremost\, a relationship with Christ.
URL:https://valleybaptistchurchnorthidaho.com/event/thrive-47/
LOCATION:Valley Baptist Church
ATTACH;FMTTYPE=image/png:https://valleybaptistchurchnorthidaho.com/wp-content/uploads/2023/12/Thrive-This-Week.png
END:VEVENT
BEGIN:VEVENT
DTSTART;TZID=America/Los_Angeles:20260301T110000
DTEND;TZID=America/Los_Angeles:20260301T130000
DTSTAMP:20260423T153837
CREATED:20260114T003419Z
LAST-MODIFIED:20260114T003419Z
UID:1930-1772362800-1772370000@valleybaptistchurchnorthidaho.com
SUMMARY:Sunday Morning Potluck
DESCRIPTION:Come fellowship\, and get to know us better at our monthly potluck. Please bring a main\, side\, or desert dish to share and stay after the service for more fellowship. We’d love to see you there.
URL:https://valleybaptistchurchnorthidaho.com/event/sunday-morning-potluck-16/
LOCATION:Valley Baptist Church
ATTACH;FMTTYPE=image/png:https://valleybaptistchurchnorthidaho.com/wp-content/uploads/2024/07/Potluck-Today.png
END:VEVENT
BEGIN:VEVENT
DTSTART;TZID=America/Los_Angeles:20260301T180000
DTEND;TZID=America/Los_Angeles:20260301T200000
DTSTAMP:20260423T153837
CREATED:20260129T165733Z
LAST-MODIFIED:20260129T165733Z
UID:2080-1772388000-1772395200@valleybaptistchurchnorthidaho.com
SUMMARY:Love and Respect
DESCRIPTION:Love and respect are two fundamental aspects of relationships that contribute to their strength and quality. In the context of marriage\, the Love and Respect system emphasizes the importance of both love and respect in addressing and resolving conflicts. 
URL:https://valleybaptistchurchnorthidaho.com/event/love-and-respect-9/
LOCATION:Valley Baptist Church
ATTACH;FMTTYPE=image/png:https://valleybaptistchurchnorthidaho.com/wp-content/uploads/2024/03/Love-and-Respect-2024-1.png
END:VEVENT
BEGIN:VEVENT
DTSTART;TZID=America/Los_Angeles:20260302T173000
DTEND;TZID=America/Los_Angeles:20260302T200000
DTSTAMP:20260423T153837
CREATED:20260113T235253Z
LAST-MODIFIED:20260113T235253Z
UID:1884-1772472600-1772481600@valleybaptistchurchnorthidaho.com
SUMMARY:Daughters of the King
DESCRIPTION:Daughters of the King is a ministry group that desires to disciple and encourage teen girls. We meet bi-weekly\, on Monday evenings\, for a Biblical lesson and an activity. The activities range from crafting\, hiking\, baking\, learning life skills\, serving the church or community\,… even playing airsoft. Moms are encouraged to come and participate. Have little ones? No problem\, you can bring them with you! \n 
URL:https://valleybaptistchurchnorthidaho.com/event/daughters-of-the-king-25/
LOCATION:Valley Baptist Church
ATTACH;FMTTYPE=image/png:https://valleybaptistchurchnorthidaho.com/wp-content/uploads/2024/09/Daughters-of-the-King.png
END:VEVENT
BEGIN:VEVENT
DTSTART;TZID=America/Los_Angeles:20260302T173000
DTEND;TZID=America/Los_Angeles:20260302T200000
DTSTAMP:20260423T153837
CREATED:20260129T170619Z
LAST-MODIFIED:20260129T170619Z
UID:2096-1772472600-1772481600@valleybaptistchurchnorthidaho.com
SUMMARY:Father and Son
DESCRIPTION:The purpose of Father Son Ministry is: \nTo glorify God by raising our sons to know Jesus and be obedient to him.  \nTo encourage fathers in their walk with the Lord. \nTo teach our boys to be men that can take care of their families and are well-rounded. \nTo train fathers to be examples for their sons. \nTo create a community of godly men to go through life together.
URL:https://valleybaptistchurchnorthidaho.com/event/father-and-son-37/
LOCATION:Valley Baptist Church
ATTACH;FMTTYPE=image/png:https://valleybaptistchurchnorthidaho.com/wp-content/uploads/2024/10/Father-and-Son-Photo.png
END:VEVENT
BEGIN:VEVENT
DTSTART;TZID=America/Los_Angeles:20260303T180000
DTEND;TZID=America/Los_Angeles:20260303T210000
DTSTAMP:20260423T153837
CREATED:20260115T005255Z
LAST-MODIFIED:20260115T005255Z
UID:1980-1772560800-1772571600@valleybaptistchurchnorthidaho.com
SUMMARY:
DESCRIPTION:Refine is our weekly young adult Bible study for those ages 18 – 29.
URL:https://valleybaptistchurchnorthidaho.com/event/1980/
LOCATION:Valley Baptist Church
ATTACH;FMTTYPE=image/png:https://valleybaptistchurchnorthidaho.com/wp-content/uploads/2025/01/Refine-No-Book.png
END:VEVENT
BEGIN:VEVENT
DTSTART;TZID=America/Los_Angeles:20260308T180000
DTEND;TZID=America/Los_Angeles:20260308T200000
DTSTAMP:20260423T153837
CREATED:20260129T165755Z
LAST-MODIFIED:20260129T165755Z
UID:2082-1772992800-1773000000@valleybaptistchurchnorthidaho.com
SUMMARY:Love and Respect
DESCRIPTION:Love and respect are two fundamental aspects of relationships that contribute to their strength and quality. In the context of marriage\, the Love and Respect system emphasizes the importance of both love and respect in addressing and resolving conflicts. 
URL:https://valleybaptistchurchnorthidaho.com/event/love-and-respect-10/
LOCATION:Valley Baptist Church
ATTACH;FMTTYPE=image/png:https://valleybaptistchurchnorthidaho.com/wp-content/uploads/2024/03/Love-and-Respect-2024-1.png
END:VEVENT
BEGIN:VEVENT
DTSTART;TZID=America/Los_Angeles:20260309T173000
DTEND;TZID=America/Los_Angeles:20260309T200000
DTSTAMP:20260423T153837
CREATED:20260129T170634Z
LAST-MODIFIED:20260129T170715Z
UID:2097-1773077400-1773086400@valleybaptistchurchnorthidaho.com
SUMMARY:Father and Son
DESCRIPTION:The purpose of Father Son Ministry is: \nTo glorify God by raising our sons to know Jesus and be obedient to him.  \nTo encourage fathers in their walk with the Lord. \nTo teach our boys to be men that can take care of their families and are well-rounded. \nTo train fathers to be examples for their sons. \nTo create a community of godly men to go through life together.
URL:https://valleybaptistchurchnorthidaho.com/event/father-and-son-38/
LOCATION:Valley Baptist Church
ATTACH;FMTTYPE=image/png:https://valleybaptistchurchnorthidaho.com/wp-content/uploads/2024/10/Father-and-Son-Photo.png
END:VEVENT
BEGIN:VEVENT
DTSTART;TZID=America/Los_Angeles:20260310T180000
DTEND;TZID=America/Los_Angeles:20260310T210000
DTSTAMP:20260423T153837
CREATED:20260115T005302Z
LAST-MODIFIED:20260115T005302Z
UID:1981-1773165600-1773176400@valleybaptistchurchnorthidaho.com
SUMMARY:Refine
DESCRIPTION:Refine is our weekly young adult Bible study for those ages 18 – 29.
URL:https://valleybaptistchurchnorthidaho.com/event/refine-90/
LOCATION:Valley Baptist Church
ATTACH;FMTTYPE=image/png:https://valleybaptistchurchnorthidaho.com/wp-content/uploads/2025/01/Refine-No-Book.png
END:VEVENT
BEGIN:VEVENT
DTSTART;TZID=America/Los_Angeles:20260312T173000
DTEND;TZID=America/Los_Angeles:20260312T210000
DTSTAMP:20260423T153837
CREATED:20260114T235857Z
LAST-MODIFIED:20260114T235857Z
UID:1959-1773336600-1773349200@valleybaptistchurchnorthidaho.com
SUMMARY:Thrive
DESCRIPTION:Thrive welcomes youth ages 10-18 who are in the pursuit of fun\, friendship\, and foremost\, a relationship with Christ.
URL:https://valleybaptistchurchnorthidaho.com/event/thrive-48/
LOCATION:Valley Baptist Church
ATTACH;FMTTYPE=image/png:https://valleybaptistchurchnorthidaho.com/wp-content/uploads/2023/12/Thrive-This-Week.png
END:VEVENT
BEGIN:VEVENT
DTSTART;TZID=America/Los_Angeles:20260315T180000
DTEND;TZID=America/Los_Angeles:20260315T200000
DTSTAMP:20260423T153837
CREATED:20260129T165832Z
LAST-MODIFIED:20260129T165832Z
UID:2083-1773597600-1773604800@valleybaptistchurchnorthidaho.com
SUMMARY:Love and Respect
DESCRIPTION:Love and respect are two fundamental aspects of relationships that contribute to their strength and quality. In the context of marriage\, the Love and Respect system emphasizes the importance of both love and respect in addressing and resolving conflicts. 
URL:https://valleybaptistchurchnorthidaho.com/event/love-and-respect-11/
LOCATION:Valley Baptist Church
ATTACH;FMTTYPE=image/png:https://valleybaptistchurchnorthidaho.com/wp-content/uploads/2024/03/Love-and-Respect-2024-1.png
END:VEVENT
BEGIN:VEVENT
DTSTART;TZID=America/Los_Angeles:20260316T173000
DTEND;TZID=America/Los_Angeles:20260316T200000
DTSTAMP:20260423T153837
CREATED:20260113T235311Z
LAST-MODIFIED:20260113T235311Z
UID:1885-1773682200-1773691200@valleybaptistchurchnorthidaho.com
SUMMARY:Daughters of the King
DESCRIPTION:Daughters of the King is a ministry group that desires to disciple and encourage teen girls. We meet bi-weekly\, on Monday evenings\, for a Biblical lesson and an activity. The activities range from crafting\, hiking\, baking\, learning life skills\, serving the church or community\,… even playing airsoft. Moms are encouraged to come and participate. Have little ones? No problem\, you can bring them with you! \n 
URL:https://valleybaptistchurchnorthidaho.com/event/daughters-of-the-king-26/
LOCATION:Valley Baptist Church
ATTACH;FMTTYPE=image/png:https://valleybaptistchurchnorthidaho.com/wp-content/uploads/2024/09/Daughters-of-the-King.png
END:VEVENT
BEGIN:VEVENT
DTSTART;TZID=America/Los_Angeles:20260316T173000
DTEND;TZID=America/Los_Angeles:20260316T200000
DTSTAMP:20260423T153837
CREATED:20260129T170658Z
LAST-MODIFIED:20260129T170658Z
UID:2098-1773682200-1773691200@valleybaptistchurchnorthidaho.com
SUMMARY:Father and Son
DESCRIPTION:The purpose of Father Son Ministry is: \nTo glorify God by raising our sons to know Jesus and be obedient to him.  \nTo encourage fathers in their walk with the Lord. \nTo teach our boys to be men that can take care of their families and are well-rounded. \nTo train fathers to be examples for their sons. \nTo create a community of godly men to go through life together.
URL:https://valleybaptistchurchnorthidaho.com/event/father-and-son-39/
LOCATION:Valley Baptist Church
ATTACH;FMTTYPE=image/png:https://valleybaptistchurchnorthidaho.com/wp-content/uploads/2024/10/Father-and-Son-Photo.png
END:VEVENT
BEGIN:VEVENT
DTSTART;TZID=America/Los_Angeles:20260317T180000
DTEND;TZID=America/Los_Angeles:20260317T210000
DTSTAMP:20260423T153837
CREATED:20260115T005308Z
LAST-MODIFIED:20260115T005308Z
UID:1982-1773770400-1773781200@valleybaptistchurchnorthidaho.com
SUMMARY:Refine
DESCRIPTION:Refine is our weekly young adult Bible study for those ages 18 – 29.
URL:https://valleybaptistchurchnorthidaho.com/event/refine-91/
LOCATION:Valley Baptist Church
ATTACH;FMTTYPE=image/png:https://valleybaptistchurchnorthidaho.com/wp-content/uploads/2025/01/Refine-No-Book.png
END:VEVENT
BEGIN:VEVENT
DTSTART;TZID=America/Los_Angeles:20260322T180000
DTEND;TZID=America/Los_Angeles:20260322T200000
DTSTAMP:20260423T153837
CREATED:20260129T165853Z
LAST-MODIFIED:20260129T165853Z
UID:2084-1774202400-1774209600@valleybaptistchurchnorthidaho.com
SUMMARY:Love and Respect
DESCRIPTION:Love and respect are two fundamental aspects of relationships that contribute to their strength and quality. In the context of marriage\, the Love and Respect system emphasizes the importance of both love and respect in addressing and resolving conflicts. 
URL:https://valleybaptistchurchnorthidaho.com/event/love-and-respect-12/
LOCATION:Valley Baptist Church
ATTACH;FMTTYPE=image/png:https://valleybaptistchurchnorthidaho.com/wp-content/uploads/2024/03/Love-and-Respect-2024-1.png
END:VEVENT
BEGIN:VEVENT
DTSTART;TZID=America/Los_Angeles:20260323T173000
DTEND;TZID=America/Los_Angeles:20260323T200000
DTSTAMP:20260423T153837
CREATED:20260129T171036Z
LAST-MODIFIED:20260129T171036Z
UID:2106-1774287000-1774296000@valleybaptistchurchnorthidaho.com
SUMMARY:Father and Son
DESCRIPTION:The purpose of Father Son Ministry is: \nTo glorify God by raising our sons to know Jesus and be obedient to him.  \nTo encourage fathers in their walk with the Lord. \nTo teach our boys to be men that can take care of their families and are well-rounded. \nTo train fathers to be examples for their sons. \nTo create a community of godly men to go through life together.
URL:https://valleybaptistchurchnorthidaho.com/event/father-and-son-40/
LOCATION:Valley Baptist Church
ATTACH;FMTTYPE=image/png:https://valleybaptistchurchnorthidaho.com/wp-content/uploads/2024/10/Father-and-Son-Photo.png
END:VEVENT
BEGIN:VEVENT
DTSTART;TZID=America/Los_Angeles:20260324T180000
DTEND;TZID=America/Los_Angeles:20260324T210000
DTSTAMP:20260423T153837
CREATED:20260115T005350Z
LAST-MODIFIED:20260115T005350Z
UID:1983-1774375200-1774386000@valleybaptistchurchnorthidaho.com
SUMMARY:Refine
DESCRIPTION:Refine is our weekly young adult Bible study for those ages 18 – 29.
URL:https://valleybaptistchurchnorthidaho.com/event/refine-92/
LOCATION:Valley Baptist Church
ATTACH;FMTTYPE=image/png:https://valleybaptistchurchnorthidaho.com/wp-content/uploads/2025/01/Refine-No-Book.png
END:VEVENT
BEGIN:VEVENT
DTSTART;TZID=America/Los_Angeles:20260326T173000
DTEND;TZID=America/Los_Angeles:20260326T200000
DTSTAMP:20260423T153837
CREATED:20260114T235911Z
LAST-MODIFIED:20260114T235911Z
UID:1960-1774546200-1774555200@valleybaptistchurchnorthidaho.com
SUMMARY:Thrive
DESCRIPTION:Thrive welcomes youth ages 10-18 who are in the pursuit of fun\, friendship\, and foremost\, a relationship with Christ.
URL:https://valleybaptistchurchnorthidaho.com/event/thrive-49/
LOCATION:Valley Baptist Church
ATTACH;FMTTYPE=image/png:https://valleybaptistchurchnorthidaho.com/wp-content/uploads/2023/12/Thrive-This-Week.png
END:VEVENT
BEGIN:VEVENT
DTSTART;TZID=America/Los_Angeles:20260329T180000
DTEND;TZID=America/Los_Angeles:20260329T200000
DTSTAMP:20260423T153837
CREATED:20260129T165907Z
LAST-MODIFIED:20260129T165907Z
UID:2085-1774807200-1774814400@valleybaptistchurchnorthidaho.com
SUMMARY:Love and Respect
DESCRIPTION:Love and respect are two fundamental aspects of relationships that contribute to their strength and quality. In the context of marriage\, the Love and Respect system emphasizes the importance of both love and respect in addressing and resolving conflicts. 
URL:https://valleybaptistchurchnorthidaho.com/event/love-and-respect-13/
LOCATION:Valley Baptist Church
ATTACH;FMTTYPE=image/png:https://valleybaptistchurchnorthidaho.com/wp-content/uploads/2024/03/Love-and-Respect-2024-1.png
END:VEVENT
BEGIN:VEVENT
DTSTART;TZID=America/Los_Angeles:20260330T173000
DTEND;TZID=America/Los_Angeles:20260330T200000
DTSTAMP:20260423T153837
CREATED:20260113T235330Z
LAST-MODIFIED:20260113T235330Z
UID:1886-1774891800-1774900800@valleybaptistchurchnorthidaho.com
SUMMARY:Daughters of the King
DESCRIPTION:Daughters of the King is a ministry group that desires to disciple and encourage teen girls. We meet bi-weekly\, on Monday evenings\, for a Biblical lesson and an activity. The activities range from crafting\, hiking\, baking\, learning life skills\, serving the church or community\,… even playing airsoft. Moms are encouraged to come and participate. Have little ones? No problem\, you can bring them with you! \n 
URL:https://valleybaptistchurchnorthidaho.com/event/daughters-of-the-king-28/
LOCATION:Valley Baptist Church
ATTACH;FMTTYPE=image/png:https://valleybaptistchurchnorthidaho.com/wp-content/uploads/2024/09/Daughters-of-the-King.png
END:VEVENT
BEGIN:VEVENT
DTSTART;TZID=America/Los_Angeles:20260330T173000
DTEND;TZID=America/Los_Angeles:20260330T200000
DTSTAMP:20260423T153837
CREATED:20260129T171051Z
LAST-MODIFIED:20260129T171051Z
UID:2107-1774891800-1774900800@valleybaptistchurchnorthidaho.com
SUMMARY:Father and Son
DESCRIPTION:The purpose of Father Son Ministry is: \nTo glorify God by raising our sons to know Jesus and be obedient to him.  \nTo encourage fathers in their walk with the Lord. \nTo teach our boys to be men that can take care of their families and are well-rounded. \nTo train fathers to be examples for their sons. \nTo create a community of godly men to go through life together.
URL:https://valleybaptistchurchnorthidaho.com/event/father-and-son-56/
LOCATION:Valley Baptist Church
ATTACH;FMTTYPE=image/png:https://valleybaptistchurchnorthidaho.com/wp-content/uploads/2024/10/Father-and-Son-Photo.png
END:VEVENT
BEGIN:VEVENT
DTSTART;TZID=America/Los_Angeles:20260331T180000
DTEND;TZID=America/Los_Angeles:20260331T210000
DTSTAMP:20260423T153838
CREATED:20260115T005359Z
LAST-MODIFIED:20260115T005359Z
UID:1984-1774980000-1774990800@valleybaptistchurchnorthidaho.com
SUMMARY:Refine
DESCRIPTION:Refine is our weekly young adult Bible study for those ages 18 – 29.
URL:https://valleybaptistchurchnorthidaho.com/event/refine-93/
LOCATION:Valley Baptist Church
ATTACH;FMTTYPE=image/png:https://valleybaptistchurchnorthidaho.com/wp-content/uploads/2025/01/Refine-No-Book.png
END:VEVENT
END:VCALENDAR