BEGIN:VCALENDAR
VERSION:2.0
PRODID:-//Valley Baptist Church - ECPv6.15.20//NONSGML v1.0//EN
CALSCALE:GREGORIAN
METHOD:PUBLISH
X-WR-CALNAME:Valley Baptist Church
X-ORIGINAL-URL:https://valleybaptistchurchnorthidaho.com
X-WR-CALDESC:Events for Valley Baptist Church
REFRESH-INTERVAL;VALUE=DURATION:PT1H
X-Robots-Tag:noindex
X-PUBLISHED-TTL:PT1H
BEGIN:VTIMEZONE
TZID:America/Los_Angeles
BEGIN:DAYLIGHT
TZOFFSETFROM:-0800
TZOFFSETTO:-0700
TZNAME:PDT
DTSTART:20240310T100000
END:DAYLIGHT
BEGIN:STANDARD
TZOFFSETFROM:-0700
TZOFFSETTO:-0800
TZNAME:PST
DTSTART:20241103T090000
END:STANDARD
BEGIN:DAYLIGHT
TZOFFSETFROM:-0800
TZOFFSETTO:-0700
TZNAME:PDT
DTSTART:20250309T100000
END:DAYLIGHT
BEGIN:STANDARD
TZOFFSETFROM:-0700
TZOFFSETTO:-0800
TZNAME:PST
DTSTART:20251102T090000
END:STANDARD
BEGIN:DAYLIGHT
TZOFFSETFROM:-0800
TZOFFSETTO:-0700
TZNAME:PDT
DTSTART:20260308T100000
END:DAYLIGHT
BEGIN:STANDARD
TZOFFSETFROM:-0700
TZOFFSETTO:-0800
TZNAME:PST
DTSTART:20261101T090000
END:STANDARD
END:VTIMEZONE
BEGIN:VEVENT
DTSTART;TZID=America/Los_Angeles:20251227T070000
DTEND;TZID=America/Los_Angeles:20251227T090000
DTSTAMP:20260423T172113
CREATED:20250605T174502Z
LAST-MODIFIED:20250605T174521Z
UID:1718-1766818800-1766826000@valleybaptistchurchnorthidaho.com
SUMMARY:The Forge
DESCRIPTION:Join us at the church for The Forge. Discuss Challenges we face today as Christian fathers\, husbands and leaders. We will study Gods word as “iron sharpens iron”. See you there!
URL:https://valleybaptistchurchnorthidaho.com/event/1718/
LOCATION:Valley Baptist Church
ATTACH;FMTTYPE=image/png:https://valleybaptistchurchnorthidaho.com/wp-content/uploads/2025/02/The-Forge-No-Date.png
END:VEVENT
BEGIN:VEVENT
DTSTART;TZID=America/Los_Angeles:20251218T173000
DTEND;TZID=America/Los_Angeles:20251218T200000
DTSTAMP:20260423T172113
CREATED:20250605T151102Z
LAST-MODIFIED:20250730T132431Z
UID:1649-1766079000-1766088000@valleybaptistchurchnorthidaho.com
SUMMARY:Thrive
DESCRIPTION:Thrive welcomes youth ages 10-18 who are in the pursuit of fun\, friendship\, and foremost\, a relationship with Christ.
URL:https://valleybaptistchurchnorthidaho.com/event/thrive-46/
LOCATION:Valley Baptist Church
ATTACH;FMTTYPE=image/png:https://valleybaptistchurchnorthidaho.com/wp-content/uploads/2023/12/Thrive-This-Week.png
END:VEVENT
BEGIN:VEVENT
DTSTART;TZID=America/Los_Angeles:20251216T180000
DTEND;TZID=America/Los_Angeles:20251216T210000
DTSTAMP:20260423T172113
CREATED:20250605T144351Z
LAST-MODIFIED:20250605T144351Z
UID:1605-1765908000-1765918800@valleybaptistchurchnorthidaho.com
SUMMARY:Refine
DESCRIPTION:Refine is our weekly young adult Bible study for those ages 18 – 29.
URL:https://valleybaptistchurchnorthidaho.com/event/refine-82/
LOCATION:Valley Baptist Church
ATTACH;FMTTYPE=image/png:https://valleybaptistchurchnorthidaho.com/wp-content/uploads/2025/01/Refine-No-Book.png
END:VEVENT
BEGIN:VEVENT
DTSTART;TZID=America/Los_Angeles:20251215T173000
DTEND;TZID=America/Los_Angeles:20251215T200000
DTSTAMP:20260423T172113
CREATED:20250605T145701Z
LAST-MODIFIED:20250605T145701Z
UID:1622-1765819800-1765828800@valleybaptistchurchnorthidaho.com
SUMMARY:Daughters of the King
DESCRIPTION:Daughters of the King is a ministry group that desires to disciple and encourage teen girls. We meet once a week\, on Thursday evening\, for a Biblical lesson and an activity. The activities range from crafting\, hiking\, baking\, learning life skills\, serving the church or community\,… even playing airsoft. Moms are encouraged to come and participate. Have little ones? No problem\, you can bring them with you! \n 
URL:https://valleybaptistchurchnorthidaho.com/event/daughters-of-the-king-35/
LOCATION:Valley Baptist Church
ATTACH;FMTTYPE=image/png:https://valleybaptistchurchnorthidaho.com/wp-content/uploads/2024/09/Daughters-of-the-King.png
END:VEVENT
BEGIN:VEVENT
DTSTART;TZID=America/Los_Angeles:20251215T173000
DTEND;TZID=America/Los_Angeles:20251215T200000
DTSTAMP:20260423T172113
CREATED:20250605T140005Z
LAST-MODIFIED:20250605T140005Z
UID:1557-1765819800-1765828800@valleybaptistchurchnorthidaho.com
SUMMARY:Father and Son
DESCRIPTION:The purpose of Father Son Ministry is: \nTo glorify God by raising our sons to know Jesus and be obedient to him.  \nTo encourage fathers in their walk with the Lord. \nTo teach our boys to be men that can take care of their families and are well-rounded. \nTo train fathers to be examples for their sons. \nTo create a community of godly men to go through life together.
URL:https://valleybaptistchurchnorthidaho.com/event/father-and-son-55/
LOCATION:Valley Baptist Church
ATTACH;FMTTYPE=image/png:https://valleybaptistchurchnorthidaho.com/wp-content/uploads/2024/10/Father-and-Son-Photo.png
END:VEVENT
BEGIN:VEVENT
DTSTART;TZID=America/Los_Angeles:20251209T180000
DTEND;TZID=America/Los_Angeles:20251209T210000
DTSTAMP:20260423T172113
CREATED:20250605T144345Z
LAST-MODIFIED:20250605T144345Z
UID:1604-1765303200-1765314000@valleybaptistchurchnorthidaho.com
SUMMARY:Refine
DESCRIPTION:Refine is our weekly young adult Bible study for those ages 18 – 29.
URL:https://valleybaptistchurchnorthidaho.com/event/refine-81/
LOCATION:Valley Baptist Church
ATTACH;FMTTYPE=image/png:https://valleybaptistchurchnorthidaho.com/wp-content/uploads/2025/01/Refine-No-Book.png
END:VEVENT
BEGIN:VEVENT
DTSTART;TZID=America/Los_Angeles:20251208T173000
DTEND;TZID=America/Los_Angeles:20251208T200000
DTSTAMP:20260423T172113
CREATED:20250605T135659Z
LAST-MODIFIED:20250605T135659Z
UID:1543-1765215000-1765224000@valleybaptistchurchnorthidaho.com
SUMMARY:Father and Son
DESCRIPTION:The purpose of Father Son Ministry is: \nTo glorify God by raising our sons to know Jesus and be obedient to him.  \nTo encourage fathers in their walk with the Lord. \nTo teach our boys to be men that can take care of their families and are well-rounded. \nTo train fathers to be examples for their sons. \nTo create a community of godly men to go through life together.
URL:https://valleybaptistchurchnorthidaho.com/event/father-and-son-53/
LOCATION:Valley Baptist Church
ATTACH;FMTTYPE=image/png:https://valleybaptistchurchnorthidaho.com/wp-content/uploads/2024/10/Father-and-Son-Photo.png
END:VEVENT
BEGIN:VEVENT
DTSTART;TZID=America/Los_Angeles:20251207T110000
DTEND;TZID=America/Los_Angeles:20251207T140000
DTSTAMP:20260423T172113
CREATED:20250209T203243Z
LAST-MODIFIED:20250605T184655Z
UID:1314-1765105200-1765116000@valleybaptistchurchnorthidaho.com
SUMMARY:Sunday Morning Potluck
DESCRIPTION:Join us for our monthly after service potluck! Please bring a main dish\, side dish\, or dessert to share. We can’t wait to fellowship with you!
URL:https://valleybaptistchurchnorthidaho.com/event/sunday-morning-potluck-14/
LOCATION:Valley Baptist Church
ATTACH;FMTTYPE=image/png:https://valleybaptistchurchnorthidaho.com/wp-content/uploads/2024/07/Potluck-Today.png
END:VEVENT
BEGIN:VEVENT
DTSTART;TZID=America/Los_Angeles:20251204T173000
DTEND;TZID=America/Los_Angeles:20251204T200000
DTSTAMP:20260423T172113
CREATED:20250605T151046Z
LAST-MODIFIED:20250730T132422Z
UID:1648-1764869400-1764878400@valleybaptistchurchnorthidaho.com
SUMMARY:Thrive
DESCRIPTION:Thrive welcomes youth ages 10-18 who are in the pursuit of fun\, friendship\, and foremost\, a relationship with Christ.
URL:https://valleybaptistchurchnorthidaho.com/event/thrive-45/
LOCATION:Valley Baptist Church
ATTACH;FMTTYPE=image/png:https://valleybaptistchurchnorthidaho.com/wp-content/uploads/2023/12/Thrive-This-Week.png
END:VEVENT
BEGIN:VEVENT
DTSTART;TZID=America/Los_Angeles:20251202T180000
DTEND;TZID=America/Los_Angeles:20251202T210000
DTSTAMP:20260423T172113
CREATED:20250605T140715Z
LAST-MODIFIED:20250605T144216Z
UID:1570-1764698400-1764709200@valleybaptistchurchnorthidaho.com
SUMMARY:Refine
DESCRIPTION:Refine is our weekly young adult Bible study for those ages 18 – 29.
URL:https://valleybaptistchurchnorthidaho.com/event/refine-68/
LOCATION:Valley Baptist Church
ATTACH;FMTTYPE=image/png:https://valleybaptistchurchnorthidaho.com/wp-content/uploads/2025/01/Refine-No-Book.png
END:VEVENT
BEGIN:VEVENT
DTSTART;TZID=America/Los_Angeles:20251201T173000
DTEND;TZID=America/Los_Angeles:20251201T200000
DTSTAMP:20260423T172113
CREATED:20250605T145703Z
LAST-MODIFIED:20250605T145703Z
UID:1621-1764610200-1764619200@valleybaptistchurchnorthidaho.com
SUMMARY:Daughters of the King
DESCRIPTION:Daughters of the King is a ministry group that desires to disciple and encourage teen girls. We meet once a week\, on Thursday evening\, for a Biblical lesson and an activity. The activities range from crafting\, hiking\, baking\, learning life skills\, serving the church or community\,… even playing airsoft. Moms are encouraged to come and participate. Have little ones? No problem\, you can bring them with you! \n 
URL:https://valleybaptistchurchnorthidaho.com/event/daughters-of-the-king-36/
LOCATION:Valley Baptist Church
ATTACH;FMTTYPE=image/png:https://valleybaptistchurchnorthidaho.com/wp-content/uploads/2024/09/Daughters-of-the-King.png
END:VEVENT
BEGIN:VEVENT
DTSTART;TZID=America/Los_Angeles:20251201T173000
DTEND;TZID=America/Los_Angeles:20251201T200000
DTSTAMP:20260423T172113
CREATED:20250605T135445Z
LAST-MODIFIED:20250605T135445Z
UID:1547-1764610200-1764619200@valleybaptistchurchnorthidaho.com
SUMMARY:Father and Son
DESCRIPTION:The purpose of Father Son Ministry is: \nTo glorify God by raising our sons to know Jesus and be obedient to him.  \nTo encourage fathers in their walk with the Lord. \nTo teach our boys to be men that can take care of their families and are well-rounded. \nTo train fathers to be examples for their sons. \nTo create a community of godly men to go through life together.
URL:https://valleybaptistchurchnorthidaho.com/event/father-and-son-52/
LOCATION:Valley Baptist Church
ATTACH;FMTTYPE=image/png:https://valleybaptistchurchnorthidaho.com/wp-content/uploads/2024/10/Father-and-Son-Photo.png
END:VEVENT
BEGIN:VEVENT
DTSTART;TZID=America/Los_Angeles:20251129T070000
DTEND;TZID=America/Los_Angeles:20251129T090000
DTSTAMP:20260423T172113
CREATED:20250605T174452Z
LAST-MODIFIED:20250605T174517Z
UID:1717-1764399600-1764406800@valleybaptistchurchnorthidaho.com
SUMMARY:The Forge
DESCRIPTION:Join us at the church for The Forge. Discuss Challenges we face today as Christian fathers\, husbands and leaders. We will study Gods word as “iron sharpens iron”. See you there!
URL:https://valleybaptistchurchnorthidaho.com/event/1717/
LOCATION:Valley Baptist Church
ATTACH;FMTTYPE=image/png:https://valleybaptistchurchnorthidaho.com/wp-content/uploads/2025/02/The-Forge-No-Date.png
END:VEVENT
BEGIN:VEVENT
DTSTART;TZID=America/Los_Angeles:20251118T180000
DTEND;TZID=America/Los_Angeles:20251118T210000
DTSTAMP:20260423T172113
CREATED:20250605T144115Z
LAST-MODIFIED:20250605T144115Z
UID:1591-1763488800-1763499600@valleybaptistchurchnorthidaho.com
SUMMARY:Refine
DESCRIPTION:Refine is our weekly young adult Bible study for those ages 18 – 29.
URL:https://valleybaptistchurchnorthidaho.com/event/refine-80/
LOCATION:Valley Baptist Church
ATTACH;FMTTYPE=image/png:https://valleybaptistchurchnorthidaho.com/wp-content/uploads/2025/01/Refine-No-Book.png
END:VEVENT
BEGIN:VEVENT
DTSTART;TZID=America/Los_Angeles:20251117T173000
DTEND;TZID=America/Los_Angeles:20251117T200000
DTSTAMP:20260423T172113
CREATED:20250605T145645Z
LAST-MODIFIED:20250605T145645Z
UID:1620-1763400600-1763409600@valleybaptistchurchnorthidaho.com
SUMMARY:Daughters of the King
DESCRIPTION:Daughters of the King is a ministry group that desires to disciple and encourage teen girls. We meet once a week\, on Thursday evening\, for a Biblical lesson and an activity. The activities range from crafting\, hiking\, baking\, learning life skills\, serving the church or community\,… even playing airsoft. Moms are encouraged to come and participate. Have little ones? No problem\, you can bring them with you! \n 
URL:https://valleybaptistchurchnorthidaho.com/event/daughters-of-the-king-34/
LOCATION:Valley Baptist Church
ATTACH;FMTTYPE=image/png:https://valleybaptistchurchnorthidaho.com/wp-content/uploads/2024/09/Daughters-of-the-King.png
END:VEVENT
BEGIN:VEVENT
DTSTART;TZID=America/Los_Angeles:20251117T173000
DTEND;TZID=America/Los_Angeles:20251117T200000
DTSTAMP:20260423T172113
CREATED:20250605T135431Z
LAST-MODIFIED:20250605T135431Z
UID:1546-1763400600-1763409600@valleybaptistchurchnorthidaho.com
SUMMARY:Father and Son
DESCRIPTION:The purpose of Father Son Ministry is: \nTo glorify God by raising our sons to know Jesus and be obedient to him.  \nTo encourage fathers in their walk with the Lord. \nTo teach our boys to be men that can take care of their families and are well-rounded. \nTo train fathers to be examples for their sons. \nTo create a community of godly men to go through life together.
URL:https://valleybaptistchurchnorthidaho.com/event/father-and-son-51/
LOCATION:Valley Baptist Church
ATTACH;FMTTYPE=image/png:https://valleybaptistchurchnorthidaho.com/wp-content/uploads/2024/10/Father-and-Son-Photo.png
END:VEVENT
BEGIN:VEVENT
DTSTART;TZID=America/Los_Angeles:20251113T173000
DTEND;TZID=America/Los_Angeles:20251113T200000
DTSTAMP:20260423T172113
CREATED:20250605T151018Z
LAST-MODIFIED:20250730T132332Z
UID:1647-1763055000-1763064000@valleybaptistchurchnorthidaho.com
SUMMARY:Thrive
DESCRIPTION:Thrive welcomes youth ages 10-18 who are in the pursuit of fun\, friendship\, and foremost\, a relationship with Christ.
URL:https://valleybaptistchurchnorthidaho.com/event/thrive-44/
LOCATION:Valley Baptist Church
ATTACH;FMTTYPE=image/png:https://valleybaptistchurchnorthidaho.com/wp-content/uploads/2023/12/Thrive-This-Week.png
END:VEVENT
BEGIN:VEVENT
DTSTART;TZID=America/Los_Angeles:20251111T180000
DTEND;TZID=America/Los_Angeles:20251111T210000
DTSTAMP:20260423T172113
CREATED:20250605T144105Z
LAST-MODIFIED:20250605T144105Z
UID:1590-1762884000-1762894800@valleybaptistchurchnorthidaho.com
SUMMARY:Refine
DESCRIPTION:Refine is our weekly young adult Bible study for those ages 18 – 29.
URL:https://valleybaptistchurchnorthidaho.com/event/refine-79/
LOCATION:Valley Baptist Church
ATTACH;FMTTYPE=image/png:https://valleybaptistchurchnorthidaho.com/wp-content/uploads/2025/01/Refine-No-Book.png
END:VEVENT
BEGIN:VEVENT
DTSTART;TZID=America/Los_Angeles:20251110T173000
DTEND;TZID=America/Los_Angeles:20251110T200000
DTSTAMP:20260423T172113
CREATED:20250605T135422Z
LAST-MODIFIED:20250605T135422Z
UID:1545-1762795800-1762804800@valleybaptistchurchnorthidaho.com
SUMMARY:Father and Son
DESCRIPTION:The purpose of Father Son Ministry is: \nTo glorify God by raising our sons to know Jesus and be obedient to him.  \nTo encourage fathers in their walk with the Lord. \nTo teach our boys to be men that can take care of their families and are well-rounded. \nTo train fathers to be examples for their sons. \nTo create a community of godly men to go through life together.
URL:https://valleybaptistchurchnorthidaho.com/event/father-and-son-50/
LOCATION:Valley Baptist Church
ATTACH;FMTTYPE=image/png:https://valleybaptistchurchnorthidaho.com/wp-content/uploads/2024/10/Father-and-Son-Photo.png
END:VEVENT
BEGIN:VEVENT
DTSTART;TZID=America/Los_Angeles:20251104T180000
DTEND;TZID=America/Los_Angeles:20251104T210000
DTSTAMP:20260423T172113
CREATED:20250605T144057Z
LAST-MODIFIED:20250605T144057Z
UID:1589-1762279200-1762290000@valleybaptistchurchnorthidaho.com
SUMMARY:Refine
DESCRIPTION:Refine is our weekly young adult Bible study for those ages 18 – 29.
URL:https://valleybaptistchurchnorthidaho.com/event/refine-78/
LOCATION:Valley Baptist Church
ATTACH;FMTTYPE=image/png:https://valleybaptistchurchnorthidaho.com/wp-content/uploads/2025/01/Refine-No-Book.png
END:VEVENT
BEGIN:VEVENT
DTSTART;TZID=America/Los_Angeles:20251103T173000
DTEND;TZID=America/Los_Angeles:20251103T200000
DTSTAMP:20260423T172113
CREATED:20250605T145633Z
LAST-MODIFIED:20250605T145633Z
UID:1619-1762191000-1762200000@valleybaptistchurchnorthidaho.com
SUMMARY:Daughters of the King
DESCRIPTION:Daughters of the King is a ministry group that desires to disciple and encourage teen girls. We meet once a week\, on Thursday evening\, for a Biblical lesson and an activity. The activities range from crafting\, hiking\, baking\, learning life skills\, serving the church or community\,… even playing airsoft. Moms are encouraged to come and participate. Have little ones? No problem\, you can bring them with you! \n 
URL:https://valleybaptistchurchnorthidaho.com/event/daughters-of-the-king-33/
LOCATION:Valley Baptist Church
ATTACH;FMTTYPE=image/png:https://valleybaptistchurchnorthidaho.com/wp-content/uploads/2024/09/Daughters-of-the-King.png
END:VEVENT
BEGIN:VEVENT
DTSTART;TZID=America/Los_Angeles:20251103T173000
DTEND;TZID=America/Los_Angeles:20251103T200000
DTSTAMP:20260423T172113
CREATED:20250605T135413Z
LAST-MODIFIED:20250605T135413Z
UID:1544-1762191000-1762200000@valleybaptistchurchnorthidaho.com
SUMMARY:Father and Son
DESCRIPTION:The purpose of Father Son Ministry is: \nTo glorify God by raising our sons to know Jesus and be obedient to him.  \nTo encourage fathers in their walk with the Lord. \nTo teach our boys to be men that can take care of their families and are well-rounded. \nTo train fathers to be examples for their sons. \nTo create a community of godly men to go through life together.
URL:https://valleybaptistchurchnorthidaho.com/event/father-and-son-49/
LOCATION:Valley Baptist Church
ATTACH;FMTTYPE=image/png:https://valleybaptistchurchnorthidaho.com/wp-content/uploads/2024/10/Father-and-Son-Photo.png
END:VEVENT
BEGIN:VEVENT
DTSTART;TZID=America/Los_Angeles:20251102T110000
DTEND;TZID=America/Los_Angeles:20251102T140000
DTSTAMP:20260423T172113
CREATED:20250209T203027Z
LAST-MODIFIED:20250605T184850Z
UID:1313-1762081200-1762092000@valleybaptistchurchnorthidaho.com
SUMMARY:Sunday Morning Potluck
DESCRIPTION:Join us for our monthly after service potluck! Please bring a main dish\, side dish\, or dessert to share. We can’t wait to fellowship with you!
URL:https://valleybaptistchurchnorthidaho.com/event/sunday-morning-potluck-12/
LOCATION:Valley Baptist Church
ATTACH;FMTTYPE=image/png:https://valleybaptistchurchnorthidaho.com/wp-content/uploads/2024/07/Potluck-Today.png
END:VEVENT
BEGIN:VEVENT
DTSTART;TZID=America/Los_Angeles:20251031T170000
DTEND;TZID=America/Los_Angeles:20251031T210000
DTSTAMP:20260423T172113
CREATED:20251019T155837Z
LAST-MODIFIED:20251019T155837Z
UID:1807-1761930000-1761944400@valleybaptistchurchnorthidaho.com
SUMMARY:Annual Harvest Party
DESCRIPTION:Its time to gather together again for some good old fashioned family fun! You’re invited to bring the kiddos\, bring the grandparents\, and bring yourself to enjoy some fantastic chili and decide who the winner of this year’s contest is. Hang out and put in your best bid on some homemade goodies during our silent dessert auction\, with proceeds going to one of Valley Baptists in house ministries. While you’re vying to see if you get to take home that tasty treat you’ve been eyeing\, the kids can win some of their own. We will have many carnival style games\, like ring toss\, with candy prizes galore. When the candy fun has wound down\, kids are welcome to venture outside for some glowing activities. Teens 13 and up are welcome to participate in our glow stick capture the flag\, while everyone else 13 and under can test their skills in the Gaga ball pit\, which for the night will feature a glow pit and glow in the dark ball! We can’t wait to see everyone there!
URL:https://valleybaptistchurchnorthidaho.com/event/annual-harvest-party/
LOCATION:Valley Baptist Church
ATTACH;FMTTYPE=image/png:https://valleybaptistchurchnorthidaho.com/wp-content/uploads/2024/10/Harvest-Party.png
END:VEVENT
BEGIN:VEVENT
DTSTART;TZID=America/Los_Angeles:20251030T173000
DTEND;TZID=America/Los_Angeles:20251030T200000
DTSTAMP:20260423T172113
CREATED:20250605T150847Z
LAST-MODIFIED:20250730T132313Z
UID:1645-1761845400-1761854400@valleybaptistchurchnorthidaho.com
SUMMARY:Thrive
DESCRIPTION:Thrive welcomes youth ages 10-18 who are in the pursuit of fun\, friendship\, and foremost\, a relationship with Christ.
URL:https://valleybaptistchurchnorthidaho.com/event/thrive-43/
LOCATION:Valley Baptist Church
ATTACH;FMTTYPE=image/png:https://valleybaptistchurchnorthidaho.com/wp-content/uploads/2023/12/Thrive-This-Week.png
END:VEVENT
BEGIN:VEVENT
DTSTART;TZID=America/Los_Angeles:20251028T180000
DTEND;TZID=America/Los_Angeles:20251028T210000
DTSTAMP:20260423T172113
CREATED:20250605T144026Z
LAST-MODIFIED:20250605T144026Z
UID:1588-1761674400-1761685200@valleybaptistchurchnorthidaho.com
SUMMARY:Refine
DESCRIPTION:Refine is our weekly young adult Bible study for those ages 18 – 29.
URL:https://valleybaptistchurchnorthidaho.com/event/refine-77/
LOCATION:Valley Baptist Church
ATTACH;FMTTYPE=image/png:https://valleybaptistchurchnorthidaho.com/wp-content/uploads/2025/01/Refine-No-Book.png
END:VEVENT
BEGIN:VEVENT
DTSTART;TZID=America/Los_Angeles:20251027T173000
DTEND;TZID=America/Los_Angeles:20251027T200000
DTSTAMP:20260423T172113
CREATED:20250605T135352Z
LAST-MODIFIED:20250605T135540Z
UID:1542-1761586200-1761595200@valleybaptistchurchnorthidaho.com
SUMMARY:Father and Son
DESCRIPTION:The purpose of Father Son Ministry is: \nTo glorify God by raising our sons to know Jesus and be obedient to him.  \nTo encourage fathers in their walk with the Lord. \nTo teach our boys to be men that can take care of their families and are well-rounded. \nTo train fathers to be examples for their sons. \nTo create a community of godly men to go through life together.
URL:https://valleybaptistchurchnorthidaho.com/event/father-and-son-48/
LOCATION:Valley Baptist Church
ATTACH;FMTTYPE=image/png:https://valleybaptistchurchnorthidaho.com/wp-content/uploads/2024/10/Father-and-Son-Photo.png
END:VEVENT
BEGIN:VEVENT
DTSTART;TZID=America/Los_Angeles:20251021T180000
DTEND;TZID=America/Los_Angeles:20251021T210000
DTSTAMP:20260423T172113
CREATED:20250605T144017Z
LAST-MODIFIED:20250605T144017Z
UID:1587-1761069600-1761080400@valleybaptistchurchnorthidaho.com
SUMMARY:Refine
DESCRIPTION:Refine is our weekly young adult Bible study for those ages 18 – 29.
URL:https://valleybaptistchurchnorthidaho.com/event/refine-76/
LOCATION:Valley Baptist Church
ATTACH;FMTTYPE=image/png:https://valleybaptistchurchnorthidaho.com/wp-content/uploads/2025/01/Refine-No-Book.png
END:VEVENT
BEGIN:VEVENT
DTSTART;TZID=America/Los_Angeles:20251020T173000
DTEND;TZID=America/Los_Angeles:20251020T200000
DTSTAMP:20260423T172113
CREATED:20250605T145622Z
LAST-MODIFIED:20250605T145622Z
UID:1618-1760981400-1760990400@valleybaptistchurchnorthidaho.com
SUMMARY:Daughters of the King
DESCRIPTION:Daughters of the King is a ministry group that desires to disciple and encourage teen girls. We meet once a week\, on Thursday evening\, for a Biblical lesson and an activity. The activities range from crafting\, hiking\, baking\, learning life skills\, serving the church or community\,… even playing airsoft. Moms are encouraged to come and participate. Have little ones? No problem\, you can bring them with you! \n 
URL:https://valleybaptistchurchnorthidaho.com/event/daughters-of-the-king-32/
LOCATION:Valley Baptist Church
ATTACH;FMTTYPE=image/png:https://valleybaptistchurchnorthidaho.com/wp-content/uploads/2024/09/Daughters-of-the-King.png
END:VEVENT
BEGIN:VEVENT
DTSTART;TZID=America/Los_Angeles:20251020T173000
DTEND;TZID=America/Los_Angeles:20251020T200000
DTSTAMP:20260423T172113
CREATED:20250605T135343Z
LAST-MODIFIED:20250605T135343Z
UID:1541-1760981400-1760990400@valleybaptistchurchnorthidaho.com
SUMMARY:Father and Son
DESCRIPTION:The purpose of Father Son Ministry is: \nTo glorify God by raising our sons to know Jesus and be obedient to him.  \nTo encourage fathers in their walk with the Lord. \nTo teach our boys to be men that can take care of their families and are well-rounded. \nTo train fathers to be examples for their sons. \nTo create a community of godly men to go through life together.
URL:https://valleybaptistchurchnorthidaho.com/event/father-and-son-47/
LOCATION:Valley Baptist Church
ATTACH;FMTTYPE=image/png:https://valleybaptistchurchnorthidaho.com/wp-content/uploads/2024/10/Father-and-Son-Photo.png
END:VEVENT
END:VCALENDAR