BEGIN:VCALENDAR
VERSION:2.0
PRODID:-//Valley Baptist Church - ECPv6.15.20//NONSGML v1.0//EN
CALSCALE:GREGORIAN
METHOD:PUBLISH
X-ORIGINAL-URL:https://valleybaptistchurchnorthidaho.com
X-WR-CALDESC:Events for Valley Baptist Church
REFRESH-INTERVAL;VALUE=DURATION:PT1H
X-Robots-Tag:noindex
X-PUBLISHED-TTL:PT1H
BEGIN:VTIMEZONE
TZID:UTC
BEGIN:STANDARD
TZOFFSETFROM:+0000
TZOFFSETTO:+0000
TZNAME:UTC
DTSTART:20230101T000000
END:STANDARD
END:VTIMEZONE
BEGIN:VEVENT
DTSTART;TZID=UTC:20240330T070000
DTEND;TZID=UTC:20240330T090000
DTSTAMP:20260425T031713
CREATED:20240321T230857Z
LAST-MODIFIED:20240321T231827Z
UID:546-1711782000-1711789200@valleybaptistchurchnorthidaho.com
SUMMARY:Men's Breakfast Summit
DESCRIPTION:Join us at the church for the Men’s Summit Breakfast. Discuss Challenges we face today as Christian fathers\, husbands and leaders. We will study Gods word as “iron sharpens iron”. See you there!
URL:https://valleybaptistchurchnorthidaho.com/event/mens-breakfast-summit/
LOCATION:Valley Baptist Church
CATEGORIES:Groups
END:VEVENT
BEGIN:VEVENT
DTSTART;TZID=UTC:20240328T173000
DTEND;TZID=UTC:20240328T200000
DTSTAMP:20260425T031713
CREATED:20240321T232647Z
LAST-MODIFIED:20240321T232841Z
UID:554-1711647000-1711656000@valleybaptistchurchnorthidaho.com
SUMMARY:Daughters of the King & Father Son
DESCRIPTION:Father & Son and Daughters of the King encourage men and women\, and their children respectively to come and participate as we seek to train them up in the way they should go through teaching and activities. \n 
URL:https://valleybaptistchurchnorthidaho.com/event/daughters-of-the-king-father-son/
LOCATION:Valley Baptist Church
CATEGORIES:Groups
ATTACH;FMTTYPE=image/png:https://valleybaptistchurchnorthidaho.com/wp-content/uploads/2024/03/FSDOK.png
END:VEVENT
BEGIN:VEVENT
DTSTART;TZID=UTC:20240326T180000
DTEND;TZID=UTC:20240326T200000
DTSTAMP:20260425T031713
CREATED:20240321T223005Z
LAST-MODIFIED:20240321T230150Z
UID:494-1711476000-1711483200@valleybaptistchurchnorthidaho.com
SUMMARY:Refine
DESCRIPTION:Refine is our weekly young adult Bible study for those ages 18 – 29. Currently working through the Gospel of John.
URL:https://valleybaptistchurchnorthidaho.com/event/refine/
LOCATION:Valley Baptist Church
CATEGORIES:Groups
ATTACH;FMTTYPE=image/png:https://valleybaptistchurchnorthidaho.com/wp-content/uploads/2024/03/Refine.png
END:VEVENT
BEGIN:VEVENT
DTSTART;TZID=UTC:20240324T180000
DTEND;TZID=UTC:20240324T200000
DTSTAMP:20260425T031713
CREATED:20240321T225154Z
LAST-MODIFIED:20240322T041952Z
UID:508-1711303200-1711310400@valleybaptistchurchnorthidaho.com
SUMMARY:Love and Respect
DESCRIPTION:  \nPart 4 of our 6 part series on Love and Respect. This is an excellent class helping husbands and wives understand the love she most desires and the respect he desperately needs.
URL:https://valleybaptistchurchnorthidaho.com/event/love-and-respect/
LOCATION:Valley Baptist Church
CATEGORIES:Groups
ATTACH;FMTTYPE=image/png:https://valleybaptistchurchnorthidaho.com/wp-content/uploads/2024/03/Love-and-Respect-2024-1.png
END:VEVENT
BEGIN:VEVENT
DTSTART;TZID=UTC:20240321T173000
DTEND;TZID=UTC:20240321T200000
DTSTAMP:20260425T031713
CREATED:20240321T222156Z
LAST-MODIFIED:20240321T230205Z
UID:488-1711042200-1711051200@valleybaptistchurchnorthidaho.com
SUMMARY:Thrive
DESCRIPTION:  \nThrive welcomes youth ages 10-18 who are in the pursuit of fun\, friendship\, and foremost\, a relationship with Christ.
URL:https://valleybaptistchurchnorthidaho.com/event/thrive-7/
LOCATION:Valley Baptist Church
CATEGORIES:Groups
ATTACH;FMTTYPE=image/png:https://valleybaptistchurchnorthidaho.com/wp-content/uploads/2023/12/Thrive-This-Week.png
END:VEVENT
BEGIN:VEVENT
DTSTART;TZID=UTC:20240130T180000
DTEND;TZID=UTC:20240130T200000
DTSTAMP:20260425T031713
CREATED:20231225T124137Z
LAST-MODIFIED:20240321T223220Z
UID:422-1706637600-1706644800@valleybaptistchurchnorthidaho.com
SUMMARY:Refine Bible Study
DESCRIPTION:Bible study for young adults ages 18-29
URL:https://valleybaptistchurchnorthidaho.com/event/refine-bible-study-18/
CATEGORIES:Groups
END:VEVENT
BEGIN:VEVENT
DTSTART;TZID=UTC:20240128T183000
DTEND;TZID=UTC:20240128T203000
DTSTAMP:20260425T031713
CREATED:20231228T043342Z
LAST-MODIFIED:20240321T223437Z
UID:460-1706466600-1706473800@valleybaptistchurchnorthidaho.com
SUMMARY:Men's Bible Study
DESCRIPTION:Men\, join us to study God’s Word together and learn how it applies to our lives. This class will be held each Sunday evening in January.
URL:https://valleybaptistchurchnorthidaho.com/event/mens-bible-study-4/
LOCATION:Valley Baptist Church
CATEGORIES:Groups
END:VEVENT
END:VCALENDAR