BEGIN:VCALENDAR
VERSION:2.0
PRODID:-//Valley Baptist Church - ECPv6.15.20//NONSGML v1.0//EN
CALSCALE:GREGORIAN
METHOD:PUBLISH
X-ORIGINAL-URL:https://valleybaptistchurchnorthidaho.com
X-WR-CALDESC:Events for Valley Baptist Church
REFRESH-INTERVAL;VALUE=DURATION:PT1H
X-Robots-Tag:noindex
X-PUBLISHED-TTL:PT1H
BEGIN:VTIMEZONE
TZID:America/Los_Angeles
BEGIN:DAYLIGHT
TZOFFSETFROM:-0800
TZOFFSETTO:-0700
TZNAME:PDT
DTSTART:20250309T100000
END:DAYLIGHT
BEGIN:STANDARD
TZOFFSETFROM:-0700
TZOFFSETTO:-0800
TZNAME:PST
DTSTART:20251102T090000
END:STANDARD
BEGIN:DAYLIGHT
TZOFFSETFROM:-0800
TZOFFSETTO:-0700
TZNAME:PDT
DTSTART:20260308T100000
END:DAYLIGHT
BEGIN:STANDARD
TZOFFSETFROM:-0700
TZOFFSETTO:-0800
TZNAME:PST
DTSTART:20261101T090000
END:STANDARD
BEGIN:DAYLIGHT
TZOFFSETFROM:-0800
TZOFFSETTO:-0700
TZNAME:PDT
DTSTART:20270314T100000
END:DAYLIGHT
BEGIN:STANDARD
TZOFFSETFROM:-0700
TZOFFSETTO:-0800
TZNAME:PST
DTSTART:20271107T090000
END:STANDARD
END:VTIMEZONE
BEGIN:VEVENT
DTSTART;TZID=America/Los_Angeles:20260119T173000
DTEND;TZID=America/Los_Angeles:20260119T200000
DTSTAMP:20260423T153440
CREATED:20250605T145713Z
LAST-MODIFIED:20260112T163441Z
UID:1623-1768843800-1768852800@valleybaptistchurchnorthidaho.com
SUMMARY:Daughters of the King
DESCRIPTION:Daughters of the King is a ministry group that desires to disciple and encourage teen girls. We meet once a week\, on Thursday evening\, for a Biblical lesson and an activity. The activities range from crafting\, hiking\, baking\, learning life skills\, serving the church or community\,… even playing airsoft. Moms are encouraged to come and participate. Have little ones? No problem\, you can bring them with you! \n 
URL:https://valleybaptistchurchnorthidaho.com/event/daughters-of-the-king-37/
LOCATION:Valley Baptist Church
ATTACH;FMTTYPE=image/png:https://valleybaptistchurchnorthidaho.com/wp-content/uploads/2024/09/Daughters-of-the-King.png
END:VEVENT
END:VCALENDAR