BEGIN:VCALENDAR
VERSION:2.0
PRODID:-//Valley Baptist Church - ECPv6.15.20//NONSGML v1.0//EN
CALSCALE:GREGORIAN
METHOD:PUBLISH
X-ORIGINAL-URL:https://valleybaptistchurchnorthidaho.com
X-WR-CALDESC:Events for Valley Baptist Church
REFRESH-INTERVAL;VALUE=DURATION:PT1H
X-Robots-Tag:noindex
X-PUBLISHED-TTL:PT1H
BEGIN:VTIMEZONE
TZID:UTC
BEGIN:STANDARD
TZOFFSETFROM:+0000
TZOFFSETTO:+0000
TZNAME:UTC
DTSTART:20240101T000000
END:STANDARD
END:VTIMEZONE
BEGIN:VEVENT
DTSTART;TZID=UTC:20250605T173000
DTEND;TZID=UTC:20250605T200000
DTSTAMP:20260424T024936
CREATED:20250123T062046Z
LAST-MODIFIED:20250123T062046Z
UID:1231-1749144600-1749153600@valleybaptistchurchnorthidaho.com
SUMMARY:Thrive
DESCRIPTION:Thrive welcomes youth ages 10-18 who are in the pursuit of fun\, friendship\, and foremost\, a relationship with Christ.
URL:https://valleybaptistchurchnorthidaho.com/event/thrive-34/
LOCATION:Valley Baptist Church
ATTACH;FMTTYPE=image/png:https://valleybaptistchurchnorthidaho.com/wp-content/uploads/2023/12/Thrive-This-Week.png
END:VEVENT
END:VCALENDAR