BEGIN:VCALENDAR
VERSION:2.0
PRODID:-//Valley Baptist Church - ECPv6.15.20//NONSGML v1.0//EN
CALSCALE:GREGORIAN
METHOD:PUBLISH
X-ORIGINAL-URL:https://valleybaptistchurchnorthidaho.com
X-WR-CALDESC:Events for Valley Baptist Church
REFRESH-INTERVAL;VALUE=DURATION:PT1H
X-Robots-Tag:noindex
X-PUBLISHED-TTL:PT1H
BEGIN:VTIMEZONE
TZID:UTC
BEGIN:STANDARD
TZOFFSETFROM:+0000
TZOFFSETTO:+0000
TZNAME:UTC
DTSTART:20230101T000000
END:STANDARD
END:VTIMEZONE
BEGIN:VEVENT
DTSTART;TZID=UTC:20240130T180000
DTEND;TZID=UTC:20240130T200000
DTSTAMP:20260425T031717
CREATED:20231225T124137Z
LAST-MODIFIED:20240321T223220Z
UID:422-1706637600-1706644800@valleybaptistchurchnorthidaho.com
SUMMARY:Refine Bible Study
DESCRIPTION:Bible study for young adults ages 18-29
URL:https://valleybaptistchurchnorthidaho.com/event/refine-bible-study-18/
CATEGORIES:Groups
END:VEVENT
END:VCALENDAR