BEGIN:VCALENDAR
VERSION:2.0
PRODID:-//Valley Baptist Church - ECPv6.15.20//NONSGML v1.0//EN
CALSCALE:GREGORIAN
METHOD:PUBLISH
X-ORIGINAL-URL:https://valleybaptistchurchnorthidaho.com
X-WR-CALDESC:Events for Valley Baptist Church
REFRESH-INTERVAL;VALUE=DURATION:PT1H
X-Robots-Tag:noindex
X-PUBLISHED-TTL:PT1H
BEGIN:VTIMEZONE
TZID:UTC
BEGIN:STANDARD
TZOFFSETFROM:+0000
TZOFFSETTO:+0000
TZNAME:UTC
DTSTART:20230101T000000
END:STANDARD
END:VTIMEZONE
BEGIN:VEVENT
DTSTART;TZID=UTC:20240118T173000
DTEND;TZID=UTC:20240118T200000
DTSTAMP:20260425T044023
CREATED:20231225T124701Z
LAST-MODIFIED:20231225T124701Z
UID:430-1705599000-1705608000@valleybaptistchurchnorthidaho.com
SUMMARY:Daughters of the King
DESCRIPTION:Ministry for mothers and daughters of all ages.
URL:https://valleybaptistchurchnorthidaho.com/event/daughters-of-the-king-8/
LOCATION:Valley Baptist Church
END:VEVENT
BEGIN:VEVENT
DTSTART;TZID=UTC:20240118T173000
DTEND;TZID=UTC:20240118T200000
DTSTAMP:20260425T044023
CREATED:20231225T124903Z
LAST-MODIFIED:20231225T124903Z
UID:434-1705599000-1705608000@valleybaptistchurchnorthidaho.com
SUMMARY:Father/Son Ministry
DESCRIPTION:Ministry for guys ages 4-20 as well as their fathers
URL:https://valleybaptistchurchnorthidaho.com/event/father-son-ministry-7/
LOCATION:Valley Baptist Church
END:VEVENT
END:VCALENDAR