BEGIN:VCALENDAR
VERSION:2.0
PRODID:-//Valley Baptist Church - ECPv6.15.20//NONSGML v1.0//EN
CALSCALE:GREGORIAN
METHOD:PUBLISH
X-WR-CALNAME:Valley Baptist Church
X-ORIGINAL-URL:https://valleybaptistchurchnorthidaho.com
X-WR-CALDESC:Events for Valley Baptist Church
REFRESH-INTERVAL;VALUE=DURATION:PT1H
X-Robots-Tag:noindex
X-PUBLISHED-TTL:PT1H
BEGIN:VTIMEZONE
TZID:UTC
BEGIN:STANDARD
TZOFFSETFROM:+0000
TZOFFSETTO:+0000
TZNAME:UTC
DTSTART:20230101T000000
END:STANDARD
END:VTIMEZONE
BEGIN:VEVENT
DTSTART;TZID=UTC:20240107T101500
DTEND;TZID=UTC:20240107T110000
DTSTAMP:20260425T061430
CREATED:20231228T041156Z
LAST-MODIFIED:20231228T041156Z
UID:436-1704622500-1704625200@valleybaptistchurchnorthidaho.com
SUMMARY:Fellowship & Prayer
DESCRIPTION:Join us before worship service for your choice of either fellowship or group prayer.
URL:https://valleybaptistchurchnorthidaho.com/event/fellowship-prayer-10/
LOCATION:Valley Baptist Church
END:VEVENT
BEGIN:VEVENT
DTSTART;TZID=UTC:20240107T110000
DTEND;TZID=UTC:20240107T123000
DTSTAMP:20260425T061430
CREATED:20231228T041940Z
LAST-MODIFIED:20231228T041940Z
UID:450-1704625200-1704630600@valleybaptistchurchnorthidaho.com
SUMMARY:Worship Service
DESCRIPTION:Come worship the Lord with us and enjoy Communion and teaching from His Word
URL:https://valleybaptistchurchnorthidaho.com/event/worship-service-17/
LOCATION:Valley Baptist Church
END:VEVENT
BEGIN:VEVENT
DTSTART;TZID=UTC:20240107T183000
DTEND;TZID=UTC:20240107T203000
DTSTAMP:20260425T061430
CREATED:20231228T042351Z
LAST-MODIFIED:20231228T042351Z
UID:454-1704652200-1704659400@valleybaptistchurchnorthidaho.com
SUMMARY:Men's Bible Study
DESCRIPTION:Men\, join us to study God’s Word together and learn how it applies to our lives. This class will be held each Sunday evening in January.
URL:https://valleybaptistchurchnorthidaho.com/event/mens-bible-study/
LOCATION:Valley Baptist Church
END:VEVENT
END:VCALENDAR