BEGIN:VCALENDAR
VERSION:2.0
PRODID:-//Valley Baptist Church - ECPv6.15.20//NONSGML v1.0//EN
CALSCALE:GREGORIAN
METHOD:PUBLISH
X-WR-CALNAME:Valley Baptist Church
X-ORIGINAL-URL:https://valleybaptistchurchnorthidaho.com
X-WR-CALDESC:Events for Valley Baptist Church
REFRESH-INTERVAL;VALUE=DURATION:PT1H
X-Robots-Tag:noindex
X-PUBLISHED-TTL:PT1H
BEGIN:VTIMEZONE
TZID:UTC
BEGIN:STANDARD
TZOFFSETFROM:+0000
TZOFFSETTO:+0000
TZNAME:UTC
DTSTART:20230101T000000
END:STANDARD
END:VTIMEZONE
BEGIN:VEVENT
DTSTART;TZID=UTC:20240104T173000
DTEND;TZID=UTC:20240104T200000
DTSTAMP:20260425T061429
CREATED:20231225T124618Z
LAST-MODIFIED:20231225T124618Z
UID:428-1704389400-1704398400@valleybaptistchurchnorthidaho.com
SUMMARY:Daughters of the King
DESCRIPTION:Ministry for mothers and daughters of all ages.
URL:https://valleybaptistchurchnorthidaho.com/event/daughters-of-the-king-7/
LOCATION:Valley Baptist Church
END:VEVENT
BEGIN:VEVENT
DTSTART;TZID=UTC:20240104T173000
DTEND;TZID=UTC:20240104T200000
DTSTAMP:20260425T061429
CREATED:20231225T124815Z
LAST-MODIFIED:20231225T124815Z
UID:432-1704389400-1704398400@valleybaptistchurchnorthidaho.com
SUMMARY:Father/Son Ministry
DESCRIPTION:Ministry for guys ages 4-20 as well as their fathers. This day\, come prepared to practice winter survival skills.
URL:https://valleybaptistchurchnorthidaho.com/event/father-son-ministry-6/
LOCATION:Valley Baptist Church
END:VEVENT
END:VCALENDAR