BEGIN:VCALENDAR
VERSION:2.0
PRODID:-//Valley Baptist Church - ECPv6.15.20//NONSGML v1.0//EN
CALSCALE:GREGORIAN
METHOD:PUBLISH
X-WR-CALNAME:Valley Baptist Church
X-ORIGINAL-URL:https://valleybaptistchurchnorthidaho.com
X-WR-CALDESC:Events for Valley Baptist Church
REFRESH-INTERVAL;VALUE=DURATION:PT1H
X-Robots-Tag:noindex
X-PUBLISHED-TTL:PT1H
BEGIN:VTIMEZONE
TZID:UTC
BEGIN:STANDARD
TZOFFSETFROM:+0000
TZOFFSETTO:+0000
TZNAME:UTC
DTSTART:20220101T000000
END:STANDARD
END:VTIMEZONE
BEGIN:VEVENT
DTSTART;TZID=UTC:20231231T101500
DTEND;TZID=UTC:20231231T110000
DTSTAMP:20260425T061426
CREATED:20231113T095255Z
LAST-MODIFIED:20231113T095255Z
UID:370-1704017700-1704020400@valleybaptistchurchnorthidaho.com
SUMMARY:Fellowship & Prayer
DESCRIPTION:Join us before worship service for your choice of either fellowship or group prayer.
URL:https://valleybaptistchurchnorthidaho.com/event/fellowship-prayer-9/
LOCATION:Valley Baptist Church
END:VEVENT
BEGIN:VEVENT
DTSTART;TZID=UTC:20231231T110000
DTEND;TZID=UTC:20231231T123000
DTSTAMP:20260425T061426
CREATED:20231113T100301Z
LAST-MODIFIED:20231113T100301Z
UID:380-1704020400-1704025800@valleybaptistchurchnorthidaho.com
SUMMARY:Worship Service
DESCRIPTION:Come worship the Lord with us and enjoy teaching from His Word
URL:https://valleybaptistchurchnorthidaho.com/event/worship-service-13/
LOCATION:Valley Baptist Church
END:VEVENT
END:VCALENDAR