BEGIN:VCALENDAR
VERSION:2.0
PRODID:-//Valley Baptist Church - ECPv6.15.20//NONSGML v1.0//EN
CALSCALE:GREGORIAN
METHOD:PUBLISH
X-WR-CALNAME:Valley Baptist Church
X-ORIGINAL-URL:https://valleybaptistchurchnorthidaho.com
X-WR-CALDESC:Events for Valley Baptist Church
REFRESH-INTERVAL;VALUE=DURATION:PT1H
X-Robots-Tag:noindex
X-PUBLISHED-TTL:PT1H
BEGIN:VTIMEZONE
TZID:UTC
BEGIN:STANDARD
TZOFFSETFROM:+0000
TZOFFSETTO:+0000
TZNAME:UTC
DTSTART:20220101T000000
END:STANDARD
END:VTIMEZONE
BEGIN:VEVENT
DTSTART;TZID=UTC:20231129T173000
DTEND;TZID=UTC:20231129T200000
DTSTAMP:20260425T061426
CREATED:20231117T062332Z
LAST-MODIFIED:20231117T062332Z
UID:396-1701279000-1701288000@valleybaptistchurchnorthidaho.com
SUMMARY:Thrive
DESCRIPTION:Thrive youth group is for ages 10-18. Dinner is provided\, along with games\, worship\, and biblical teaching.
URL:https://valleybaptistchurchnorthidaho.com/event/thrive-6/
LOCATION:Valley Baptist Church
END:VEVENT
END:VCALENDAR