BEGIN:VCALENDAR
VERSION:2.0
PRODID:-//Valley Baptist Church - ECPv6.15.20//NONSGML v1.0//EN
CALSCALE:GREGORIAN
METHOD:PUBLISH
X-WR-CALNAME:Valley Baptist Church
X-ORIGINAL-URL:https://valleybaptistchurchnorthidaho.com
X-WR-CALDESC:Events for Valley Baptist Church
REFRESH-INTERVAL;VALUE=DURATION:PT1H
X-Robots-Tag:noindex
X-PUBLISHED-TTL:PT1H
BEGIN:VTIMEZONE
TZID:UTC
BEGIN:STANDARD
TZOFFSETFROM:+0000
TZOFFSETTO:+0000
TZNAME:UTC
DTSTART:20220101T000000
END:STANDARD
END:VTIMEZONE
BEGIN:VEVENT
DTSTART;TZID=UTC:20231123T000000
DTEND;TZID=UTC:20231123T235959
DTSTAMP:20260425T074205
CREATED:20231022T080829Z
LAST-MODIFIED:20231022T080829Z
UID:344-1700697600-1700783999@valleybaptistchurchnorthidaho.com
SUMMARY:Thanksgiving (Holiday)
DESCRIPTION:Happy Thanksgiving! \nMay you enjoy your day with family and friends with hearts full of thankfulness to the Lord
URL:https://valleybaptistchurchnorthidaho.com/event/thanksgiving-holiday/
END:VEVENT
END:VCALENDAR