BEGIN:VCALENDAR
VERSION:2.0
PRODID:-//Valley Baptist Church - ECPv6.15.20//NONSGML v1.0//EN
CALSCALE:GREGORIAN
METHOD:PUBLISH
X-WR-CALNAME:Valley Baptist Church
X-ORIGINAL-URL:https://valleybaptistchurchnorthidaho.com
X-WR-CALDESC:Events for Valley Baptist Church
REFRESH-INTERVAL;VALUE=DURATION:PT1H
X-Robots-Tag:noindex
X-PUBLISHED-TTL:PT1H
BEGIN:VTIMEZONE
TZID:UTC
BEGIN:STANDARD
TZOFFSETFROM:+0000
TZOFFSETTO:+0000
TZNAME:UTC
DTSTART:20220101T000000
END:STANDARD
END:VTIMEZONE
BEGIN:VEVENT
DTSTART;TZID=UTC:20231119T101500
DTEND;TZID=UTC:20231119T110000
DTSTAMP:20260425T091817
CREATED:20231022T075805Z
LAST-MODIFIED:20231022T075805Z
UID:331-1700388900-1700391600@valleybaptistchurchnorthidaho.com
SUMMARY:Fellowship & Prayer
DESCRIPTION:Join us before worship service for your choice of either fellowship or group prayer.
URL:https://valleybaptistchurchnorthidaho.com/event/fellowship-prayer-3/
LOCATION:Valley Baptist Church
END:VEVENT
BEGIN:VEVENT
DTSTART;TZID=UTC:20231119T110000
DTEND;TZID=UTC:20231119T123000
DTSTAMP:20260425T091817
CREATED:20231022T080526Z
LAST-MODIFIED:20231117T062605Z
UID:340-1700391600-1700397000@valleybaptistchurchnorthidaho.com
SUMMARY:Worship Service
DESCRIPTION:Come worship the Lord with us and enjoy teaching from His Word. After service\, we will all get a chance to write our favorite scripture verses on the framing of the new church.
URL:https://valleybaptistchurchnorthidaho.com/event/worship-service-8/
LOCATION:Valley Baptist Church
END:VEVENT
END:VCALENDAR