BEGIN:VCALENDAR
VERSION:2.0
PRODID:-//Valley Baptist Church - ECPv6.15.20//NONSGML v1.0//EN
CALSCALE:GREGORIAN
METHOD:PUBLISH
X-ORIGINAL-URL:https://valleybaptistchurchnorthidaho.com
X-WR-CALDESC:Events for Valley Baptist Church
REFRESH-INTERVAL;VALUE=DURATION:PT1H
X-Robots-Tag:noindex
X-PUBLISHED-TTL:PT1H
BEGIN:VTIMEZONE
TZID:UTC
BEGIN:STANDARD
TZOFFSETFROM:+0000
TZOFFSETTO:+0000
TZNAME:UTC
DTSTART:20220101T000000
END:STANDARD
END:VTIMEZONE
BEGIN:VEVENT
DTSTART;TZID=UTC:20231109T173000
DTEND;TZID=UTC:20231109T200000
DTSTAMP:20260425T090619
CREATED:20231022T070917Z
LAST-MODIFIED:20231022T080209Z
UID:315-1699551000-1699560000@valleybaptistchurchnorthidaho.com
SUMMARY:DOK - Baby Shower!
DESCRIPTION:Join us for a special evening at Daughters of the King\, as all the girls and women of church come together to celebrate a Baby Shower! Please ask for details or for info about the gift registry. \nDOK is a ministry for mothers and daughters of all ages.
URL:https://valleybaptistchurchnorthidaho.com/event/daughters-of-the-king-6/
LOCATION:Valley Baptist Church
END:VEVENT
END:VCALENDAR