BEGIN:VCALENDAR
VERSION:2.0
PRODID:-//Valley Baptist Church - ECPv6.15.20//NONSGML v1.0//EN
CALSCALE:GREGORIAN
METHOD:PUBLISH
X-WR-CALNAME:Valley Baptist Church
X-ORIGINAL-URL:https://valleybaptistchurchnorthidaho.com
X-WR-CALDESC:Events for Valley Baptist Church
REFRESH-INTERVAL;VALUE=DURATION:PT1H
X-Robots-Tag:noindex
X-PUBLISHED-TTL:PT1H
BEGIN:VTIMEZONE
TZID:UTC
BEGIN:STANDARD
TZOFFSETFROM:+0000
TZOFFSETTO:+0000
TZNAME:UTC
DTSTART:20220101T000000
END:STANDARD
END:VTIMEZONE
BEGIN:VEVENT
DTSTART;TZID=UTC:20231102T173000
DTEND;TZID=UTC:20231102T200000
DTSTAMP:20260425T074204
CREATED:20231022T070834Z
LAST-MODIFIED:20231022T070834Z
UID:313-1698946200-1698955200@valleybaptistchurchnorthidaho.com
SUMMARY:Daughters of the King
DESCRIPTION:Ministry for mothers and daughters of all ages.
URL:https://valleybaptistchurchnorthidaho.com/event/daughters-of-the-king-5/
LOCATION:Valley Baptist Church
END:VEVENT
BEGIN:VEVENT
DTSTART;TZID=UTC:20231102T173000
DTEND;TZID=UTC:20231102T200000
DTSTAMP:20260425T074204
CREATED:20231022T071124Z
LAST-MODIFIED:20231022T071124Z
UID:319-1698946200-1698955200@valleybaptistchurchnorthidaho.com
SUMMARY:Father/Son Ministry
DESCRIPTION:Ministry for guys ages 4-20 as well as their fathers
URL:https://valleybaptistchurchnorthidaho.com/event/father-son-ministry-5/
LOCATION:Valley Baptist Church
END:VEVENT
END:VCALENDAR