BEGIN:VCALENDAR
VERSION:2.0
PRODID:-//Valley Baptist Church - ECPv6.15.20//NONSGML v1.0//EN
CALSCALE:GREGORIAN
METHOD:PUBLISH
X-WR-CALNAME:Valley Baptist Church
X-ORIGINAL-URL:https://valleybaptistchurchnorthidaho.com
X-WR-CALDESC:Events for Valley Baptist Church
REFRESH-INTERVAL;VALUE=DURATION:PT1H
X-Robots-Tag:noindex
X-PUBLISHED-TTL:PT1H
BEGIN:VTIMEZONE
TZID:UTC
BEGIN:STANDARD
TZOFFSETFROM:+0000
TZOFFSETTO:+0000
TZNAME:UTC
DTSTART:20220101T000000
END:STANDARD
END:VTIMEZONE
BEGIN:VEVENT
DTSTART;TZID=UTC:20231029T101500
DTEND;TZID=UTC:20231029T110000
DTSTAMP:20260425T074104
CREATED:20231004T063610Z
LAST-MODIFIED:20231007T114411Z
UID:257-1698574500-1698577200@valleybaptistchurchnorthidaho.com
SUMMARY:Fellowship & Prayer
DESCRIPTION:Join us either for a time of fellowship or group prayer before worship service
URL:https://valleybaptistchurchnorthidaho.com/event/corporate-prayer-4/
LOCATION:Valley Baptist Church
END:VEVENT
BEGIN:VEVENT
DTSTART;TZID=UTC:20231029T110000
DTEND;TZID=UTC:20231029T123000
DTSTAMP:20260425T074104
CREATED:20231004T064017Z
LAST-MODIFIED:20231004T064017Z
UID:265-1698577200-1698582600@valleybaptistchurchnorthidaho.com
SUMMARY:Worship Service
DESCRIPTION:Come worship the Lord with us and enjoy teaching from His Word
URL:https://valleybaptistchurchnorthidaho.com/event/worship-service-4/
LOCATION:Valley Baptist Church
END:VEVENT
END:VCALENDAR