BEGIN:VCALENDAR
VERSION:2.0
PRODID:-//Valley Baptist Church - ECPv6.15.20//NONSGML v1.0//EN
CALSCALE:GREGORIAN
METHOD:PUBLISH
X-ORIGINAL-URL:https://valleybaptistchurchnorthidaho.com
X-WR-CALDESC:Events for Valley Baptist Church
REFRESH-INTERVAL;VALUE=DURATION:PT1H
X-Robots-Tag:noindex
X-PUBLISHED-TTL:PT1H
BEGIN:VTIMEZONE
TZID:UTC
BEGIN:STANDARD
TZOFFSETFROM:+0000
TZOFFSETTO:+0000
TZNAME:UTC
DTSTART:20220101T000000
END:STANDARD
END:VTIMEZONE
BEGIN:VEVENT
DTSTART;TZID=UTC:20231027T173000
DTEND;TZID=UTC:20231027T203000
DTSTAMP:20260425T090557
CREATED:20231004T065016Z
LAST-MODIFIED:20231014T022838Z
UID:277-1698427800-1698438600@valleybaptistchurchnorthidaho.com
SUMMARY:Harvest Festival
DESCRIPTION:Join us for fun\, food\, and fellowship as we celebrate Fall! \nThere will be a Chili Cook-off\, a silent auction of desserts\, and fun games with candy prizes for the kids!
URL:https://valleybaptistchurchnorthidaho.com/event/harvest-festival/
LOCATION:Valley Baptist Church
END:VEVENT
END:VCALENDAR