BEGIN:VCALENDAR
VERSION:2.0
PRODID:-//Valley Baptist Church - ECPv6.15.20//NONSGML v1.0//EN
CALSCALE:GREGORIAN
METHOD:PUBLISH
X-WR-CALNAME:Valley Baptist Church
X-ORIGINAL-URL:https://valleybaptistchurchnorthidaho.com
X-WR-CALDESC:Events for Valley Baptist Church
REFRESH-INTERVAL;VALUE=DURATION:PT1H
X-Robots-Tag:noindex
X-PUBLISHED-TTL:PT1H
BEGIN:VTIMEZONE
TZID:UTC
BEGIN:STANDARD
TZOFFSETFROM:+0000
TZOFFSETTO:+0000
TZNAME:UTC
DTSTART:20220101T000000
END:STANDARD
END:VTIMEZONE
BEGIN:VEVENT
DTSTART;TZID=UTC:20231015T101500
DTEND;TZID=UTC:20231015T110000
DTSTAMP:20260425T091818
CREATED:20231004T063443Z
LAST-MODIFIED:20231007T114601Z
UID:253-1697364900-1697367600@valleybaptistchurchnorthidaho.com
SUMMARY:Fellowship & Prayer
DESCRIPTION:Join us either for a time of fellowship or group prayer before worship service
URL:https://valleybaptistchurchnorthidaho.com/event/corporate-prayer-2/
LOCATION:Valley Baptist Church
END:VEVENT
BEGIN:VEVENT
DTSTART;TZID=UTC:20231015T110000
DTEND;TZID=UTC:20231015T123000
DTSTAMP:20260425T091818
CREATED:20231004T063844Z
LAST-MODIFIED:20231004T063844Z
UID:261-1697367600-1697373000@valleybaptistchurchnorthidaho.com
SUMMARY:Worship Service
DESCRIPTION:Come worship the Lord with us and enjoy teaching from His Word
URL:https://valleybaptistchurchnorthidaho.com/event/worship-service-2/
LOCATION:Valley Baptist Church
END:VEVENT
BEGIN:VEVENT
DTSTART;TZID=UTC:20231015T123000
DTEND;TZID=UTC:20231015T133000
DTSTAMP:20260425T091818
CREATED:20231004T064805Z
LAST-MODIFIED:20231004T064805Z
UID:275-1697373000-1697376600@valleybaptistchurchnorthidaho.com
SUMMARY:Business Meeting
DESCRIPTION:Joins us for a church business meeting after service. The new church building will be discussed.
URL:https://valleybaptistchurchnorthidaho.com/event/business-meeting/
LOCATION:Valley Baptist Church
END:VEVENT
END:VCALENDAR