BEGIN:VCALENDAR
VERSION:2.0
PRODID:-//Valley Baptist Church - ECPv6.15.20//NONSGML v1.0//EN
CALSCALE:GREGORIAN
METHOD:PUBLISH
X-ORIGINAL-URL:https://valleybaptistchurchnorthidaho.com
X-WR-CALDESC:Events for Valley Baptist Church
REFRESH-INTERVAL;VALUE=DURATION:PT1H
X-Robots-Tag:noindex
X-PUBLISHED-TTL:PT1H
BEGIN:VTIMEZONE
TZID:UTC
BEGIN:STANDARD
TZOFFSETFROM:+0000
TZOFFSETTO:+0000
TZNAME:UTC
DTSTART:20220101T000000
END:STANDARD
END:VTIMEZONE
BEGIN:VEVENT
DTSTART;TZID=UTC:20231014T183000
DTEND;TZID=UTC:20231014T200000
DTSTAMP:20260425T090556
CREATED:20231004T065308Z
LAST-MODIFIED:20231004T065308Z
UID:279-1697308200-1697313600@valleybaptistchurchnorthidaho.com
SUMMARY:Women Together in Prayer
DESCRIPTION:Ladies\, join us for a special evening of prayer and singing a few hymns.
URL:https://valleybaptistchurchnorthidaho.com/event/women-together-in-prayer/
LOCATION:Valley Baptist Church
END:VEVENT
END:VCALENDAR